Workbook

Sheet SURVEY COVER SHEET 
A1: Survey Cover Sheet
A2: Survey date/s | B2: 46100 | C2: Site name or location | D2: Reading Gateway
A3: Weather conditions | C3: Project or development name
A4: Surveyor name | B4: Ben Wagstffe | C4: On-site or off-site | D4: On-site
A5: Survey reference | C5: Reason for assessment (if not baseline condition survey)
A6: Notes

Sheet CA SUMMARY SHEET
A1: Condition sheets | B1: Total number of habitat parcels | C1: Number of parcels of each condition achieved | H1: Notes
C2: Good | D2: Fairly Good | E2: Moderate | F2: Fairly Poor | G2: Poor
A3: Coastal
A4: Coastal lagoons
A5: Coastal saltmarsh
A6: Ditches | C6: =COUNTIF('4. DITCH'!D24:W24,"✓") -> 0 | E6: =COUNTIF('4. DITCH'!D25:W25,"✓") -> 0 | G6: =COUNTIF('4. DITCH'!D26:W26,"✓") -> 0
A7: Grassland low distinctiveness | C7: =COUNTIF('5. GRASSLAND LOW'!D24:W24,"✓") -> 0 | E7: =COUNTIF('5. GRASSLAND LOW'!D25:W25,"✓") -> 0 | G7: =COUNTIF('5. GRASSLAND LOW'!D26:W26,"✓") -> 0
A8: Grassland medium, high, very high distinctiveness | C8: =COUNTIF('6. GRASSLAND MED HIGH & V.HIGH'!D28:W28,"✓") + COUNTIF('6. GRASSLAND MED HIGH & V.HIGH'!D32:W32,"✓") -> 0 | E8: =COUNTIF('6. GRASSLAND MED HIGH & V.HIGH'!D29:W29,"✓") + COUNTIF('6. GRASSLAND MED HIGH & V.HIGH'!D33:W33,"✓") -> 0 | G8: =COUNTIF('6. GRASSLAND MED HIGH & V.HIGH'!D30:W30,"✓") + COUNTIF('6. GRASSLAND MED HIGH & V.HIGH'!D33:W33,"✓") -> 0
A9: Heathland | C9: =COUNTIF('7. HEATHLAND'!D30:W30,"✓") -> 0 | E9: =COUNTIF('7. HEATHLAND'!D31:W31,"✓") -> 0 | G9: =COUNTIF('7. HEATHLAND'!D32:W32,"✓") -> 0
A10: Hedgerow | C10: =COUNTIF('8. HEDGEROW'!G36:Z36,"✓") + COUNTIF('8. HEDGEROW'!G41:Z41,"✓") -> 0 | E10: =COUNTIF('8. HEDGEROW'!G37:Z37,"✓") + COUNTIF('8. HEDGEROW'!G42:Z42,"✓") -> 1 | G10: =COUNTIF('8. HEDGEROW'!G38:Z38,"✓") + COUNTIF('8. HEDGEROW'!G43:Z43,"✓") -> 0
A11: Individual trees | C11: =COUNTIF('9.INDIVIDUAL TREES'!D22:AL22,"✓") -> 0 | E11: =COUNTIF('9.INDIVIDUAL TREES'!D23:AL23,"✓") -> 2 | G11: =COUNTIF('9.INDIVIDUAL TREES'!D24:AL24,"✓") -> 0
A12: Intertidal biogenic reefs
A13: Intertidal hard structures
A14: Intertidal seagrass
A15: Intertidal sediment
A16: Lakes
A17: Limestone pavement
A18: Line of trees | C18: =COUNTIF('16.LINE OF TREES'!D23:W23,"✓") -> 0 | E18: =COUNTIF('16.LINE OF TREES'!D24:W24,"✓") -> 0 | G18: =COUNTIF('16.LINE OF TREES'!D25:W25,"✓") -> 0
A19: Orchard | C19: =COUNTIF('17.ORCHARD'!D25:W25,"✓") -> 0 | E19: =COUNTIF('17.ORCHARD'!D26:W26,"✓") -> 0 | G19: =COUNTIF('17.ORCHARD'!D27:W27,"✓") -> 0
A20: Ponds | C20: =COUNTIF('18.POND'!D30:W30,"✓") + COUNTIF('18.POND'!D34:W34,"✓") -> 0 | E20: =COUNTIF('18.POND'!D31:W31,"✓") + COUNTIF('18.POND'!D35:W35,"✓") -> 0 | G20: =COUNTIF('18.POND'!D32:W32,"✓") + COUNTIF('18.POND'!D36:W36,"✓") -> 0
A21: Rocky shore
A22: Scrub | C22: =COUNTIF('20. SCRUB'!D24:W24,"✓") -> 0 | E22: =COUNTIF('20. SCRUB'!D25:W25,"✓") -> 0 | G22: =COUNTIF('20. SCRUB'!D25:W25,"✓") -> 0
A23: Sparsely vegetated land
A24: Urban | C24: =COUNTIF('22.URBAN'!D33:W33,"✓") + COUNTIF('22.URBAN'!D37:W37,"✓") + COUNTIF('22.URBAN'!D41:W41,"✓") -> 0 | E24: =COUNTIF('22.URBAN'!D34:W34,"✓") + COUNTIF('22.URBAN'!D38:W38,"✓") + COUNTIF('22.URBAN'!D42:W42,"✓") -> 0 | G24: =COUNTIF('22.URBAN'!D35:W35,"✓") + COUNTIF('22.URBAN'!D39:W39,"✓") + COUNTIF('22.URBAN'!D43:W43,"✓") -> 2
A25: Wetland | C25: =COUNTIF('23.WETLAND'!D40:W40,"✓") + COUNTIF('23.WETLAND'!D44:W44,"✓") -> 0 | E25: =COUNTIF('23.WETLAND'!D41:W41,"✓") + COUNTIF('23.WETLAND'!D45:W45,"✓") -> 0 | G25: =COUNTIF('23.WETLAND'!D42:W42,"✓") + COUNTIF('23.WETLAND'!D46:W46,"✓") -> 0
A26: Woodland | C26: =COUNTIF('24.WOODLAND'!F33:X33,"✓") -> 0 | E26: =COUNTIF('24.WOODLAND'!F34:X34,"✓") -> 0 | G26: =COUNTIF('24.WOODLAND'!F35:X35,"✓") -> 0
A27: Wood-pasture and parkland | C27: =COUNTIF('25.WOOD-PASTURE & PARKLAND'!D25:W25,"✓") -> 0 | E27: =COUNTIF('25.WOOD-PASTURE & PARKLAND'!D26:W26,"✓") -> 0 | G27: =COUNTIF('25.WOOD-PASTURE & PARKLAND'!D26:W26,"✓") -> 0

Sheet 4. DITCH
A1: Condition Sheet: DITCH Habitat Type
A2: Habitat Type
A3: Watercourses - Ditches
A4: Habitat Description
A5: See the Statutory Biodiversity Metric User Guide.
A7: On-site or off-site, site name and location | C7: ='SURVEY COVER SHEET '!D4&" - "&'SURVEY COVER SHEET '!D2 -> On-site - Reading Gateway | D7: Survey date and Surveyor name | G7: =TEXT('SURVEY COVER SHEET '!$B$2,"dd/mm/yyyy")&" - "&'SURVEY COVER SHEET '!$B$4 -> 19/03/2026 - Ben Wagstffe
A8: Limitations (if applicable) | D8: Survey reference (if relating to a wider survey)
D9: Habitat parcel reference
D11: Grid reference
A12: Condition Assessment Criteria
D13: Criterion passed (Yes or No) | X13: Notes (such as justification)
A14: A | B14: The ditch is of good water quality, with clear water (low turbidity) indicating no obvious signs of pollution.
A15: B | B15: A range of emergent, submerged and floating-leaved plants are present. As a guide >10 species of emergent, floating or submerged plants present in a 20 m ditch length.
A16: C | B16: There is less than 10% cover of filamentous algae and or duckweed Lemna spp. (these are signs of eutrophication).
A17: D | B17: A fringe of aquatic marginal vegetation is present along more than 75% of the ditch.
A18: E | B18: Physical damage is evident along less than 5% of the ditch, with examples of damage including: excessive poaching, damage from machinery use or storage, or any other damaging management activities.
A19: F | B19: Sufficient water levels are maintained - as a guide a minimum summer depth of approximately 50 cm in minor ditches and 1 m in main drains.
A20: G | B20: Less than 10% of the ditch is heavily shaded.
A21: H | B21: There is an absence of non-native plant and animal species1.
A22: Number of criteria passed | D22: =IF(COUNTA(D14:D21)<8,"", COUNTIF(D14:D21,"Yes")) | E22: =IF(COUNTA(E14:E21)<8,"", COUNTIF(E14:E21,"Yes")) | F22: =IF(COUNTA(F14:F21)<8,"", COUNTIF(F14:F21,"Yes")) | G22: =IF(COUNTA(G14:G21)<8,"", COUNTIF(G14:G21,"Yes")) | H22: =IF(COUNTA(H14:H21)<8,"", COUNTIF(H14:H21,"Yes")) | N22: =IF(COUNTA(N14:N21)<8,"", COUNTIF(N14:N21,"Yes")) | O22: =IF(COUNTA(O14:O21)<8,"", COUNTIF(O14:O21,"Yes")) | P22: =IF(COUNTA(P14:P21)<8,"", COUNTIF(P14:P21,"Yes")) | Q22: =IF(COUNTA(Q14:Q21)<8,"", COUNTIF(Q14:Q21,"Yes")) | R22: =IF(COUNTA(R14:R21)<8,"", COUNTIF(R14:R21,"Yes")) | S22: =IF(COUNTA(S14:S21)<8,"", COUNTIF(S14:S21,"Yes")) | T22: =IF(COUNTA(T14:T21)<8,"", COUNTIF(T14:T21,"Yes")) | U22: =IF(COUNTA(U14:U21)<8,"", COUNTIF(U14:U21,"Yes")) | ... W22: =IF(COUNTA(W14:W21)<8,"", COUNTIF(W14:W21,"Yes"))
A23: Condition Assessment Result (out of 8 criteria) | C23: Condition Assessment Score | D23: Score Achieved ×/✓
A24: Passes 8 criteria | C24: Good (3) | D24: =IF(COUNTA(D14:D21)<8,"", IF(D22=8,"✓","")) | E24: =IF(COUNTA(E14:E21)<8,"", IF(E22=8,"✓","")) | F24: =IF(COUNTA(F14:F21)<8,"", IF(F22=8,"✓","")) | G24: =IF(COUNTA(G14:G21)<8,"", IF(G22=8,"✓","")) | H24: =IF(COUNTA(H14:H21)<8,"", IF(H22=8,"✓","")) | N24: =IF(COUNTA(N14:N21)<8,"", IF(N22=8,"✓","")) | O24: =IF(COUNTA(O14:O21)<8,"", IF(O22=8,"✓","")) | P24: =IF(COUNTA(P14:P21)<8,"", IF(P22=8,"✓","")) | Q24: =IF(COUNTA(Q14:Q21)<8,"", IF(Q22=8,"✓","")) | R24: =IF(COUNTA(R14:R21)<8,"", IF(R22=8,"✓","")) | S24: =IF(COUNTA(S14:S21)<8,"", IF(S22=8,"✓","")) | T24: =IF(COUNTA(T14:T21)<8,"", IF(T22=8,"✓","")) | U24: =IF(COUNTA(U14:U21)<8,"", IF(U22=8,"✓","")) | ... W24: =IF(COUNTA(W14:W21)<8,"", IF(W22=8,"✓",""))
A25: Passes 6 or 7 criteria | C25: Moderate (2) | D25: =IF(COUNTA(D14:D21)<8,"", IF(OR(D22=7,D22=6),"✓","")) | E25: =IF(COUNTA(E14:E21)<8,"", IF(OR(E22=7,E22=6),"✓","")) | F25: =IF(COUNTA(F14:F21)<8,"", IF(OR(F22=7,F22=6),"✓","")) | G25: =IF(COUNTA(G14:G21)<8,"", IF(OR(G22=7,G22=6),"✓","")) | H25: =IF(COUNTA(H14:H21)<8,"", IF(OR(H22=7,H22=6),"✓","")) | N25: =IF(COUNTA(N14:N21)<8,"", IF(OR(N22=7,N22=6),"✓","")) | O25: =IF(COUNTA(O14:O21)<8,"", IF(OR(O22=7,O22=6),"✓","")) | P25: =IF(COUNTA(P14:P21)<8,"", IF(OR(P22=7,P22=6),"✓","")) | Q25: =IF(COUNTA(Q14:Q21)<8,"", IF(OR(Q22=7,Q22=6),"✓","")) | R25: =IF(COUNTA(R14:R21)<8,"", IF(OR(R22=7,R22=6),"✓","")) | S25: =IF(COUNTA(S14:S21)<8,"", IF(OR(S22=7,S22=6),"✓","")) | T25: =IF(COUNTA(T14:T21)<8,"", IF(OR(T22=7,T22=6),"✓","")) | U25: =IF(COUNTA(U14:U21)<8,"", IF(OR(U22=7,U22=6),"✓","")) | ... W25: =IF(COUNTA(W14:W21)<8,"", IF(OR(W22=7,W22=6),"✓",""))
A26: Passes 5 or fewer criteria | C26: Poor (1) | D26: =IF(COUNTA(D14:D21)<8,"", IF(D22<=5,"✓","")) | E26: =IF(COUNTA(E14:E21)<8,"", IF(E22<=5,"✓","")) | F26: =IF(COUNTA(F14:F21)<8,"", IF(F22<=5,"✓","")) | G26: =IF(COUNTA(G14:G21)<8,"", IF(G22<=5,"✓","")) | H26: =IF(COUNTA(H14:H21)<8,"", IF(H22<=5,"✓","")) | N26: =IF(COUNTA(N14:N21)<8,"", IF(N22<=5,"✓","")) | O26: =IF(COUNTA(O14:O21)<8,"", IF(O22<=5,"✓","")) | P26: =IF(COUNTA(P14:P21)<8,"", IF(P22<=5,"✓","")) | Q26: =IF(COUNTA(Q14:Q21)<8,"", IF(Q22<=5,"✓","")) | R26: =IF(COUNTA(R14:R21)<8,"", IF(R22<=5,"✓","")) | S26: =IF(COUNTA(S14:S21)<8,"", IF(S22<=5,"✓","")) | T26: =IF(COUNTA(T14:T21)<8,"", IF(T22<=5,"✓","")) | U26: =IF(COUNTA(U14:U21)<8,"", IF(U22<=5,"✓","")) | ... W26: =IF(COUNTA(W14:W21)<8,"", IF(W22<=5,"✓",""))
A27: Suggested enhancement interventions to improve condition score
A29: Footnotes
A30: Footnote 1 – This includes any species listed on the Water Framework Directive UKTAG GB High Impact Species List: Water Framework Directive (WFD) UKTAG (2021) Classification of aquatic alien species according to their level of impact [online]. Available from:
A31: UKTAG classification of alien species working paper v8.pdf (wfduk.org)
A32: • Frequently occurring non-native plant species include water fern Azolla filiculoides, Australian swamp stonecrop Crassula helmsii, parrot’s feather Myriophyllum aquaticum, floating pennywort Hydrocotyle ranunculoides, Japanese knotweed Reynoutria japonica and giant hogweed Heracleum mantegazzianum (on the bank). • Frequently occurring non-native animals include signal crayfish Pacifastacus leniusculus, zebra mussel Dreissena polymorpha, killer shrimp Dikerogammarus villosus, demon shrimp Dikerogammarus haemobaphes, and carp Cyprinus carpio.

Sheet 5. GRASSLAND LOW
A1: Condition Sheet: GRASSLAND Habitat Type (low distinctiveness)
A2: UK Habitat Classification (UKHab) Habitat Type
A3: Grassland - Modified grassland
A4: Habitat Description
A6: ukhab – UK Habitat Classification
A7: On-site or off-site, site name and location | C7: ='SURVEY COVER SHEET '!D4&" - "&'SURVEY COVER SHEET '!D2 -> On-site - Reading Gateway | D7: Survey date and Surveyor name | F7: =TEXT('SURVEY COVER SHEET '!$B$2,"dd/mm/yyyy")&" - "&'SURVEY COVER SHEET '!$B$4 -> 19/03/2026 - Ben Wagstffe
C8: ='SURVEY COVER SHEET '!D5&" - "&'SURVEY COVER SHEET '!D3 -> - | D8: Survey reference (if relating to a wider survey)
A9: Limitations (if applicable) | D9: Habitat parcel reference
D11: Grid reference
A12: Condition Assessment Criteria
D13: Criterion passed (Yes or No) | X13: Notes (such as justification)
A14: A | B14: There are 6-8 vascular plant species per m2 present, including at least 2 forbs (these may include those listed in Footnote 1). Note - this criterion is essential for achieving Moderate or Good condition. Where the vascular plant species present are characteristic of medium, high or very high distinctiveness grassland, or there are 9 or more of these characteristic species per m2 (excluding those listed in Footnote 1), please review the full UKHab description to assess whether the grassland should instead be classified as a higher distinctiveness grassland. Where a grassland is classed as medium, high, or very high distinctiveness, please use the relevant condition sheet.
A15: B | B15: Sward height is varied (at least 20% of the sward is less than 7 cm and at least 20% is more than 7 cm) creating microclimates which provide opportunities for vertebrates and invertebrates to live and breed.
A16: C | B16: Any scrub present accounts for less than 20% of the total grassland area. (Some scattered scrub such as bramble Rubus fruticosus agg. may be present). Note - patches of scrub with continuous (more than 90%) cover should be classified as the relevant scrub habitat type.
A17: D | B17: Physical damage is evident in less than 5% of total grassland area. Examples of physical damage include excessive poaching, damage from machinery use or storage, erosion caused by high levels of access, or any other damaging management activities.
A18: E | B18: Cover of bare ground is between 1% and 10%, including localised areas (for example, a concentration of rabbit warrens)2.
A19: F | B19: Cover of bracken Pteridium aquilinum is less than 20%.
A20: G | B20: There is an absence of invasive non-native plant species3 (as listed on Schedule 9 of WCA4).
A21: Essential criterion achieved (Yes or No) | D21: =IF(COUNTA(D14:D20)<7,"",IF(D14="Yes","Yes","No")) | E21: =IF(COUNTA(E14:E20)<7,"",IF(E14="Yes","Yes","No")) | F21: =IF(COUNTA(F14:F20)<7,"",IF(F14="Yes","Yes","No")) | G21: =IF(COUNTA(G14:G20)<7,"",IF(G14="Yes","Yes","No")) | H21: =IF(COUNTA(H14:H20)<7,"",IF(H14="Yes","Yes","No")) | I21: =IF(COUNTA(I14:I20)<7,"",IF(I14="Yes","Yes","No")) | J21: =IF(COUNTA(J14:J20)<7,"",IF(J14="Yes","Yes","No")) | K21: =IF(COUNTA(K14:K20)<7,"",IF(K14="Yes","Yes","No")) | ... W21: =IF(COUNTA(W14:W20)<7,"",IF(W14="Yes","Yes","No"))
A22: Number of criteria passed | D22: =IF(COUNTA(D14:D20)<7,"",COUNTIF(D14:D20,"Yes")) | E22: =IF(COUNTA(E14:E20)<7,"",COUNTIF(E14:E20,"Yes")) | F22: =IF(COUNTA(F14:F20)<7,"",COUNTIF(F14:F20,"Yes")) | G22: =IF(COUNTA(G14:G20)<7,"",COUNTIF(G14:G20,"Yes")) | H22: =IF(COUNTA(H14:H20)<7,"",COUNTIF(H14:H20,"Yes")) | I22: =IF(COUNTA(I14:I20)<7,"",COUNTIF(I14:I20,"Yes")) | J22: =IF(COUNTA(J14:J20)<7,"",COUNTIF(J14:J20,"Yes")) | K22: =IF(COUNTA(K14:K20)<7,"",COUNTIF(K14:K20,"Yes")) | ... W22: =IF(COUNTA(W14:W20)<7,"",COUNTIF(W14:W20,"Yes"))
A23: Condition Assessment Result (out of 7 criteria) | C23: Condition Assessment Score | D23: Score Achieved ×/✓
A24: Passes 6 or 7 criteria including passing essential criterion A | C24: Good (3) | D24: =IF(COUNTA(D14:D20)<7,"", IF(AND(D22>=6, D14="Yes"),"✓","")) | E24: =IF(COUNTA(E14:E20)<7,"", IF(AND(E22>=6, E14="Yes"),"✓","")) | F24: =IF(COUNTA(F14:F20)<7,"", IF(AND(F22>=6, F14="Yes"),"✓","")) | G24: =IF(COUNTA(G14:G20)<7,"", IF(AND(G22>=6, G14="Yes"),"✓","")) | H24: =IF(COUNTA(H14:H20)<7,"", IF(AND(H22>=6, H14="Yes"),"✓","")) | I24: =IF(COUNTA(I14:I20)<7,"", IF(AND(I22>=6, I14="Yes"),"✓","")) | J24: =IF(COUNTA(J14:J20)<7,"", IF(AND(J22>=6, J14="Yes"),"✓","")) | K24: =IF(COUNTA(K14:K20)<7,"", IF(AND(K22>=6, K14="Yes"),"✓","")) | ... W24: =IF(COUNTA(W14:W20)<7,"", IF(AND(W22>=6, W14="Yes"),"✓",""))
A25: Passes 4 or 5 criteria including passing essential criterion A | C25: Moderate (2) | D25: =IF(COUNTA(D14:D20)<7,"", IF(AND(D22>=4,D22<=5,D14="Yes"),"✓","")) | E25: =IF(COUNTA(E14:E20)<7,"", IF(AND(E22>=4,E22<=5,E14="Yes"),"✓","")) | F25: =IF(COUNTA(F14:F20)<7,"", IF(AND(F22>=4,F22<=5,F14="Yes"),"✓","")) | G25: =IF(COUNTA(G14:G20)<7,"", IF(AND(G22>=4,G22<=5,G14="Yes"),"✓","")) | H25: =IF(COUNTA(H14:H20)<7,"", IF(AND(H22>=4,H22<=5,H14="Yes"),"✓","")) | I25: =IF(COUNTA(I14:I20)<7,"", IF(AND(I22>=4,I22<=5,I14="Yes"),"✓","")) | J25: =IF(COUNTA(J14:J20)<7,"", IF(AND(J22>=4,J22<=5,J14="Yes"),"✓","")) | K25: =IF(COUNTA(K14:K20)<7,"", IF(AND(K22>=4,K22<=5,K14="Yes"),"✓","")) | ... W25: =IF(COUNTA(W14:W20)<7,"", IF(AND(W22>=4,W22<=5,W14="Yes"),"✓",""))
A26: Passes 3 or fewer criteria; OR Passes 4 - 6 criteria (excluding criterion A) | C26: Poor (1) | D26: =IF(COUNTA(D14:D20)<7,"", IF(OR(D22<=3,AND(D22>=1,D14="No")),"✓","")) | E26: =IF(COUNTA(E14:E20)<7,"", IF(OR(E22<=3,AND(E22>=1,E14="No")),"✓","")) | F26: =IF(COUNTA(F14:F20)<7,"", IF(OR(F22<=3,AND(F22>=1,F14="No")),"✓","")) | G26: =IF(COUNTA(G14:G20)<7,"", IF(OR(G22<=3,AND(G22>=1,G14="No")),"✓","")) | H26: =IF(COUNTA(H14:H20)<7,"", IF(OR(H22<=3,AND(H22>=1,H14="No")),"✓","")) | I26: =IF(COUNTA(I14:I20)<7,"", IF(OR(I22<=3,AND(I22>=1,I14="No")),"✓","")) | J26: =IF(COUNTA(J14:J20)<7,"", IF(OR(J22<=3,AND(J22>=1,J14="No")),"✓","")) | K26: =IF(COUNTA(K14:K20)<7,"", IF(OR(K22<=3,AND(K22>=1,K14="No")),"✓","")) | ... W26: =IF(COUNTA(W14:W20)<7,"", IF(OR(W22<=3,AND(W22>=1,W14="No")),"✓",""))
A27: Suggested enhancement interventions to improve condition score
A29: Footnotes
A30: Footnote 1 – Creeping thistle Cirsium arvense, spear thistle Cirsium vulgare, curled dock Rumex crispus, broad-leaved dock Rumex obtusifolius, common nettle Urtica dioica, creeping buttercup Ranunculus repens, greater plantain Plantago major, white clover Trifolium repens and cow parsley Anthriscus sylvestris. Footnote 2 – For example, this could include small, scattered areas of bare ground allowing establishment of new species, or localised patches where not exceeding 10% cover. Footnote 3 – Assess this for each distinct habitat parcel. If the distribution of invasive non-native species varies across the habitat, split into parcels accordingly, applying a buffer zone around the invasive non-native species with a size relative to its risk of spread into adjacent habitat, using professional judgement. Footnote 4 – Wildlife and Countryside Act 1981 (as amended).

Sheet 6. GRASSLAND MED HIGH & V.HIGH
A1: Condition Sheet: GRASSLAND Habitat Type (medium, high and very high distinctiveness)
A2: UK Habitat Classification (UKHab) Habitat Types
A3: Grassland - Lowland calcareous grassland Grassland - Lowland dry acid grassland Grassland - Lowland meadows Grassland - Other lowland acid grassland Grassland - Other neutral grassland Grassland - Tall herb communities (H6430) [Not to be confused with the Tall forbs secondary code – see UKHab guidance for details.] Grassland - Upland acid grassland Grassland - Upland calcareous grassland Grassland - Upland hay meadows Sparsely vegetated land - Calaminarian grassland
A4: Habitat Description
A6: ukhab – UK Habitat Classification
A7: On-site or off-site, site name and location | C7: ='SURVEY COVER SHEET '!D4&" - "&'SURVEY COVER SHEET '!D2 -> On-site - Reading Gateway | D7: Survey date and Surveyor name | G7: =TEXT('SURVEY COVER SHEET '!$B$2,"dd/mm/yyyy")&" - "&'SURVEY COVER SHEET '!$B$4 -> 19/03/2026 - Ben Wagstffe
C8: ='SURVEY COVER SHEET '!D5&" - "&'SURVEY COVER SHEET '!D3 -> - | D8: Survey reference (if relating to a wider survey)
A9: Limitations (if applicable) | D9: Habitat Type
D11: Habitat parcel reference
A13: Condition Assessment Criteria | D13: Grid reference
D15: Criterion passed (Yes or No) | X15: Notes (such as justification)
A16: A | B16: The parcel represents a good example of its habitat type, with a consistently high proportion of characteristic indicator species present relevant to the specific habitat type (and relative to Footnote 3 suboptimal species which may be listed in the UKHab description).1 Note - this criterion is essential for achieving Moderate or Good condition for non-acid grassland types only.
A17: B | B17: Sward height is varied (at least 20% of the sward is less than 7 cm and at least 20% is more than 7 cm) creating microclimates which provide opportunities for insects, birds and small mammals to live and breed.
A18: C | B18: Cover of bare ground is between 1% and 5%, including localised areas, for example, rabbit warrens2.
A19: D | B19: Cover of bracken Pteridium aquilinum is less than 20% and cover of scrub (including bramble Rubus fruticosus agg.) is less than 5%.
A20: E | B20: Combined cover of species indicative of suboptimal condition3 and physical damage (such as excessive poaching, damage from machinery use or storage, damaging levels of access, or any other damaging management activities) accounts for less than 5% of total area. If any invasive non-native plant species4 (as listed on Schedule 9 of WCA5) are present, this criterion is automatically failed.
A21: y
A22: F | B22: There are 10 or more vascular plant species per m2 present, including forbs that are characteristic of the habitat type (species referenced in Footnote 3 and 5 cannot contribute towards this count). Note - this criterion is essential for achieving Good condition for non-acid grassland types only.
A24: Essential criterion for Good condition achieved (for non-acid grassland) (Yes or No) | D24: =IF(TRIM(D10)="","", IF(AND(ISNUMBER(SEARCH("acid",D10)),COUNTA(D16:D20)<5),"", IF(AND(NOT(ISNUMBER(SEARCH("acid",D10))),COUNTA(D16:D20,D22)<6),"",IF(D16="Yes","Yes","No")))) | E24: =IF(TRIM(E10)="","", IF(AND(ISNUMBER(SEARCH("acid",E10)),COUNTA(E16:E20)<5),"", IF(AND(NOT(ISNUMBER(SEARCH("acid",E10))),COUNTA(E16:E20,E22)<6),"",IF(E16="Yes","Yes","No")))) | F24: =IF(TRIM(F10)="","", IF(AND(ISNUMBER(SEARCH("acid",F10)),COUNTA(F16:F20)<5),"", IF(AND(NOT(ISNUMBER(SEARCH("acid",F10))),COUNTA(F16:F20,F22)<6),"",IF(F16="Yes","Yes","No")))) | G24: =IF(TRIM(G10)="","", IF(AND(ISNUMBER(SEARCH("acid",G10)),COUNTA(G16:G20)<5),"", IF(AND(NOT(ISNUMBER(SEARCH("acid",G10))),COUNTA(G16:G20,G22)<6),"",IF(G16="Yes","Yes","No")))) | H24: =IF(TRIM(H10)="","", IF(AND(ISNUMBER(SEARCH("acid",H10)),COUNTA(H16:H20)<5),"", IF(AND(NOT(ISNUMBER(SEARCH("acid",H10))),COUNTA(H16:H20,H22)<6),"",IF(H16="Yes","Yes","No")))) | I24: =IF(TRIM(I10)="","", IF(AND(ISNUMBER(SEARCH("acid",I10)),COUNTA(I16:I20)<5),"", IF(AND(NOT(ISNUMBER(SEARCH("acid",I10))),COUNTA(I16:I20,I22)<6),"",IF(I16="Yes","Yes","No")))) | J24: =IF(TRIM(J10)="","", IF(AND(ISNUMBER(SEARCH("acid",J10)),COUNTA(J16:J20)<5),"", IF(AND(NOT(ISNUMBER(SEARCH("acid",J10))),COUNTA(J16:J20,J22)<6),"",IF(J16="Yes","Yes","No")))) | K24: =IF(TRIM(K10)="","", IF(AND(ISNUMBER(SEARCH("acid",K10)),COUNTA(K16:K20)<5),"", IF(AND(NOT(ISNUMBER(SEARCH("acid",K10))),COUNTA(K16:K20,K22)<6),"",IF(K16="Yes","Yes","No")))) | ... W24: =IF(TRIM(W10)="","", IF(AND(ISNUMBER(SEARCH("acid",W10)),COUNTA(W16:W20)<5),"", IF(AND(NOT(ISNUMBER(SEARCH("acid",W10))),COUNTA(W16:W20,W22)<6),"",IF(W16="Yes","Yes","No"))))
A25: Number of criteria passed | D25: =IF(TRIM(D10)="","", IF(AND(ISNUMBER(SEARCH("acid",D10)),COUNTA(D16:D20)<5),"", IF(AND(NOT(ISNUMBER(SEARCH("acid",D10))),COUNTA(D16:D20,D22)<6),"", IF(AND(ISNUMBER(SEARCH("acid",D10)),D22<>""),"N/A", IF(AND(NOT(ISNUMBER(SEARCH("acid",D10))),D22=""),"N/A", COUNTIF(D16:D20,"Yes")+IF(D22="Yes",1,0)))))) | E25: =IF(TRIM(E10)="","", IF(AND(ISNUMBER(SEARCH("acid",E10)),COUNTA(E16:E20)<5),"", IF(AND(NOT(ISNUMBER(SEARCH("acid",E10))),COUNTA(E16:E20,E22)<6),"", IF(AND(ISNUMBER(SEARCH("acid",E10)),E22<>""),"N/A", IF(AND(NOT(ISNUMBER(SEARCH("acid",E10))),E22=""),"N/A", COUNTIF(E16:E20,"Yes")+IF(E22="Yes",1,0)))))) | F25: =IF(TRIM(F10)="","", IF(AND(ISNUMBER(SEARCH("acid",F10)),COUNTA(F16:F20)<5),"", IF(AND(NOT(ISNUMBER(SEARCH("acid",F10))),COUNTA(F16:F20,F22)<6),"", IF(AND(ISNUMBER(SEARCH("acid",F10)),F22<>""),"N/A", IF(AND(NOT(ISNUMBER(SEARCH("acid",F10))),F22=""),"N/A", COUNTIF(F16:F20,"Yes")+IF(F22="Yes",1,0)))))) | G25: =IF(TRIM(G10)="","", IF(AND(ISNUMBER(SEARCH("acid",G10)),COUNTA(G16:G20)<5),"", IF(AND(NOT(ISNUMBER(SEARCH("acid",G10))),COUNTA(G16:G20,G22)<6),"", IF(AND(ISNUMBER(SEARCH("acid",G10)),G22<>""),"N/A", IF(AND(NOT(ISNUMBER(SEARCH("acid",G10))),G22=""),"N/A", COUNTIF(G16:G20,"Yes")+IF(G22="Yes",1,0)))))) | H25: =IF(TRIM(H10)="","", IF(AND(ISNUMBER(SEARCH("acid",H10)),COUNTA(H16:H20)<5),"", IF(AND(NOT(ISNUMBER(SEARCH("acid",H10))),COUNTA(H16:H20,H22)<6),"", IF(AND(ISNUMBER(SEARCH("acid",H10)),H22<>""),"N/A", IF(AND(NOT(ISNUMBER(SEARCH("acid",H10))),H22=""),"N/A", COUNTIF(H16:H20,"Yes")+IF(H22="Yes",1,0)))))) | I25: =IF(TRIM(I10)="","", IF(AND(ISNUMBER(SEARCH("acid",I10)),COUNTA(I16:I20)<5),"", IF(AND(NOT(ISNUMBER(SEARCH("acid",I10))),COUNTA(I16:I20,I22)<6),"", IF(AND(ISNUMBER(SEARCH("acid",I10)),I22<>""),"N/A", IF(AND(NOT(ISNUMBER(SEARCH("acid",I10))),I22=""),"N/A", COUNTIF(I16:I20,"Yes")+IF(I22="Yes",1,0)))))) | J25: =IF(TRIM(J10)="","", IF(AND(ISNUMBER(SEARCH("acid",J10)),COUNTA(J16:J20)<5),"", IF(AND(NOT(ISNUMBER(SEARCH("acid",J10))),COUNTA(J16:J20,J22)<6),"", IF(AND(ISNUMBER(SEARCH("acid",J10)),J22<>""),"N/A", IF(AND(NOT(ISNUMBER(SEARCH("acid",J10))),J22=""),"N/A", COUNTIF(J16:J20,"Yes")+IF(J22="Yes",1,0)))))) | K25: =IF(TRIM(K10)="","", IF(AND(ISNUMBER(SEARCH("acid",K10)),COUNTA(K16:K20)<5),"", IF(AND(NOT(ISNUMBER(SEARCH("acid",K10))),COUNTA(K16:K20,K22)<6),"", IF(AND(ISNUMBER(SEARCH("acid",K10)),K22<>""),"N/A", IF(AND(NOT(ISNUMBER(SEARCH("acid",K10))),K22=""),"N/A", COUNTIF(K16:K20,"Yes")+IF(K22="Yes",1,0)))))) | ... W25: =IF(TRIM(W10)="","", IF(AND(ISNUMBER(SEARCH("acid",W10)),COUNTA(W16:W20)<5),"", IF(AND(NOT(ISNUMBER(SEARCH("acid",W10))),COUNTA(W16:W20,W22)<6),"", IF(AND(ISNUMBER(SEARCH("acid",W10)),W22<>""),"N/A", IF(AND(NOT(ISNUMBER(SEARCH("acid",W10))),W22=""),"N/A", COUNTIF(W16:W20,"Yes")+IF(W22="Yes",1,0))))))
A26: Condition Assessment Result | C26: Condition Assessment Score | D26: Score Achieved ×/✓
A27: Acid grassland types (Result out of 5 criteria)
A28: Passes 5 criteria | C28: Good (3) | D28: =IF(TRIM(D10)="","", IF(ISNUMBER(SEARCH("acid grassland",LOWER(TRIM(D10)))), IF(OR(COUNTA(D16:D20)<5, D22<>""),"", IF(D25=5,"✓","")), "N/A")) | E28: =IF(TRIM(E10)="","", IF(ISNUMBER(SEARCH("acid grassland",LOWER(TRIM(E10)))), IF(OR(COUNTA(E16:E20)<5, E22<>""),"", IF(E25=5,"✓","")), "N/A")) | F28: =IF(TRIM(F10)="","", IF(ISNUMBER(SEARCH("acid grassland",LOWER(TRIM(F10)))), IF(OR(COUNTA(F16:F20)<5, F22<>""),"", IF(F25=5,"✓","")), "N/A")) | G28: =IF(TRIM(G10)="","", IF(ISNUMBER(SEARCH("acid grassland",LOWER(TRIM(G10)))), IF(OR(COUNTA(G16:G20)<5, G22<>""),"", IF(G25=5,"✓","")), "N/A")) | H28: =IF(TRIM(H10)="","", IF(ISNUMBER(SEARCH("acid grassland",LOWER(TRIM(H10)))), IF(OR(COUNTA(H16:H20)<5, H22<>""),"", IF(H25=5,"✓","")), "N/A")) | I28: =IF(TRIM(I10)="","", IF(ISNUMBER(SEARCH("acid grassland",LOWER(TRIM(I10)))), IF(OR(COUNTA(I16:I20)<5, I22<>""),"", IF(I25=5,"✓","")), "N/A")) | J28: =IF(TRIM(J10)="","", IF(ISNUMBER(SEARCH("acid grassland",LOWER(TRIM(J10)))), IF(OR(COUNTA(J16:J20)<5, J22<>""),"", IF(J25=5,"✓","")), "N/A")) | K28: =IF(TRIM(K10)="","", IF(ISNUMBER(SEARCH("acid grassland",LOWER(TRIM(K10)))), IF(OR(COUNTA(K16:K20)<5, K22<>""),"", IF(K25=5,"✓","")), "N/A")) | ... V28: =IF(TRIM(V10)="","", IF(ISNUMBER(SEARCH("acid grassland",LOWER(TRIM(V10)))), IF(OR(COUNTA(V16:V20)<5, V22<>""),"", IF(V25=5,"✓","")), "N/A")) | W28: =IF(TRIM(W10)="","", IF(ISNUMBER(SEARCH("acid grassland",LOWER(TRIM(W10)))), IF(OR(COUNTA(W16:W20)<5, W22<>""),"", IF(COUNTIF(W16:W20,"Yes")=5,"✓","")), "N/A"))
A29: Passes 3 or 4 criteria | C29: Moderate (2) | D29: =IF(TRIM(D10)="","", IF(ISNUMBER(SEARCH("acid grassland",LOWER(TRIM(D10)))), IF(OR(COUNTA(D16:D20)<5,D22<>""),"", IF(AND(D25>=3, D25<=4),"✓","")),"N/A")) | E29: =IF(TRIM(E10)="","", IF(ISNUMBER(SEARCH("acid grassland",LOWER(TRIM(E10)))), IF(OR(COUNTA(E16:E20)<5,E22<>""),"", IF(AND(E25>=3, E25<=4),"✓","")),"N/A")) | F29: =IF(TRIM(F10)="","", IF(ISNUMBER(SEARCH("acid grassland",LOWER(TRIM(F10)))), IF(OR(COUNTA(F16:F20)<5,F22<>""),"", IF(AND(F25>=3, F25<=4),"✓","")),"N/A")) | G29: =IF(TRIM(G10)="","", IF(ISNUMBER(SEARCH("acid grassland",LOWER(TRIM(G10)))), IF(OR(COUNTA(G16:G20)<5,G22<>""),"", IF(AND(G25>=3, G25<=4),"✓","")),"N/A")) | H29: =IF(TRIM(H10)="","", IF(ISNUMBER(SEARCH("acid grassland",LOWER(TRIM(H10)))), IF(OR(COUNTA(H16:H20)<5,H22<>""),"", IF(AND(H25>=3, H25<=4),"✓","")),"N/A")) | I29: =IF(TRIM(I10)="","", IF(ISNUMBER(SEARCH("acid grassland",LOWER(TRIM(I10)))), IF(OR(COUNTA(I16:I20)<5,I22<>""),"", IF(AND(I25>=3, I25<=4),"✓","")),"N/A")) | J29: =IF(TRIM(J10)="","", IF(ISNUMBER(SEARCH("acid grassland",LOWER(TRIM(J10)))), IF(OR(COUNTA(J16:J20)<5,J22<>""),"", IF(AND(J25>=3, J25<=4),"✓","")),"N/A")) | K29: =IF(TRIM(K10)="","", IF(ISNUMBER(SEARCH("acid grassland",LOWER(TRIM(K10)))), IF(OR(COUNTA(K16:K20)<5,K22<>""),"", IF(AND(K25>=3, K25<=4),"✓","")),"N/A")) | ... V29: =IF(TRIM(V10)="","", IF(ISNUMBER(SEARCH("acid grassland",LOWER(TRIM(V10)))), IF(OR(COUNTA(V16:V20)<5,V22<>""),"", IF(AND(V25>=3, V25<=4),"✓","")),"N/A")) | W29: =IF(TRIM(W10)="","", IF(ISNUMBER(SEARCH("acid grassland",LOWER(TRIM(W10)))), IF(OR(COUNTA(W16:W20)<5,W22<>""),"", IF(AND(COUNTIF(W16:W20,"Yes")>=3, COUNTIF(W16:W20,"Yes")<=4),"✓","")),"N/A"))
A30: Passes 2 or fewer criteria | C30: Poor (1) | D30: =IF(TRIM(D10)="","", IF(ISNUMBER(SEARCH("acid grassland",LOWER(TRIM(D10)))), IF(OR(COUNTA(D16:D20)<5,D22<>""),"", IF(D25<=2,"✓","")),"N/A")) | E30: =IF(TRIM(E10)="","", IF(ISNUMBER(SEARCH("acid grassland",LOWER(TRIM(E10)))), IF(OR(COUNTA(E16:E20)<5,E22<>""),"", IF(E25<=2,"✓","")),"N/A")) | F30: =IF(TRIM(F10)="","", IF(ISNUMBER(SEARCH("acid grassland",LOWER(TRIM(F10)))), IF(OR(COUNTA(F16:F20)<5,F22<>""),"", IF(F25<=2,"✓","")),"N/A")) | G30: =IF(TRIM(G10)="","", IF(ISNUMBER(SEARCH("acid grassland",LOWER(TRIM(G10)))), IF(OR(COUNTA(G16:G20)<5,G22<>""),"", IF(G25<=2,"✓","")),"N/A")) | H30: =IF(TRIM(H10)="","", IF(ISNUMBER(SEARCH("acid grassland",LOWER(TRIM(H10)))), IF(OR(COUNTA(H16:H20)<5,H22<>""),"", IF(H25<=2,"✓","")),"N/A")) | I30: =IF(TRIM(I10)="","", IF(ISNUMBER(SEARCH("acid grassland",LOWER(TRIM(I10)))), IF(OR(COUNTA(I16:I20)<5,I22<>""),"", IF(I25<=2,"✓","")),"N/A")) | J30: =IF(TRIM(J10)="","", IF(ISNUMBER(SEARCH("acid grassland",LOWER(TRIM(J10)))), IF(OR(COUNTA(J16:J20)<5,J22<>""),"", IF(J25<=2,"✓","")),"N/A")) | K30: =IF(TRIM(K10)="","", IF(ISNUMBER(SEARCH("acid grassland",LOWER(TRIM(K10)))), IF(OR(COUNTA(K16:K20)<5,K22<>""),"", IF(K25<=2,"✓","")),"N/A")) | ... V30: =IF(TRIM(V10)="","", IF(ISNUMBER(SEARCH("acid grassland",LOWER(TRIM(V10)))), IF(OR(COUNTA(V16:V20)<5,V22<>""),"", IF(V25<=2,"✓","")),"N/A")) | W30: =IF(TRIM(W10)="","", IF(ISNUMBER(SEARCH("acid grassland",LOWER(TRIM(W10)))), IF(OR(COUNTA(W16:W20)<5,W22<>""),"", IF(COUNTIF(W16:W20,"Yes")<=2,"✓","")),"N/A"))
A31: Non-acid grassland types (Result out of 6 criteria)
A32: Passes 5 or 6 criteria, including essential criterion A and additional criterion F. | C32: Good (3) | D32: =IF(TRIM(D10)="","", IF(ISNUMBER(SEARCH("acid grassland",LOWER(D10))),"N/A", IF(COUNTA(D16:D20)+IF(D22<>"",1,0)<6,"", IF(AND(D25>=5, D16="Yes",D22="Yes"),"✓","")))) | E32: =IF(TRIM(E10)="","", IF(ISNUMBER(SEARCH("acid grassland",LOWER(E10))),"N/A", IF(COUNTA(E16:E20)+IF(E22<>"",1,0)<6,"", IF(AND(E25>=5, E16="Yes",E22="Yes"),"✓","")))) | F32: =IF(TRIM(F10)="","", IF(ISNUMBER(SEARCH("acid grassland",LOWER(F10))),"N/A", IF(COUNTA(F16:F20)+IF(F22<>"",1,0)<6,"", IF(AND(F25>=5, F16="Yes",F22="Yes"),"✓","")))) | G32: =IF(TRIM(G10)="","", IF(ISNUMBER(SEARCH("acid grassland",LOWER(G10))),"N/A", IF(COUNTA(G16:G20)+IF(G22<>"",1,0)<6,"", IF(AND(G25>=5, G16="Yes",G22="Yes"),"✓","")))) | H32: =IF(TRIM(H10)="","", IF(ISNUMBER(SEARCH("acid grassland",LOWER(H10))),"N/A", IF(COUNTA(H16:H20)+IF(H22<>"",1,0)<6,"", IF(AND(H25>=5, H16="Yes",H22="Yes"),"✓","")))) | I32: =IF(TRIM(I10)="","", IF(ISNUMBER(SEARCH("acid grassland",LOWER(I10))),"N/A", IF(COUNTA(I16:I20)+IF(I22<>"",1,0)<6,"", IF(AND(I25>=5, I16="Yes",I22="Yes"),"✓","")))) | J32: =IF(TRIM(J10)="","", IF(ISNUMBER(SEARCH("acid grassland",LOWER(J10))),"N/A", IF(COUNTA(J16:J20)+IF(J22<>"",1,0)<6,"", IF(AND(J25>=5, J16="Yes",J22="Yes"),"✓","")))) | K32: =IF(TRIM(K10)="","", IF(ISNUMBER(SEARCH("acid grassland",LOWER(K10))),"N/A", IF(COUNTA(K16:K20)+IF(K22<>"",1,0)<6,"", IF(AND(K25>=5, K16="Yes",K22="Yes"),"✓","")))) | ... V32: =IF(TRIM(V10)="","", IF(ISNUMBER(SEARCH("acid grassland",LOWER(V10))),"N/A", IF(COUNTA(V16:V20)+IF(V22<>"",1,0)<6,"", IF(AND(V25>=5, V16="Yes",V22="Yes"),"✓","")))) | W32: =IF(TRIM(W10)="","", IF(ISNUMBER(SEARCH("acid grassland",LOWER(W10))),"N/A", IF(COUNTA(W16:W20)+IF(W22<>"",1,0)<6,"", IF(AND((COUNTIF(W16:W20,"Yes")+IF(W22="Yes",1,0))>=5, W16="Yes",W22="Yes"),"✓",""))))
A33: Passes 3 - 5 criteria, including essential criterion A. | C33: Moderate (2) | D33: =IF(TRIM(D10)="","", IF(ISNUMBER(SEARCH("acid grassland",LOWER(D10))),"N/A", IF(COUNTA(D16:D20)+IF(D22<>"",1,0)<6,"", IF(AND(D25>=3, D25<=5, D16="Yes", NOT(AND(D25>=5,D16="Yes",D22="Yes"))), "✓","")))) | E33: =IF(TRIM(E10)="","", IF(ISNUMBER(SEARCH("acid grassland",LOWER(E10))),"N/A", IF(COUNTA(E16:E20)+IF(E22<>"",1,0)<6,"", IF(AND(E25>=3, E25<=5, E16="Yes", NOT(AND(E25>=5,E16="Yes",E22="Yes"))), "✓","")))) | F33: =IF(TRIM(F10)="","", IF(ISNUMBER(SEARCH("acid grassland",LOWER(F10))),"N/A", IF(COUNTA(F16:F20)+IF(F22<>"",1,0)<6,"", IF(AND(F25>=3, F25<=5, F16="Yes", NOT(AND(F25>=5,F16="Yes",F22="Yes"))), "✓","")))) | G33: =IF(TRIM(G10)="","", IF(ISNUMBER(SEARCH("acid grassland",LOWER(G10))),"N/A", IF(COUNTA(G16:G20)+IF(G22<>"",1,0)<6,"", IF(AND(G25>=3, G25<=5, G16="Yes", NOT(AND(G25>=5,G16="Yes",G22="Yes"))), "✓","")))) | H33: =IF(TRIM(H10)="","", IF(ISNUMBER(SEARCH("acid grassland",LOWER(H10))),"N/A", IF(COUNTA(H16:H20)+IF(H22<>"",1,0)<6,"", IF(AND(H25>=3, H25<=5, H16="Yes", NOT(AND(H25>=5,H16="Yes",H22="Yes"))), "✓","")))) | I33: =IF(TRIM(I10)="","", IF(ISNUMBER(SEARCH("acid grassland",LOWER(I10))),"N/A", IF(COUNTA(I16:I20)+IF(I22<>"",1,0)<6,"", IF(AND(I25>=3, I25<=5, I16="Yes", NOT(AND(I25>=5,I16="Yes",I22="Yes"))), "✓","")))) | J33: =IF(TRIM(J10)="","", IF(ISNUMBER(SEARCH("acid grassland",LOWER(J10))),"N/A", IF(COUNTA(J16:J20)+IF(J22<>"",1,0)<6,"", IF(AND(J25>=3, J25<=5, J16="Yes", NOT(AND(J25>=5,J16="Yes",J22="Yes"))), "✓","")))) | K33: =IF(TRIM(K10)="","", IF(ISNUMBER(SEARCH("acid grassland",LOWER(K10))),"N/A", IF(COUNTA(K16:K20)+IF(K22<>"",1,0)<6,"", IF(AND(K25>=3, K25<=5, K16="Yes", NOT(AND(K25>=5,K16="Yes",K22="Yes"))), "✓","")))) | ... V33: =IF(TRIM(V10)="","", IF(ISNUMBER(SEARCH("acid grassland",LOWER(V10))),"N/A", IF(COUNTA(V16:V20)+IF(V22<>"",1,0)<6,"", IF(AND(V25>=3, V25<=5, V16="Yes", NOT(AND(V25>=5,V16="Yes",V22="Yes"))), "✓","")))) | W33: =IF(TRIM(W10)="","", IF(ISNUMBER(SEARCH("acid grassland",LOWER(W10))),"N/A", IF(COUNTA(W16:W20)+IF(W22<>"",1,0)<6,"", IF(AND((COUNTIF(W16:W20,"Yes")+IF(W22="Yes",1,0))>=3, (COUNTIF(W16:W20,"Yes")+IF(W22="Yes",1,0))<=5,W16="Yes",W22<>"Yes"),"✓",""))))
A34: Passes 2 or fewer criteria; OR Passes 3 or 4 criteria excluding criterion A and F. | C34: Poor (1) | D34: =IF(TRIM(D10)="","", IF(ISNUMBER(SEARCH("acid grassland",LOWER(D10))),"N/A", IF(COUNTA(D16:D20)+IF(D22<>"",1,0)<6,"", IF(OR(D25<=2,AND(D25>3,D16="No")),"✓","")))) | E34: =IF(TRIM(E10)="","", IF(ISNUMBER(SEARCH("acid grassland",LOWER(E10))),"N/A", IF(COUNTA(E16:E20)+IF(E22<>"",1,0)<6,"", IF(OR(E25<=2,AND(E25>3,E16="No")),"✓","")))) | F34: =IF(TRIM(F10)="","", IF(ISNUMBER(SEARCH("acid grassland",LOWER(F10))),"N/A", IF(COUNTA(F16:F20)+IF(F22<>"",1,0)<6,"", IF(OR(F25<=2,AND(F25>3,F16="No")),"✓","")))) | G34: =IF(TRIM(G10)="","", IF(ISNUMBER(SEARCH("acid grassland",LOWER(G10))),"N/A", IF(COUNTA(G16:G20)+IF(G22<>"",1,0)<6,"", IF(OR(G25<=2,AND(G25>3,G16="No")),"✓","")))) | H34: =IF(TRIM(H10)="","", IF(ISNUMBER(SEARCH("acid grassland",LOWER(H10))),"N/A", IF(COUNTA(H16:H20)+IF(H22<>"",1,0)<6,"", IF(OR(H25<=2,AND(H25>3,H16="No")),"✓","")))) | I34: =IF(TRIM(I10)="","", IF(ISNUMBER(SEARCH("acid grassland",LOWER(I10))),"N/A", IF(COUNTA(I16:I20)+IF(I22<>"",1,0)<6,"", IF(OR(I25<=2,AND(I25>3,I16="No")),"✓","")))) | J34: =IF(TRIM(J10)="","", IF(ISNUMBER(SEARCH("acid grassland",LOWER(J10))),"N/A", IF(COUNTA(J16:J20)+IF(J22<>"",1,0)<6,"", IF(OR(J25<=2,AND(J25>3,J16="No")),"✓","")))) | K34: =IF(TRIM(K10)="","", IF(ISNUMBER(SEARCH("acid grassland",LOWER(K10))),"N/A", IF(COUNTA(K16:K20)+IF(K22<>"",1,0)<6,"", IF(OR(K25<=2,AND(K25>3,K16="No")),"✓","")))) | ... V34: =IF(TRIM(V10)="","", IF(ISNUMBER(SEARCH("acid grassland",LOWER(V10))),"N/A", IF(COUNTA(V16:V20)+IF(V22<>"",1,0)<6,"", IF(OR(V25<=2,AND(V25>3,V16="No")),"✓","")))) | W34: =IF(TRIM(W10)="","", IF(ISNUMBER(SEARCH("acid grassland",LOWER(W10))),"N/A", IF(COUNTA(W16:W20)+IF(W22<>"",1,0)<6,"", IF(OR((COUNTIF(W16:W20,"Yes")+IF(W22="Yes",1,0))<=2, AND((COUNTIF(W16:W20,"Yes")+IF(W22="Yes",1,0))>3, W16="No")),"✓",""))))
A35: Suggested enhancement interventions to improve condition score
A37: Notes
A38: Footnote 1 - Professional judgement should be used alongside the UKHab description. Footnote 2 – For example, this could include small, scattered areas of bare ground allowing for plant colonisation, or localised patches not exceeding 5% cover. Footnote 3 - Species indicative of suboptimal condition for this habitat type include: creeping thistle Cirsium arvense, spear thistle Cirsium vulgare, curled dock Rumex crispus, broad-leaved dock Rumex obtusifolius, common nettle Urtica dioica, creeping buttercup Ranunculus repens, greater plantain Plantago major, white clover Trifolium repens and cow parsley Anthriscus sylvestris. There may be additional relevant species local to the region and or site. Footnote 4 – Assess this for each distinct habitat parcel. If the distribution of invasive non-native species varies across the habitat, split into parcels accordingly, applying a buffer zone around the invasive non-native species with a size relative to its risk of spread into adjacent habitat, by applying professional judgement. Footnote 5 – Wildlife and Countryside Act 1981 (as amended).

Sheet 7. HEATHLAND
A1: Condition Sheet: HEATHLAND Habitat Type
A2: UK Habitat Classification (UKHab) Habitat Types
A3: Heathland and shrub - Lowland heathland Heathland and shrub - Mountain heaths and willow scrub Heathland and shrub - Upland heathland
A4: Habitat Description
A6: ukhab – UK Habitat Classification
A7: On-site or off-site, site name and location | C7: ='SURVEY COVER SHEET '!D4&" - "&'SURVEY COVER SHEET '!D2 -> On-site - Reading Gateway | D7: Survey date and Surveyor name | F7: =TEXT('SURVEY COVER SHEET '!$B$2,"dd/mm/yyyy")&" - "&'SURVEY COVER SHEET '!$B$4 -> 19/03/2026 - Ben Wagstffe
C8: ='SURVEY COVER SHEET '!D5&" - "&'SURVEY COVER SHEET '!D3 -> - | D8: Survey reference (if relating to a wider survey)
A9: Limitations (if applicable) | D9: Habitat Type
D11: Habitat parcel reference
D13: Grid reference
A14: Condition Assessment Criteria
D15: Criterion passed (Yes or No) | X15: Notes (such as justification)
A16: A | B16: The parcel represents a good example of its habitat type - the appearance and composition of the vegetation closely matches its UKHab description, with vascular and non-vascular characteristic indicator species consistently present.1 Note - this criterion is essential for achieving Good condition.
A17: B | B17: There are at least two dwarf shrub species Frequent2, and cover of dwarf shrubs is between 25-75% for lowland heathland, 50-75% for upland dry heath, or >20% for upland wet heath. Note - this criterion is essential for achieving Good condition.
A18: C | B18: All heather Calluna vulgaris age-classes (pioneer, degenerate and mature) present with at least 10% pioneer heather in the lowlands or at least 10% degenerate or mature in the uplands. Note - this criterion is essential for achieving Good condition.
A19: D | B19: Unshaded bare ground is between 1-10%. Note - this criterion is essential for achieving Good condition.
A20: E | B20: There is an absence of invasive non-native plant species listed on Schedule 9 of WCA3 and shallon Gaultheria shallon4. Note - this criterion is essential for achieving Good condition.
A21: F | B21: No signs of disturbance of sensitive areas5, including managed burns.
A22: G | B22: No more than 33% of heather shoots have been recently grazed, or flowering heather plants are at least Frequent2 in autumn.
A23: H | B23: The canopy cover of scattered trees and or scrub (not including gorse Ulex spp.) is: • less than 20% for upland heaths; • less than 15% for lowland dry heaths; and • less than 10% for lowland wet heaths.
A24: I | B24: Total gorse cover is less than 50%, with common gorse Ulex europaeus less than 25%.
A25: J | B25: The cover of bracken Pteridium aquilinum is less than 5%6.
A26: K | B26: No signs of any damaging activities7 or contamination to the habitat such as: artificial drains, peat extraction, silt, leachate or eutrophication.
A27: Essential criteria for achieving Good condition achieved (Yes or No) | D27: =IF(TRIM(D10)="","", IF(COUNTA(D16:D26)<11,"", IF(AND(D16="Yes",D17="Yes",D18="Yes",D19="Yes",D20="Yes"),"Yes","No"))) | E27: =IF(TRIM(E10)="","", IF(COUNTA(E16:E26)<11,"", IF(AND(E16="Yes",E17="Yes",E18="Yes",E19="Yes",E20="Yes"),"Yes","No"))) | F27: =IF(TRIM(F10)="","", IF(COUNTA(F16:F26)<11,"", IF(AND(F16="Yes",F17="Yes",F18="Yes",F19="Yes",F20="Yes"),"Yes","No"))) | G27: =IF(TRIM(G10)="","", IF(COUNTA(G16:G26)<11,"", IF(AND(G16="Yes",G17="Yes",G18="Yes",G19="Yes",G20="Yes"),"Yes","No"))) | H27: =IF(TRIM(H10)="","", IF(COUNTA(H16:H26)<11,"", IF(AND(H16="Yes",H17="Yes",H18="Yes",H19="Yes",H20="Yes"),"Yes","No"))) | I27: =IF(TRIM(I10)="","", IF(COUNTA(I16:I26)<11,"", IF(AND(I16="Yes",I17="Yes",I18="Yes",I19="Yes",I20="Yes"),"Yes","No"))) | J27: =IF(TRIM(J10)="","", IF(COUNTA(J16:J26)<11,"", IF(AND(J16="Yes",J17="Yes",J18="Yes",J19="Yes",J20="Yes"),"Yes","No"))) | O27: =IF(TRIM(O10)="","", IF(COUNTA(O16:O26)<11,"", IF(AND(O16="Yes",O17="Yes",O18="Yes",O19="Yes",O20="Yes"),"Yes","No"))) | P27: =IF(TRIM(P10)="","", IF(COUNTA(P16:P26)<11,"", IF(AND(P16="Yes",P17="Yes",P18="Yes",P19="Yes",P20="Yes"),"Yes","No"))) | Q27: =IF(TRIM(Q10)="","", IF(COUNTA(Q16:Q26)<11,"", IF(AND(Q16="Yes",Q17="Yes",Q18="Yes",Q19="Yes",Q20="Yes"),"Yes","No"))) | R27: =IF(TRIM(R10)="","", IF(COUNTA(R16:R26)<11,"", IF(AND(R16="Yes",R17="Yes",R18="Yes",R19="Yes",R20="Yes"),"Yes","No"))) | S27: =IF(TRIM(S10)="","", IF(COUNTA(S16:S26)<11,"", IF(AND(S16="Yes",S17="Yes",S18="Yes",S19="Yes",S20="Yes"),"Yes","No"))) | T27: =IF(TRIM(T10)="","", IF(COUNTA(T16:T26)<11,"", IF(AND(T16="Yes",T17="Yes",T18="Yes",T19="Yes",T20="Yes"),"Yes","No"))) | U27: =IF(TRIM(U10)="","", IF(COUNTA(U16:U26)<11,"", IF(AND(U16="Yes",U17="Yes",U18="Yes",U19="Yes",U20="Yes"),"Yes","No"))) | V27: =IF(TRIM(V10)="","", IF(COUNTA(V16:V26)<11,"", IF(AND(V16="Yes",V17="Yes",V18="Yes",V19="Yes",V20="Yes"),"Yes","No"))) | W27: =IF(TRIM(W10)="","", IF(COUNTA(W16:W26)<11,"", IF(AND(W16="Yes",W17="Yes",W18="Yes",W19="Yes",W20="Yes"),"Yes","No")))
A28: Number of criteria passed | D28: =IF(TRIM(D10)="","", IF(COUNTA(D16:D26)<11,"", COUNTIF(D16:D26,"Yes"))) | E28: =IF(TRIM(E10)="","", IF(COUNTA(E16:E26)<11,"",COUNTIF(E16:E26,"Yes"))) | F28: =IF(TRIM(F10)="","", IF(COUNTA(F16:F26)<11,"",COUNTIF(F16:F26,"Yes"))) | G28: =IF(TRIM(G10)="","", IF(COUNTA(G16:G26)<11,"",COUNTIF(G16:G26,"Yes"))) | H28: =IF(TRIM(H10)="","", IF(COUNTA(H16:H26)<11,"",COUNTIF(H16:H26,"Yes"))) | I28: =IF(TRIM(I10)="","", IF(COUNTA(I16:I26)<11,"",COUNTIF(I16:I26,"Yes"))) | J28: =IF(TRIM(J10)="","", IF(COUNTA(J16:J26)<11,"",COUNTIF(J16:J26,"Yes"))) | O28: =IF(TRIM(O10)="","", IF(COUNTA(O16:O26)<11,"",COUNTIF(O16:O26,"Yes"))) | P28: =IF(TRIM(P10)="","", IF(COUNTA(P16:P26)<11,"",COUNTIF(P16:P26,"Yes"))) | Q28: =IF(TRIM(Q10)="","", IF(COUNTA(Q16:Q26)<11,"",COUNTIF(Q16:Q26,"Yes"))) | R28: =IF(TRIM(R10)="","", IF(COUNTA(R16:R26)<11,"",COUNTIF(R16:R26,"Yes"))) | S28: =IF(TRIM(S10)="","", IF(COUNTA(S16:S26)<11,"",COUNTIF(S16:S26,"Yes"))) | T28: =IF(TRIM(T10)="","", IF(COUNTA(T16:T26)<11,"",COUNTIF(T16:T26,"Yes"))) | U28: =IF(TRIM(U10)="","", IF(COUNTA(U16:U26)<11,"",COUNTIF(U16:U26,"Yes"))) | V28: =IF(TRIM(V10)="","", IF(COUNTA(V16:V26)<11,"",COUNTIF(V16:V26,"Yes"))) | W28: =IF(TRIM(W10)="","", IF(COUNTA(W16:W26)<11,"",COUNTIF(W16:W26,"Yes")))
A29: Condition Assessment Result (out of 11 criteria) | C29: Condition Assessment Score | D29: Score Achieved ×/✓
A30: Passes 9 - 11 criteria including all essential criteria A - E. | C30: Good (3) | D30: =IF(TRIM(D10)="","", IF(COUNTA(D16:D26)<11,"", IF(AND(D28>=9,D16="Yes", D17="Yes", D18="Yes", D19="Yes", D20="Yes"),"✓",""))) | E30: =IF(TRIM(E10)="","", IF(COUNTA(E16:E26)<11,"", IF(AND(E28>=9,E16="Yes", E17="Yes", E18="Yes", E19="Yes", E20="Yes"),"✓",""))) | F30: =IF(TRIM(F10)="","", IF(COUNTA(F16:F26)<11,"", IF(AND(F28>=9,F16="Yes", F17="Yes", F18="Yes", F19="Yes", F20="Yes"),"✓",""))) | G30: =IF(TRIM(G10)="","", IF(COUNTA(G16:G26)<11,"", IF(AND(G28>=9,G16="Yes", G17="Yes", G18="Yes", G19="Yes", G20="Yes"),"✓",""))) | H30: =IF(TRIM(H10)="","", IF(COUNTA(H16:H26)<11,"", IF(AND(H28>=9,H16="Yes", H17="Yes", H18="Yes", H19="Yes", H20="Yes"),"✓",""))) | I30: =IF(TRIM(I10)="","", IF(COUNTA(I16:I26)<11,"", IF(AND(I28>=9,I16="Yes", I17="Yes", I18="Yes", I19="Yes", I20="Yes"),"✓",""))) | J30: =IF(TRIM(J10)="","", IF(COUNTA(J16:J26)<11,"", IF(AND(J28>=9,J16="Yes", J17="Yes", J18="Yes", J19="Yes", J20="Yes"),"✓",""))) | O30: =IF(TRIM(O10)="","", IF(COUNTA(O16:O26)<11,"", IF(AND(O28>=9,O16="Yes", O17="Yes", O18="Yes", O19="Yes", O20="Yes"),"✓",""))) | P30: =IF(TRIM(P10)="","", IF(COUNTA(P16:P26)<11,"", IF(AND(P28>=9,P16="Yes", P17="Yes", P18="Yes", P19="Yes", P20="Yes"),"✓",""))) | Q30: =IF(TRIM(Q10)="","", IF(COUNTA(Q16:Q26)<11,"", IF(AND(Q28>=9,Q16="Yes", Q17="Yes", Q18="Yes", Q19="Yes", Q20="Yes"),"✓",""))) | R30: =IF(TRIM(R10)="","", IF(COUNTA(R16:R26)<11,"", IF(AND(R28>=9,R16="Yes", R17="Yes", R18="Yes", R19="Yes", R20="Yes"),"✓",""))) | S30: =IF(TRIM(S10)="","", IF(COUNTA(S16:S26)<11,"", IF(AND(S28>=9,S16="Yes", S17="Yes", S18="Yes", S19="Yes", S20="Yes"),"✓",""))) | T30: =IF(TRIM(T10)="","", IF(COUNTA(T16:T26)<11,"", IF(AND(T28>=9,T16="Yes", T17="Yes", T18="Yes", T19="Yes", T20="Yes"),"✓",""))) | U30: =IF(TRIM(U10)="","", IF(COUNTA(U16:U26)<11,"", IF(AND(U28>=9,U16="Yes", U17="Yes", U18="Yes", U19="Yes", U20="Yes"),"✓",""))) | V30: =IF(TRIM(V10)="","", IF(COUNTA(V16:V26)<11,"", IF(AND(V28>=9,V16="Yes", V17="Yes", V18="Yes", V19="Yes", V20="Yes"),"✓",""))) | W30: =IF(TRIM(W10)="","", IF(COUNTA(W16:W26)<11,"", IF(AND(W28>=9,W16="Yes", W17="Yes", W18="Yes", W19="Yes", W20="Yes"),"✓","")))
A31: Passes 7 or 8 criteria; OR Passes 9 - 10 criteria but fails any essential criteria (criteria A - E). | C31: Moderate (2) | D31: =IF(TRIM(D10)="","", IF(COUNTA(D16:D26)<11,"", IF(OR(D28=7,D28=8, AND(D28>=9, OR(D16<>"Yes",D17<>"Yes",D18<>"Yes",D19<>"Yes",D20<>"Yes"))),"✓",""))) | E31: =IF(TRIM(E10)="","", IF(COUNTA(E16:E26)<11,"", IF(OR(E28=7,E28=8, AND(E28>=9, OR(E16<>"Yes",E17<>"Yes",E18<>"Yes",E19<>"Yes",E20<>"Yes"))),"✓",""))) | F31: =IF(TRIM(F10)="","", IF(COUNTA(F16:F26)<11,"", IF(OR(F28=7,F28=8, AND(F28>=9, OR(F16<>"Yes",F17<>"Yes",F18<>"Yes",F19<>"Yes",F20<>"Yes"))),"✓",""))) | G31: =IF(TRIM(G10)="","", IF(COUNTA(G16:G26)<11,"", IF(OR(G28=7,G28=8, AND(G28>=9, OR(G16<>"Yes",G17<>"Yes",G18<>"Yes",G19<>"Yes",G20<>"Yes"))),"✓",""))) | H31: =IF(TRIM(H10)="","", IF(COUNTA(H16:H26)<11,"", IF(OR(H28=7,H28=8, AND(H28>=9, OR(H16<>"Yes",H17<>"Yes",H18<>"Yes",H19<>"Yes",H20<>"Yes"))),"✓",""))) | I31: =IF(TRIM(I10)="","", IF(COUNTA(I16:I26)<11,"", IF(OR(I28=7,I28=8, AND(I28>=9, OR(I16<>"Yes",I17<>"Yes",I18<>"Yes",I19<>"Yes",I20<>"Yes"))),"✓",""))) | J31: =IF(TRIM(J10)="","", IF(COUNTA(J16:J26)<11,"", IF(OR(J28=7,J28=8, AND(J28>=9, OR(J16<>"Yes",J17<>"Yes",J18<>"Yes",J19<>"Yes",J20<>"Yes"))),"✓",""))) | O31: =IF(TRIM(O10)="","", IF(COUNTA(O16:O26)<11,"", IF(OR(O28=7,O28=8, AND(O28>=9, OR(O16<>"Yes",O17<>"Yes",O18<>"Yes",O19<>"Yes",O20<>"Yes"))),"✓",""))) | P31: =IF(TRIM(P10)="","", IF(COUNTA(P16:P26)<11,"", IF(OR(P28=7,P28=8, AND(P28>=9, OR(P16<>"Yes",P17<>"Yes",P18<>"Yes",P19<>"Yes",P20<>"Yes"))),"✓",""))) | Q31: =IF(TRIM(Q10)="","", IF(COUNTA(Q16:Q26)<11,"", IF(OR(Q28=7,Q28=8, AND(Q28>=9, OR(Q16<>"Yes",Q17<>"Yes",Q18<>"Yes",Q19<>"Yes",Q20<>"Yes"))),"✓",""))) | R31: =IF(TRIM(R10)="","", IF(COUNTA(R16:R26)<11,"", IF(OR(R28=7,R28=8, AND(R28>=9, OR(R16<>"Yes",R17<>"Yes",R18<>"Yes",R19<>"Yes",R20<>"Yes"))),"✓",""))) | S31: =IF(TRIM(S10)="","", IF(COUNTA(S16:S26)<11,"", IF(OR(S28=7,S28=8, AND(S28>=9, OR(S16<>"Yes",S17<>"Yes",S18<>"Yes",S19<>"Yes",S20<>"Yes"))),"✓",""))) | T31: =IF(TRIM(T10)="","", IF(COUNTA(T16:T26)<11,"", IF(OR(T28=7,T28=8, AND(T28>=9, OR(T16<>"Yes",T17<>"Yes",T18<>"Yes",T19<>"Yes",T20<>"Yes"))),"✓",""))) | U31: =IF(TRIM(U10)="","", IF(COUNTA(U16:U26)<11,"", IF(OR(U28=7,U28=8, AND(U28>=9, OR(U16<>"Yes",U17<>"Yes",U18<>"Yes",U19<>"Yes",U20<>"Yes"))),"✓",""))) | V31: =IF(TRIM(V10)="","", IF(COUNTA(V16:V26)<11,"", IF(OR(V28=7,V28=8, AND(V28>=9, OR(V16<>"Yes",V17<>"Yes",V18<>"Yes",V19<>"Yes",V20<>"Yes"))),"✓",""))) | W31: =IF(TRIM(W10)="","", IF(COUNTA(W16:W26)<11,"", IF(OR(W28=7,W28=8, AND(W28>=9, OR(W16<>"Yes",W17<>"Yes",W18<>"Yes",W19<>"Yes",W20<>"Yes"))),"✓","")))
A32: Passes 6 or fewer criteria. | C32: Poor (1) | D32: =IF(TRIM(D10)="","", IF(COUNTA(D16:D26)<11,"", IF(AND(D28<=6),"✓",""))) | E32: =IF(TRIM(E10)="","", IF(COUNTA(E16:E26)<11,"", IF(AND(E28<=6),"✓",""))) | F32: =IF(TRIM(F10)="","", IF(COUNTA(F16:F26)<11,"", IF(AND(F28<=6),"✓",""))) | G32: =IF(TRIM(G10)="","", IF(COUNTA(G16:G26)<11,"", IF(AND(G28<=6),"✓",""))) | H32: =IF(TRIM(H10)="","", IF(COUNTA(H16:H26)<11,"", IF(AND(H28<=6),"✓",""))) | I32: =IF(TRIM(I10)="","", IF(COUNTA(I16:I26)<11,"", IF(AND(I28<=6),"✓",""))) | J32: =IF(TRIM(J10)="","", IF(COUNTA(J16:J26)<11,"", IF(AND(J28<=6),"✓",""))) | O32: =IF(TRIM(O10)="","", IF(COUNTA(O16:O26)<11,"", IF(AND(O28<=6),"✓",""))) | P32: =IF(TRIM(P10)="","", IF(COUNTA(P16:P26)<11,"", IF(AND(P28<=6),"✓",""))) | Q32: =IF(TRIM(Q10)="","", IF(COUNTA(Q16:Q26)<11,"", IF(AND(Q28<=6),"✓",""))) | R32: =IF(TRIM(R10)="","", IF(COUNTA(R16:R26)<11,"", IF(AND(R28<=6),"✓",""))) | S32: =IF(TRIM(S10)="","", IF(COUNTA(S16:S26)<11,"", IF(AND(S28<=6),"✓",""))) | T32: =IF(TRIM(T10)="","", IF(COUNTA(T16:T26)<11,"", IF(AND(T28<=6),"✓",""))) | U32: =IF(TRIM(U10)="","", IF(COUNTA(U16:U26)<11,"", IF(AND(U28<=6),"✓",""))) | V32: =IF(TRIM(V10)="","", IF(COUNTA(V16:V26)<11,"", IF(AND(V28<=6),"✓",""))) | W32: =IF(TRIM(W10)="","", IF(COUNTA(W16:W26)<11,"", IF(AND(W28<=6),"✓","")))
A33: Suggested enhancement interventions to improve condition score
A35: Footnotes
A36: Footnote 1 – Professional judgement should be used alongside the UKHab description. Footnote 2 – According to the relative abundance DAFOR scale – Dominant, Abundant, Frequent, Occasional or Rare. Footnote 3 – Wildlife and Countryside Act 1981 (as amended). Footnote 4 – Assess this for each distinct habitat parcel. If the distribution of invasive non-native species varies across the habitat, split into parcels accordingly, applying a buffer zone around the invasive non-native species with a size relative to its risk of spread into adjacent habitat, using professional judgement. Footnote 5 – Professional judgement should be used to assess this and evidence should be provided according to the INSTRUCTIONS Tab of this spreadsheet. Definition of sensitive areas: (a) Vegetation severely wind-clipped, mostly forming a mat less than 10 cm thick. (b) Areas where soils are thin and less than 5 cm deep. (c) Hill slopes greater than 1 in 2 (26o), and all the sides of gullies. (d) Ground with abundant, and or an almost continuous carpet of Sphagnum moss Sphagnum spp., bilberry Vaccinium myrtillus, liverworts and or lichens. (e) Areas with noticeably uneven structure, at a spatial scale of around 1 m2 or less. The unevenness (more commonly found in very old heather stands) will relate to distinct, often large, spreading dwarf shrub bushes. The dwarf shrub canopy will not be completely continuous, and some of its upper surface may be twice as high as other parts. Layering is likely to be present and may be common. (f) Pools, wet hollows, peat haggs and erosion gullies within 10 m of the edge of watercourses. Footnote 6 – Cover of bracken may exceed 5% where there is an identified biodiversity benefit, for example bracken beds in the South Pennines as nesting sites for twite Linaria flavirostris. Footnote 7 – Damaging activities include: accidental or unmanaged fires; managed fires on wet heath; excessive poaching; damage from machinery use or storage; and damaging levels of public access resulting in trampling and or litter.

Sheet 9.INDIVIDUAL TREES
A1: Condition Sheet: INDIVIDUAL TREES Habitat Type
A2: Habitat Types
A3: Individual trees – Urban trees Individual trees – Rural trees Complete a condition sheet for each tree or block of trees. Please see the separate Line of trees condition sheet for a line of rural trees. You should only use the Line of trees condition assessment and record that habitat type in rural locations.
A4: Habitat Description
A6: Individual trees (description applied to the urban or rural environment): Young trees over 7.5 cm in diameter at breast height whose canopies are not touching. Urban Perimeter / Linear Blocks and Groups (description applied to the urban environment only): Groups or stands of trees (size requirement as defined above) within and around the perimeter of urban land. This includes those along urban streets, highways, railways and canals, and also former field boundary trees incorporated into developments. Canopies should predominantly overlap continuously. Groups of urban trees that don’t match the descriptions for woodland may be assessed within this category.
A7: On-site or off-site, site name and location | C7: ='SURVEY COVER SHEET '!D4&" - "&'SURVEY COVER SHEET '!D2 -> On-site - Reading Gateway | D7: Survey date and Surveyor name | G7: =TEXT('SURVEY COVER SHEET '!$B$2,"dd/mm/yyyy")&" - "&'SURVEY COVER SHEET '!$B$4 -> 19/03/2026 - Ben Wagstffe
C8: ='SURVEY COVER SHEET '!D5&" - "&'SURVEY COVER SHEET '!D3 -> - | D8: Survey reference (if relating to a wider survey)
A9: Limitations (if applicable) | D9: Habitat parcel reference
D10: 1 | E10: 2
D11: Grid reference
A12: Condition Assessment Criteria | D12: SU 71568 69217 | E12: SU 71569 69214
D13: Criterion passed (Yes or No) | AM13: Notes (such as justification)
A14: A | B14: The tree is a native species (or at least 70% within the block are native species). | D14: Yes | E14: Yes
A15: B | B15: The tree canopy is predominantly continuous, with gaps in canopy cover making up <10% of total area and no individual gap being >5 m wide (individual trees automatically pass this criterion). | D15: Yes | E15: Yes
A16: C | B16: The tree is mature (or more than 50% within the block are mature)1. | D16: No | E16: No
A17: D | B17: There is little or no evidence of an adverse impact on tree health by human activities (such as vandalism, herbicide or detrimental agricultural activity). And there is no current regular pruning regime, so the trees retain >75% of expected canopy for their age range and height. | D17: Yes | E17: Yes
A18: E | B18: Natural ecological niches for vertebrates and invertebrates are present, such as presence of deadwood, cavities, ivy or loose bark. | D18: No | E18: No
A19: F | B19: More than 20% of the tree canopy area is oversailing vegetation beneath. | D19: Yes | E19: Yes
A20: Number of criteria passed | D20: =IF(COUNTA(D14:D19)<6,"", COUNTIF(D14:D19,"Yes")) -> 4 | E20: =IF(COUNTA(E14:E19)<6,"", COUNTIF(E14:E19,"Yes")) -> 4 | F20: =IF(COUNTA(F14:F19)<6,"", COUNTIF(F14:F19,"Yes")) | G20: =IF(COUNTA(G14:G19)<6,"", COUNTIF(G14:G19,"Yes")) | H20: =IF(COUNTA(H14:H19)<6,"", COUNTIF(H14:H19,"Yes")) | I20: =IF(COUNTA(I14:I19)<6,"", COUNTIF(I14:I19,"Yes")) | J20: =IF(COUNTA(J14:J19)<6,"", COUNTIF(J14:J19,"Yes")) | K20: =IF(COUNTA(K14:K19)<6,"", COUNTIF(K14:K19,"Yes")) | ... AL20: =IF(COUNTA(AL14:AL19)<6,"", COUNTIF(AL14:AL19,"Yes"))
A21: Condition Assessment Result (out of 6 criteria) | C21: Condition Assessment Score | D21: Score Achieved ×/✓
A22: Passes 5 or 6 criteria | C22: Good (3) | D22: =IF(COUNTA(D14:D19)<6,"", IF(D20>=5,"✓","")) | E22: =IF(COUNTA(E14:E19)<6,"", IF(E20>=5,"✓","")) | F22: =IF(COUNTA(F14:F19)<6,"", IF(F20>=5,"✓","")) | G22: =IF(COUNTA(G14:G19)<6,"", IF(G20>=5,"✓","")) | H22: =IF(COUNTA(H14:H19)<6,"", IF(H20>=5,"✓","")) | I22: =IF(COUNTA(I14:I19)<6,"", IF(I20>=5,"✓","")) | J22: =IF(COUNTA(J14:J19)<6,"", IF(J20>=5,"✓","")) | K22: =IF(COUNTA(K14:K19)<6,"", IF(K20>=5,"✓","")) | ... AL22: =IF(COUNTA(AL14:AL19)<6,"", IF(AL20>=5,"✓",""))
A23: Passes 3 or 4 criteria | C23: Moderate (2) | D23: =IF(COUNTA(D14:D19)<6,"", IF(OR(D20=3,D20=4),"✓","")) -> ✓ | E23: =IF(COUNTA(E14:E19)<6,"", IF(OR(E20=3,E20=4),"✓","")) -> ✓ | F23: =IF(COUNTA(F14:F19)<6,"", IF(OR(F20=3,F20=4),"✓","")) | G23: =IF(COUNTA(G14:G19)<6,"", IF(OR(G20=3,G20=4),"✓","")) | H23: =IF(COUNTA(H14:H19)<6,"", IF(OR(H20=3,H20=4),"✓","")) | I23: =IF(COUNTA(I14:I19)<6,"", IF(OR(I20=3,I20=4),"✓","")) | J23: =IF(COUNTA(J14:J19)<6,"", IF(OR(J20=3,J20=4),"✓","")) | K23: =IF(COUNTA(K14:K19)<6,"", IF(OR(K20=3,K20=4),"✓","")) | ... AL23: =IF(COUNTA(AL14:AL19)<6,"", IF(OR(AL20=3,AL20=4),"✓",""))
A24: Passes 2 or fewer criteria | C24: Poor (1) | D24: =IF(COUNTA(D14:D19)<6,"", IF(D20<=2,"✓","")) | E24: =IF(COUNTA(E14:E19)<6,"", IF(E20<=2,"✓","")) | F24: =IF(COUNTA(F14:F19)<6,"", IF(F20<=2,"✓","")) | G24: =IF(COUNTA(G14:G19)<6,"", IF(G20<=2,"✓","")) | H24: =IF(COUNTA(H14:H19)<6,"", IF(H20<=2,"✓","")) | I24: =IF(COUNTA(I14:I19)<6,"", IF(I20<=2,"✓","")) | J24: =IF(COUNTA(J14:J19)<6,"", IF(J20<=2,"✓","")) | K24: =IF(COUNTA(K14:K19)<6,"", IF(K20<=2,"✓","")) | ... AL24: =IF(COUNTA(AL14:AL19)<6,"", IF(AL20<=2,"✓",""))
A25: Note that ‘Fairly Good and Fairly Poor’ condition categories are not available for this broad habitat type.
A26: Suggested enhancement interventions to improve condition score2
A28: Footnotes
A29: Footnote 1 - See gov.uk standing advice on ancient and veteran trees. Available from:
A30: Keepers of time: ancient and native woodland and trees policy in England (publishing.service.gov.uk)
A31: and:
A32: Ancient woodland, ancient trees and veteran trees: advice for making planning decisions - GOV.UK (www.gov.uk)
A33: Footnote 2 - Enhancement of this habitat type is only possible by improving the habitat so that it meets all Criteria B, D and F. It is not possible or appropriate to enhance individual tree/s through meeting just one or two of those Criteria, nor by meeting Criteria A, C or E.

Sheet 8. HEDGEROW
A1: Condition sheet: HEDGEROW Habitat Types
A2: Habitat Type
A3: Native hedgerow Native hedgerow - associated with bank or ditch Native hedgerow with trees Native hedgerow with trees - associated with bank or ditch Species-rich native hedgerow Species-rich native hedgerow - associated with bank or ditch Species-rich native hedgerow with trees Species-rich native hedgerow with trees - associated with bank or ditch
A4: Habitat Description
A6: ukhab – UK Habitat Classification
A7: On-site or off-site, site name and location | C7: ='SURVEY COVER SHEET '!D4&" - "&'SURVEY COVER SHEET '!D2 -> On-site - Reading Gateway | E7: Survey date and Surveyor name | F7: =TEXT('SURVEY COVER SHEET '!$B$2,"dd/mm/yyyy")&" - "&'SURVEY COVER SHEET '!$B$4 -> 19/03/2026 - Ben Wagstffe | G7: See cover sheet | H7: See cover sheet | U7: See cover sheet | V7: See cover sheet | X7: See cover sheet | Y7: See cover sheet | Z7: See cover sheet | AA7: See cover sheet
A8: Limitations (if applicable) | E8: Survey reference (if relating to a wider survey)
A9: Condition Assessment Details
A10: A series of ten attributes, representing key physical characteristics are used for this assessment. Each attribute is assigned to one of five functional groups (A – E) and the condition of a hedgerow is assessed according to the number of attributes from these functional groups which pass or fail the ‘favourable condition’ criteria. This assessment is based on the Hedgerow Survey Handbook1 and Favourable Conservation Status document2. For further clarification please refer to the Hedgerow Survey Handbook. Best practice would be to record the species, age, spacing and other key information about all trees present along a hedgerow within the 'Habitat Description' box, as well as other key features of the hedgerow.
A11: Hedgerow favourable condition attributes
A12: Attributes and functional groupings (A, B, C, D and E) | C12: Criteria - the minimum requirements for ‘favourable condition’ | D12: Criteria description | G12: Habitat Type
G13: Native hedgerow
G14: Habitat parcel reference
G15: 1
G16: Grid reference
G17: SU 71566 69215
A18: Core groups - applicable to all hedgerow types | G18: Criterion passed (Yes or No) | AA18: Notes (such as justification)
