Workbook

Sheet SURVEY COVER SHEET 
A1: Survey Cover Sheet
A2: Survey date/s | B2: 46100 | C2: Site name or location | D2: Reading Gateway
A3: Weather conditions | C3: Project or development name
A4: Surveyor name | B4: Ben Wagstffe | C4: On-site or off-site | D4: On-site
A5: Survey reference | C5: Reason for assessment (if not baseline condition survey)
A6: Notes

Sheet CA SUMMARY SHEET
A1: Condition sheets | B1: Total number of habitat parcels | C1: Number of parcels of each condition achieved | H1: Notes
C2: Good | D2: Fairly Good | E2: Moderate | F2: Fairly Poor | G2: Poor
A3: Coastal
A4: Coastal lagoons
A5: Coastal saltmarsh
A6: Ditches | C6: =COUNTIF('4. DITCH'!D24:W24,"✓") -> 0 | E6: =COUNTIF('4. DITCH'!D25:W25,"✓") -> 0 | G6: =COUNTIF('4. DITCH'!D26:W26,"✓") -> 0
A7: Grassland low distinctiveness | C7: =COUNTIF('5. GRASSLAND LOW'!D24:W24,"✓") -> 0 | E7: =COUNTIF('5. GRASSLAND LOW'!D25:W25,"✓") -> 0 | G7: =COUNTIF('5. GRASSLAND LOW'!D26:W26,"✓") -> 0
A8: Grassland medium, high, very high distinctiveness | C8: =COUNTIF('6. GRASSLAND MED HIGH & V.HIGH'!D28:W28,"✓") + COUNTIF('6. GRASSLAND MED HIGH & V.HIGH'!D32:W32,"✓") -> 0 | E8: =COUNTIF('6. GRASSLAND MED HIGH & V.HIGH'!D29:W29,"✓") + COUNTIF('6. GRASSLAND MED HIGH & V.HIGH'!D33:W33,"✓") -> 0 | G8: =COUNTIF('6. GRASSLAND MED HIGH & V.HIGH'!D30:W30,"✓") + COUNTIF('6. GRASSLAND MED HIGH & V.HIGH'!D33:W33,"✓") -> 0
A9: Heathland | C9: =COUNTIF('7. HEATHLAND'!D30:W30,"✓") -> 0 | E9: =COUNTIF('7. HEATHLAND'!D31:W31,"✓") -> 0 | G9: =COUNTIF('7. HEATHLAND'!D32:W32,"✓") -> 0
A10: Hedgerow | C10: =COUNTIF('8. HEDGEROW'!G36:Z36,"✓") + COUNTIF('8. HEDGEROW'!G41:Z41,"✓") -> 0 | E10: =COUNTIF('8. HEDGEROW'!G37:Z37,"✓") + COUNTIF('8. HEDGEROW'!G42:Z42,"✓") -> 1 | G10: =COUNTIF('8. HEDGEROW'!G38:Z38,"✓") + COUNTIF('8. HEDGEROW'!G43:Z43,"✓") -> 0
A11: Individual trees | C11: =COUNTIF('9.INDIVIDUAL TREES'!D22:AL22,"✓") -> 0 | E11: =COUNTIF('9.INDIVIDUAL TREES'!D23:AL23,"✓") -> 2 | G11: =COUNTIF('9.INDIVIDUAL TREES'!D24:AL24,"✓") -> 0
A12: Intertidal biogenic reefs
A13: Intertidal hard structures
A14: Intertidal seagrass
A15: Intertidal sediment
A16: Lakes
A17: Limestone pavement
A18: Line of trees | C18: =COUNTIF('16.LINE OF TREES'!D23:W23,"✓") -> 0 | E18: =COUNTIF('16.LINE OF TREES'!D24:W24,"✓") -> 0 | G18: =COUNTIF('16.LINE OF TREES'!D25:W25,"✓") -> 0
A19: Orchard | C19: =COUNTIF('17.ORCHARD'!D25:W25,"✓") -> 0 | E19: =COUNTIF('17.ORCHARD'!D26:W26,"✓") -> 0 | G19: =COUNTIF('17.ORCHARD'!D27:W27,"✓") -> 0
A20: Ponds | C20: =COUNTIF('18.POND'!D30:W30,"✓") + COUNTIF('18.POND'!D34:W34,"✓") -> 0 | E20: =COUNTIF('18.POND'!D31:W31,"✓") + COUNTIF('18.POND'!D35:W35,"✓") -> 0 | G20: =COUNTIF('18.POND'!D32:W32,"✓") + COUNTIF('18.POND'!D36:W36,"✓") -> 0
A21: Rocky shore
A22: Scrub | C22: =COUNTIF('20. SCRUB'!D24:W24,"✓") -> 0 | E22: =COUNTIF('20. SCRUB'!D25:W25,"✓") -> 0 | G22: =COUNTIF('20. SCRUB'!D25:W25,"✓") -> 0
A23: Sparsely vegetated land
A24: Urban | C24: =COUNTIF('22.URBAN'!D33:W33,"✓") + COUNTIF('22.URBAN'!D37:W37,"✓") + COUNTIF('22.URBAN'!D41:W41,"✓") -> 0 | E24: =COUNTIF('22.URBAN'!D34:W34,"✓") + COUNTIF('22.URBAN'!D38:W38,"✓") + COUNTIF('22.URBAN'!D42:W42,"✓") -> 0 | G24: =COUNTIF('22.URBAN'!D35:W35,"✓") + COUNTIF('22.URBAN'!D39:W39,"✓") + COUNTIF('22.URBAN'!D43:W43,"✓") -> 2
A25: Wetland | C25: =COUNTIF('23.WETLAND'!D40:W40,"✓") + COUNTIF('23.WETLAND'!D44:W44,"✓") -> 0 | E25: =COUNTIF('23.WETLAND'!D41:W41,"✓") + COUNTIF('23.WETLAND'!D45:W45,"✓") -> 0 | G25: =COUNTIF('23.WETLAND'!D42:W42,"✓") + COUNTIF('23.WETLAND'!D46:W46,"✓") -> 0
A26: Woodland | C26: =COUNTIF('24.WOODLAND'!F33:X33,"✓") -> 0 | E26: =COUNTIF('24.WOODLAND'!F34:X34,"✓") -> 0 | G26: =COUNTIF('24.WOODLAND'!F35:X35,"✓") -> 0
A27: Wood-pasture and parkland | C27: =COUNTIF('25.WOOD-PASTURE & PARKLAND'!D25:W25,"✓") -> 0 | E27: =COUNTIF('25.WOOD-PASTURE & PARKLAND'!D26:W26,"✓") -> 0 | G27: =COUNTIF('25.WOOD-PASTURE & PARKLAND'!D26:W26,"✓") -> 0

Sheet 4. DITCH
A1: Condition Sheet: DITCH Habitat Type
A2: Habitat Type
A3: Watercourses - Ditches
A4: Habitat Description
A5: See the Statutory Biodiversity Metric User Guide.
A7: On-site or off-site, site name and location | C7: ='SURVEY COVER SHEET '!D4&" - "&'SURVEY COVER SHEET '!D2 -> On-site - Reading Gateway | D7: Survey date and Surveyor name | G7: =TEXT('SURVEY COVER SHEET '!$B$2,"dd/mm/yyyy")&" - "&'SURVEY COVER SHEET '!$B$4 -> 19/03/2026 - Ben Wagstffe
A8: Limitations (if applicable) | D8: Survey reference (if relating to a wider survey)
D9: Habitat parcel reference
D11: Grid reference
A12: Condition Assessment Criteria
D13: Criterion passed (Yes or No) | X13: Notes (such as justification)
A14: A | B14: The ditch is of good water quality, with clear water (low turbidity) indicating no obvious signs of pollution.
A15: B | B15: A range of emergent, submerged and floating-leaved plants are present. As a guide >10 species of emergent, floating or submerged plants present in a 20 m ditch length.
A16: C | B16: There is less than 10% cover of filamentous algae and or duckweed Lemna spp. (these are signs of eutrophication).
A17: D | B17: A fringe of aquatic marginal vegetation is present along more than 75% of the ditch.
A18: E | B18: Physical damage is evident along less than 5% of the ditch, with examples of damage including: excessive poaching, damage from machinery use or storage, or any other damaging management activities.
A19: F | B19: Sufficient water levels are maintained - as a guide a minimum summer depth of approximately 50 cm in minor ditches and 1 m in main drains.
A20: G | B20: Less than 10% of the ditch is heavily shaded.
A21: H | B21: There is an absence of non-native plant and animal species1.
A22: Number of criteria passed | D22: =IF(COUNTA(D14:D21)<8,"", COUNTIF(D14:D21,"Yes")) | E22: =IF(COUNTA(E14:E21)<8,"", COUNTIF(E14:E21,"Yes")) | F22: =IF(COUNTA(F14:F21)<8,"", COUNTIF(F14:F21,"Yes")) | G22: =IF(COUNTA(G14:G21)<8,"", COUNTIF(G14:G21,"Yes")) | H22: =IF(COUNTA(H14:H21)<8,"", COUNTIF(H14:H21,"Yes")) | N22: =IF(COUNTA(N14:N21)<8,"", COUNTIF(N14:N21,"Yes")) | O22: =IF(COUNTA(O14:O21)<8,"", COUNTIF(O14:O21,"Yes")) | P22: =IF(COUNTA(P14:P21)<8,"", COUNTIF(P14:P21,"Yes")) | Q22: =IF(COUNTA(Q14:Q21)<8,"", COUNTIF(Q14:Q21,"Yes")) | R22: =IF(COUNTA(R14:R21)<8,"", COUNTIF(R14:R21,"Yes")) | S22: =IF(COUNTA(S14:S21)<8,"", COUNTIF(S14:S21,"Yes")) | T22: =IF(COUNTA(T14:T21)<8,"", COUNTIF(T14:T21,"Yes")) | U22: =IF(COUNTA(U14:U21)<8,"", COUNTIF(U14:U21,"Yes")) | ... W22: =IF(COUNTA(W14:W21)<8,"", COUNTIF(W14:W21,"Yes"))
A23: Condition Assessment Result (out of 8 criteria) | C23: Condition Assessment Score | D23: Score Achieved ×/✓
A24: Passes 8 criteria | C24: Good (3) | D24: =IF(COUNTA(D14:D21)<8,"", IF(D22=8,"✓","")) | E24: =IF(COUNTA(E14:E21)<8,"", IF(E22=8,"✓","")) | F24: =IF(COUNTA(F14:F21)<8,"", IF(F22=8,"✓","")) | G24: =IF(COUNTA(G14:G21)<8,"", IF(G22=8,"✓","")) | H24: =IF(COUNTA(H14:H21)<8,"", IF(H22=8,"✓","")) | N24: =IF(COUNTA(N14:N21)<8,"", IF(N22=8,"✓","")) | O24: =IF(COUNTA(O14:O21)<8,"", IF(O22=8,"✓","")) | P24: =IF(COUNTA(P14:P21)<8,"", IF(P22=8,"✓","")) | Q24: =IF(COUNTA(Q14:Q21)<8,"", IF(Q22=8,"✓","")) | R24: =IF(COUNTA(R14:R21)<8,"", IF(R22=8,"✓","")) | S24: =IF(COUNTA(S14:S21)<8,"", IF(S22=8,"✓","")) | T24: =IF(COUNTA(T14:T21)<8,"", IF(T22=8,"✓","")) | U24: =IF(COUNTA(U14:U21)<8,"", IF(U22=8,"✓","")) | ... W24: =IF(COUNTA(W14:W21)<8,"", IF(W22=8,"✓",""))
A25: Passes 6 or 7 criteria | C25: Moderate (2) | D25: =IF(COUNTA(D14:D21)<8,"", IF(OR(D22=7,D22=6),"✓","")) | E25: =IF(COUNTA(E14:E21)<8,"", IF(OR(E22=7,E22=6),"✓","")) | F25: =IF(COUNTA(F14:F21)<8,"", IF(OR(F22=7,F22=6),"✓","")) | G25: =IF(COUNTA(G14:G21)<8,"", IF(OR(G22=7,G22=6),"✓","")) | H25: =IF(COUNTA(H14:H21)<8,"", IF(OR(H22=7,H22=6),"✓","")) | N25: =IF(COUNTA(N14:N21)<8,"", IF(OR(N22=7,N22=6),"✓","")) | O25: =IF(COUNTA(O14:O21)<8,"", IF(OR(O22=7,O22=6),"✓","")) | P25: =IF(COUNTA(P14:P21)<8,"", IF(OR(P22=7,P22=6),"✓","")) | Q25: =IF(COUNTA(Q14:Q21)<8,"", IF(OR(Q22=7,Q22=6),"✓","")) | R25: =IF(COUNTA(R14:R21)<8,"", IF(OR(R22=7,R22=6),"✓","")) | S25: =IF(COUNTA(S14:S21)<8,"", IF(OR(S22=7,S22=6),"✓","")) | T25: =IF(COUNTA(T14:T21)<8,"", IF(OR(T22=7,T22=6),"✓","")) | U25: =IF(COUNTA(U14:U21)<8,"", IF(OR(U22=7,U22=6),"✓","")) | ... W25: =IF(COUNTA(W14:W21)<8,"", IF(OR(W22=7,W22=6),"✓",""))
A26: Passes 5 or fewer criteria | C26: Poor (1) | D26: =IF(COUNTA(D14:D21)<8,"", IF(D22<=5,"✓","")) | E26: =IF(COUNTA(E14:E21)<8,"", IF(E22<=5,"✓","")) | F26: =IF(COUNTA(F14:F21)<8,"", IF(F22<=5,"✓","")) | G26: =IF(COUNTA(G14:G21)<8,"", IF(G22<=5,"✓","")) | H26: =IF(COUNTA(H14:H21)<8,"", IF(H22<=5,"✓","")) | N26: =IF(COUNTA(N14:N21)<8,"", IF(N22<=5,"✓","")) | O26: =IF(COUNTA(O14:O21)<8,"", IF(O22<=5,"✓","")) | P26: =IF(COUNTA(P14:P21)<8,"", IF(P22<=5,"✓","")) | Q26: =IF(COUNTA(Q14:Q21)<8,"", IF(Q22<=5,"✓","")) | R26: =IF(COUNTA(R14:R21)<8,"", IF(R22<=5,"✓","")) | S26: =IF(COUNTA(S14:S21)<8,"", IF(S22<=5,"✓","")) | T26: =IF(COUNTA(T14:T21)<8,"", IF(T22<=5,"✓","")) | U26: =IF(COUNTA(U14:U21)<8,"", IF(U22<=5,"✓","")) | ... W26: =IF(COUNTA(W14:W21)<8,"", IF(W22<=5,"✓",""))
A27: Suggested enhancement interventions to improve condition score
A29: Footnotes
A30: Footnote 1 – This includes any species listed on the Water Framework Directive UKTAG GB High Impact Species List: Water Framework Directive (WFD) UKTAG (2021) Classification of aquatic alien species according to their level of impact [online]. Available from:
A31: UKTAG classification of alien species working paper v8.pdf (wfduk.org)
A32: • Frequently occurring non-native plant species include water fern Azolla filiculoides, Australian swamp stonecrop Crassula helmsii, parrot’s feather Myriophyllum aquaticum, floating pennywort Hydrocotyle ranunculoides, Japanese knotweed Reynoutria japonica and giant hogweed Heracleum mantegazzianum (on the bank). • Frequently occurring non-native animals include signal crayfish Pacifastacus leniusculus, zebra mussel Dreissena polymorpha, killer shrimp Dikerogammarus villosus, demon shrimp Dikerogammarus haemobaphes, and carp Cyprinus carpio.

Sheet 5. GRASSLAND LOW
A1: Condition Sheet: GRASSLAND Habitat Type (low distinctiveness)
A2: UK Habitat Classification (UKHab) Habitat Type
A3: Grassland - Modified grassland
A4: Habitat Description
A6: ukhab – UK Habitat Classification
A7: On-site or off-site, site name and location | C7: ='SURVEY COVER SHEET '!D4&" - "&'SURVEY COVER SHEET '!D2 -> On-site - Reading Gateway | D7: Survey date and Surveyor name | F7: =TEXT('SURVEY COVER SHEET '!$B$2,"dd/mm/yyyy")&" - "&'SURVEY COVER SHEET '!$B$4 -> 19/03/2026 - Ben Wagstffe
C8: ='SURVEY COVER SHEET '!D5&" - "&'SURVEY COVER SHEET '!D3 -> - | D8: Survey reference (if relating to a wider survey)
A9: Limitations (if applicable) | D9: Habitat parcel reference
D11: Grid reference
A12: Condition Assessment Criteria
D13: Criterion passed (Yes or No) | X13: Notes (such as justification)
A14: A | B14: There are 6-8 vascular plant species per m2 present, including at least 2 forbs (these may include those listed in Footnote 1). Note - this criterion is essential for achieving Moderate or Good condition. Where the vascular plant species present are characteristic of medium, high or very high distinctiveness grassland, or there are 9 or more of these characteristic species per m2 (excluding those listed in Footnote 1), please review the full UKHab description to assess whether the grassland should instead be classified as a higher distinctiveness grassland. Where a grassland is classed as medium, high, or very high distinctiveness, please use the relevant condition sheet.
A15: B | B15: Sward height is varied (at least 20% of the sward is less than 7 cm and at least 20% is more than 7 cm) creating microclimates which provide opportunities for vertebrates and invertebrates to live and breed.
A16: C | B16: Any scrub present accounts for less than 20% of the total grassland area. (Some scattered scrub such as bramble Rubus fruticosus agg. may be present). Note - patches of scrub with continuous (more than 90%) cover should be classified as the relevant scrub habitat type.
A17: D | B17: Physical damage is evident in less than 5% of total grassland area. Examples of physical damage include excessive poaching, damage from machinery use or storage, erosion caused by high levels of access, or any other damaging management activities.
A18: E | B18: Cover of bare ground is between 1% and 10%, including localised areas (for example, a concentration of rabbit warrens)2.
A19: F | B19: Cover of bracken Pteridium aquilinum is less than 20%.
A20: G | B20: There is an absence of invasive non-native plant species3 (as listed on Schedule 9 of WCA4).
A21: Essential criterion achieved (Yes or No) | D21: =IF(COUNTA(D14:D20)<7,"",IF(D14="Yes","Yes","No")) | E21: =IF(COUNTA(E14:E20)<7,"",IF(E14="Yes","Yes","No")) | F21: =IF(COUNTA(F14:F20)<7,"",IF(F14="Yes","Yes","No")) | G21: =IF(COUNTA(G14:G20)<7,"",IF(G14="Yes","Yes","No")) | H21: =IF(COUNTA(H14:H20)<7,"",IF(H14="Yes","Yes","No")) | I21: =IF(COUNTA(I14:I20)<7,"",IF(I14="Yes","Yes","No")) | J21: =IF(COUNTA(J14:J20)<7,"",IF(J14="Yes","Yes","No")) | K21: =IF(COUNTA(K14:K20)<7,"",IF(K14="Yes","Yes","No")) | ... W21: =IF(COUNTA(W14:W20)<7,"",IF(W14="Yes","Yes","No"))
A22: Number of criteria passed | D22: =IF(COUNTA(D14:D20)<7,"",COUNTIF(D14:D20,"Yes")) | E22: =IF(COUNTA(E14:E20)<7,"",COUNTIF(E14:E20,"Yes")) | F22: =IF(COUNTA(F14:F20)<7,"",COUNTIF(F14:F20,"Yes")) | G22: =IF(COUNTA(G14:G20)<7,"",COUNTIF(G14:G20,"Yes")) | H22: =IF(COUNTA(H14:H20)<7,"",COUNTIF(H14:H20,"Yes")) | I22: =IF(COUNTA(I14:I20)<7,"",COUNTIF(I14:I20,"Yes")) | J22: =IF(COUNTA(J14:J20)<7,"",COUNTIF(J14:J20,"Yes")) | K22: =IF(COUNTA(K14:K20)<7,"",COUNTIF(K14:K20,"Yes")) | ... W22: =IF(COUNTA(W14:W20)<7,"",COUNTIF(W14:W20,"Yes"))
A23: Condition Assessment Result (out of 7 criteria) | C23: Condition Assessment Score | D23: Score Achieved ×/✓
A24: Passes 6 or 7 criteria including passing essential criterion A | C24: Good (3) | D24: =IF(COUNTA(D14:D20)<7,"", IF(AND(D22>=6, D14="Yes"),"✓","")) | E24: =IF(COUNTA(E14:E20)<7,"", IF(AND(E22>=6, E14="Yes"),"✓","")) | F24: =IF(COUNTA(F14:F20)<7,"", IF(AND(F22>=6, F14="Yes"),"✓","")) | G24: =IF(COUNTA(G14:G20)<7,"", IF(AND(G22>=6, G14="Yes"),"✓","")) | H24: =IF(COUNTA(H14:H20)<7,"", IF(AND(H22>=6, H14="Yes"),"✓","")) | I24: =IF(COUNTA(I14:I20)<7,"", IF(AND(I22>=6, I14="Yes"),"✓","")) | J24: =IF(COUNTA(J14:J20)<7,"", IF(AND(J22>=6, J14="Yes"),"✓","")) | K24: =IF(COUNTA(K14:K20)<7,"", IF(AND(K22>=6, K14="Yes"),"✓","")) | ... W24: =IF(COUNTA(W14:W20)<7,"", IF(AND(W22>=6, W14="Yes"),"✓",""))
A25: Passes 4 or 5 criteria including passing essential criterion A | C25: Moderate (2) | D25: =IF(COUNTA(D14:D20)<7,"", IF(AND(D22>=4,D22<=5,D14="Yes"),"✓","")) | E25: =IF(COUNTA(E14:E20)<7,"", IF(AND(E22>=4,E22<=5,E14="Yes"),"✓","")) | F25: =IF(COUNTA(F14:F20)<7,"", IF(AND(F22>=4,F22<=5,F14="Yes"),"✓","")) | G25: =IF(COUNTA(G14:G20)<7,"", IF(AND(G22>=4,G22<=5,G14="Yes"),"✓","")) | H25: =IF(COUNTA(H14:H20)<7,"", IF(AND(H22>=4,H22<=5,H14="Yes"),"✓","")) | I25: =IF(COUNTA(I14:I20)<7,"", IF(AND(I22>=4,I22<=5,I14="Yes"),"✓","")) | J25: =IF(COUNTA(J14:J20)<7,"", IF(AND(J22>=4,J22<=5,J14="Yes"),"✓","")) | K25: =IF(COUNTA(K14:K20)<7,"", IF(AND(K22>=4,K22<=5,K14="Yes"),"✓","")) | ... W25: =IF(COUNTA(W14:W20)<7,"", IF(AND(W22>=4,W22<=5,W14="Yes"),"✓",""))
A26: Passes 3 or fewer criteria; OR Passes 4 - 6 criteria (excluding criterion A) | C26: Poor (1) | D26: =IF(COUNTA(D14:D20)<7,"", IF(OR(D22<=3,AND(D22>=1,D14="No")),"✓","")) | E26: =IF(COUNTA(E14:E20)<7,"", IF(OR(E22<=3,AND(E22>=1,E14="No")),"✓","")) | F26: =IF(COUNTA(F14:F20)<7,"", IF(OR(F22<=3,AND(F22>=1,F14="No")),"✓","")) | G26: =IF(COUNTA(G14:G20)<7,"", IF(OR(G22<=3,AND(G22>=1,G14="No")),"✓","")) | H26: =IF(COUNTA(H14:H20)<7,"", IF(OR(H22<=3,AND(H22>=1,H14="No")),"✓","")) | I26: =IF(COUNTA(I14:I20)<7,"", IF(OR(I22<=3,AND(I22>=1,I14="No")),"✓","")) | J26: =IF(COUNTA(J14:J20)<7,"", IF(OR(J22<=3,AND(J22>=1,J14="No")),"✓","")) | K26: =IF(COUNTA(K14:K20)<7,"", IF(OR(K22<=3,AND(K22>=1,K14="No")),"✓","")) | ... W26: =IF(COUNTA(W14:W20)<7,"", IF(OR(W22<=3,AND(W22>=1,W14="No")),"✓",""))
A27: Suggested enhancement interventions to improve condition score
A29: Footnotes
A30: Footnote 1 – Creeping thistle Cirsium arvense, spear thistle Cirsium vulgare, curled dock Rumex crispus, broad-leaved dock Rumex obtusifolius, common nettle Urtica dioica, creeping buttercup Ranunculus repens, greater plantain Plantago major, white clover Trifolium repens and cow parsley Anthriscus sylvestris. Footnote 2 – For example, this could include small, scattered areas of bare ground allowing establishment of new species, or localised patches where not exceeding 10% cover. Footnote 3 – Assess this for each distinct habitat parcel. If the distribution of invasive non-native species varies across the habitat, split into parcels accordingly, applying a buffer zone around the invasive non-native species with a size relative to its risk of spread into adjacent habitat, using professional judgement. Footnote 4 – Wildlife and Countryside Act 1981 (as amended).

Sheet 6. GRASSLAND MED HIGH & V.HIGH
A1: Condition Sheet: GRASSLAND Habitat Type (medium, high and very high distinctiveness)
A2: UK Habitat Classification (UKHab) Habitat Types
A3: Grassland - Lowland calcareous grassland Grassland - Lowland dry acid grassland Grassland - Lowland meadows Grassland - Other lowland acid grassland Grassland - Other neutral grassland Grassland - Tall herb communities (H6430) [Not to be confused with the Tall forbs secondary code – see UKHab guidance for details.] Grassland - Upland acid grassland Grassland - Upland calcareous grassland Grassland - Upland hay meadows Sparsely vegetated land - Calaminarian grassland
A4: Habitat Description
A6: ukhab – UK Habitat Classification
A7: On-site or off-site, site name and location | C7: ='SURVEY COVER SHEET '!D4&" - "&'SURVEY COVER SHEET '!D2 -> On-site - Reading Gateway | D7: Survey date and Surveyor name | G7: =TEXT('SURVEY COVER SHEET '!$B$2,"dd/mm/yyyy")&" - "&'SURVEY COVER SHEET '!$B$4 -> 19/03/2026 - Ben Wagstffe
C8: ='SURVEY COVER SHEET '!D5&" - "&'SURVEY COVER SHEET '!D3 -> - | D8: Survey reference (if relating to a wider survey)
A9: Limitations (if applicable) | D9: Habitat Type
D11: Habitat parcel reference
A13: Condition Assessment Criteria | D13: Grid reference
D15: Criterion passed (Yes or No) | X15: Notes (such as justification)
A16: A | B16: The parcel represents a good example of its habitat type, with a consistently high proportion of characteristic indicator species present relevant to the specific habitat type (and relative to Footnote 3 suboptimal species which may be listed in the UKHab description).1 Note - this criterion is essential for achieving Moderate or Good condition for non-acid grassland types only.
A17: B | B17: Sward height is varied (at least 20% of the sward is less than 7 cm and at least 20% is more than 7 cm) creating microclimates which provide opportunities for insects, birds and small mammals to live and breed.
A18: C | B18: Cover of bare ground is between 1% and 5%, including localised areas, for example, rabbit warrens2.
A19: D | B19: Cover of bracken Pteridium aquilinum is less than 20% and cover of scrub (including bramble Rubus fruticosus agg.) is less than 5%.
A20: E | B20: Combined cover of species indicative of suboptimal condition3 and physical damage (such as excessive poaching, damage from machinery use or storage, damaging levels of access, or any other damaging management activities) accounts for less than 5% of total area. If any invasive non-native plant species4 (as listed on Schedule 9 of WCA5) are present, this criterion is automatically failed.
A21: y
A22: F | B22: There are 10 or more vascular plant species per m2 present, including forbs that are characteristic of the habitat type (species referenced in Footnote 3 and 5 cannot contribute towards this count). Note - this criterion is essential for achieving Good condition for non-acid grassland types only.
A24: Essential criterion for Good condition achieved (for non-acid grassland) (Yes or No) | D24: =IF(TRIM(D10)="","", IF(AND(ISNUMBER(SEARCH("acid",D10)),COUNTA(D16:D20)<5),"", IF(AND(NOT(ISNUMBER(SEARCH("acid",D10))),COUNTA(D16:D20,D22)<6),"",IF(D16="Yes","Yes","No")))) | E24: =IF(TRIM(E10)="","", IF(AND(ISNUMBER(SEARCH("acid",E10)),COUNTA(E16:E20)<5),"", IF(AND(NOT(ISNUMBER(SEARCH("acid",E10))),COUNTA(E16:E20,E22)<6),"",IF(E16="Yes","Yes","No")))) | F24: =IF(TRIM(F10)="","", IF(AND(ISNUMBER(SEARCH("acid",F10)),COUNTA(F16:F20)<5),"", IF(AND(NOT(ISNUMBER(SEARCH("acid",F10))),COUNTA(F16:F20,F22)<6),"",IF(F16="Yes","Yes","No")))) | G24: =IF(TRIM(G10)="","", IF(AND(ISNUMBER(SEARCH("acid",G10)),COUNTA(G16:G20)<5),"", IF(AND(NOT(ISNUMBER(SEARCH("acid",G10))),COUNTA(G16:G20,G22)<6),"",IF(G16="Yes","Yes","No")))) | H24: =IF(TRIM(H10)="","", IF(AND(ISNUMBER(SEARCH("acid",H10)),COUNTA(H16:H20)<5),"", IF(AND(NOT(ISNUMBER(SEARCH("acid",H10))),COUNTA(H16:H20,H22)<6),"",IF(H16="Yes","Yes","No")))) | I24: =IF(TRIM(I10)="","", IF(AND(ISNUMBER(SEARCH("acid",I10)),COUNTA(I16:I20)<5),"", IF(AND(NOT(ISNUMBER(SEARCH("acid",I10))),COUNTA(I16:I20,I22)<6),"",IF(I16="Yes","Yes","No")))) | J24: =IF(TRIM(J10)="","", IF(AND(ISNUMBER(SEARCH("acid",J10)),COUNTA(J16:J20)<5),"", IF(AND(NOT(ISNUMBER(SEARCH("acid",J10))),COUNTA(J16:J20,J22)<6),"",IF(J16="Yes","Yes","No")))) | K24: =IF(TRIM(K10)="","", IF(AND(ISNUMBER(SEARCH("acid",K10)),COUNTA(K16:K20)<5),"", IF(AND(NOT(ISNUMBER(SEARCH("acid",K10))),COUNTA(K16:K20,K22)<6),"",IF(K16="Yes","Yes","No")))) | ... W24: =IF(TRIM(W10)="","", IF(AND(ISNUMBER(SEARCH("acid",W10)),COUNTA(W16:W20)<5),"", IF(AND(NOT(ISNUMBER(SEARCH("acid",W10))),COUNTA(W16:W20,W22)<6),"",IF(W16="Yes","Yes","No"))))
A25: Number of criteria passed | D25: =IF(TRIM(D10)="","", IF(AND(ISNUMBER(SEARCH("acid",D10)),COUNTA(D16:D20)<5),"", IF(AND(NOT(ISNUMBER(SEARCH("acid",D10))),COUNTA(D16:D20,D22)<6),"", IF(AND(ISNUMBER(SEARCH("acid",D10)),D22<>""),"N/A", IF(AND(NOT(ISNUMBER(SEARCH("acid",D10))),D22=""),"N/A", COUNTIF(D16:D20,"Yes")+IF(D22="Yes",1,0)))))) | E25: =IF(TRIM(E10)="","", IF(AND(ISNUMBER(SEARCH("acid",E10)),COUNTA(E16:E20)<5),"", IF(AND(NOT(ISNUMBER(SEARCH("acid",E10))),COUNTA(E16:E20,E22)<6),"", IF(AND(ISNUMBER(SEARCH("acid",E10)),E22<>""),"N/A", IF(AND(NOT(ISNUMBER(SEARCH("acid",E10))),E22=""),"N/A", COUNTIF(E16:E20,"Yes")+IF(E22="Yes",1,0)))))) | F25: =IF(TRIM(F10)="","", IF(AND(ISNUMBER(SEARCH("acid",F10)),COUNTA(F16:F20)<5),"", IF(AND(NOT(ISNUMBER(SEARCH("acid",F10))),COUNTA(F16:F20,F22)<6),"", IF(AND(ISNUMBER(SEARCH("acid",F10)),F22<>""),"N/A", IF(AND(NOT(ISNUMBER(SEARCH("acid",F10))),F22=""),"N/A", COUNTIF(F16:F20,"Yes")+IF(F22="Yes",1,0)))))) | G25: =IF(TRIM(G10)="","", IF(AND(ISNUMBER(SEARCH("acid",G10)),COUNTA(G16:G20)<5),"", IF(AND(NOT(ISNUMBER(SEARCH("acid",G10))),COUNTA(G16:G20,G22)<6),"", IF(AND(ISNUMBER(SEARCH("acid",G10)),G22<>""),"N/A", IF(AND(NOT(ISNUMBER(SEARCH("acid",G10))),G22=""),"N/A", COUNTIF(G16:G20,"Yes")+IF(G22="Yes",1,0)))))) | H25: =IF(TRIM(H10)="","", IF(AND(ISNUMBER(SEARCH("acid",H10)),COUNTA(H16:H20)<5),"", IF(AND(NOT(ISNUMBER(SEARCH("acid",H10))),COUNTA(H16:H20,H22)<6),"", IF(AND(ISNUMBER(SEARCH("acid",H10)),H22<>""),"N/A", IF(AND(NOT(ISNUMBER(SEARCH("acid",H10))),H22=""),"N/A", COUNTIF(H16:H20,"Yes")+IF(H22="Yes",1,0)))))) | I25: =IF(TRIM(I10)="","", IF(AND(ISNUMBER(SEARCH("acid",I10)),COUNTA(I16:I20)<5),"", IF(AND(NOT(ISNUMBER(SEARCH("acid",I10))),COUNTA(I16:I20,I22)<6),"", IF(AND(ISNUMBER(SEARCH("acid",I10)),I22<>""),"N/A", IF(AND(NOT(ISNUMBER(SEARCH("acid",I10))),I22=""),"N/A", COUNTIF(I16:I20,"Yes")+IF(I22="Yes",1,0)))))) | J25: =IF(TRIM(J10)="","", IF(AND(ISNUMBER(SEARCH("acid",J10)),COUNTA(J16:J20)<5),"", IF(AND(NOT(ISNUMBER(SEARCH("acid",J10))),COUNTA(J16:J20,J22)<6),"", IF(AND(ISNUMBER(SEARCH("acid",J10)),J22<>""),"N/A", IF(AND(NOT(ISNUMBER(SEARCH("acid",J10))),J22=""),"N/A", COUNTIF(J16:J20,"Yes")+IF(J22="Yes",1,0)))))) | K25: =IF(TRIM(K10)="","", IF(AND(ISNUMBER(SEARCH("acid",K10)),COUNTA(K16:K20)<5),"", IF(AND(NOT(ISNUMBER(SEARCH("acid",K10))),COUNTA(K16:K20,K22)<6),"", IF(AND(ISNUMBER(SEARCH("acid",K10)),K22<>""),"N/A", IF(AND(NOT(ISNUMBER(SEARCH("acid",K10))),K22=""),"N/A", COUNTIF(K16:K20,"Yes")+IF(K22="Yes",1,0)))))) | ... W25: =IF(TRIM(W10)="","", IF(AND(ISNUMBER(SEARCH("acid",W10)),COUNTA(W16:W20)<5),"", IF(AND(NOT(ISNUMBER(SEARCH("acid",W10))),COUNTA(W16:W20,W22)<6),"", IF(AND(ISNUMBER(SEARCH("acid",W10)),W22<>""),"N/A", IF(AND(NOT(ISNUMBER(SEARCH("acid",W10))),W22=""),"N/A", COUNTIF(W16:W20,"Yes")+IF(W22="Yes",1,0))))))
A26: Condition Assessment Result | C26: Condition Assessment Score | D26: Score Achieved ×/✓
A27: Acid grassland types (Result out of 5 criteria)
A28: Passes 5 criteria | C28: Good (3) | D28: =IF(TRIM(D10)="","", IF(ISNUMBER(SEARCH("acid grassland",LOWER(TRIM(D10)))), IF(OR(COUNTA(D16:D20)<5, D22<>""),"", IF(D25=5,"✓","")), "N/A")) | E28: =IF(TRIM(E10)="","", IF(ISNUMBER(SEARCH("acid grassland",LOWER(TRIM(E10)))), IF(OR(COUNTA(E16:E20)<5, E22<>""),"", IF(E25=5,"✓","")), "N/A")) | F28: =IF(TRIM(F10)="","", IF(ISNUMBER(SEARCH("acid grassland",LOWER(TRIM(F10)))), IF(OR(COUNTA(F16:F20)<5, F22<>""),"", IF(F25=5,"✓","")), "N/A")) | G28: =IF(TRIM(G10)="","", IF(ISNUMBER(SEARCH("acid grassland",LOWER(TRIM(G10)))), IF(OR(COUNTA(G16:G20)<5, G22<>""),"", IF(G25=5,"✓","")), "N/A")) | H28: =IF(TRIM(H10)="","", IF(ISNUMBER(SEARCH("acid grassland",LOWER(TRIM(H10)))), IF(OR(COUNTA(H16:H20)<5, H22<>""),"", IF(H25=5,"✓","")), "N/A")) | I28: =IF(TRIM(I10)="","", IF(ISNUMBER(SEARCH("acid grassland",LOWER(TRIM(I10)))), IF(OR(COUNTA(I16:I20)<5, I22<>""),"", IF(I25=5,"✓","")), "N/A")) | J28: =IF(TRIM(J10)="","", IF(ISNUMBER(SEARCH("acid grassland",LOWER(TRIM(J10)))), IF(OR(COUNTA(J16:J20)<5, J22<>""),"", IF(J25=5,"✓","")), "N/A")) | K28: =IF(TRIM(K10)="","", IF(ISNUMBER(SEARCH("acid grassland",LOWER(TRIM(K10)))), IF(OR(COUNTA(K16:K20)<5, K22<>""),"", IF(K25=5,"✓","")), "N/A")) | ... V28: =IF(TRIM(V10)="","", IF(ISNUMBER(SEARCH("acid grassland",LOWER(TRIM(V10)))), IF(OR(COUNTA(V16:V20)<5, V22<>""),"", IF(V25=5,"✓","")), "N/A")) | W28: =IF(TRIM(W10)="","", IF(ISNUMBER(SEARCH("acid grassland",LOWER(TRIM(W10)))), IF(OR(COUNTA(W16:W20)<5, W22<>""),"", IF(COUNTIF(W16:W20,"Yes")=5,"✓","")), "N/A"))
A29: Passes 3 or 4 criteria | C29: Moderate (2) | D29: =IF(TRIM(D10)="","", IF(ISNUMBER(SEARCH("acid grassland",LOWER(TRIM(D10)))), IF(OR(COUNTA(D16:D20)<5,D22<>""),"", IF(AND(D25>=3, D25<=4),"✓","")),"N/A")) | E29: =IF(TRIM(E10)="","", IF(ISNUMBER(SEARCH("acid grassland",LOWER(TRIM(E10)))), IF(OR(COUNTA(E16:E20)<5,E22<>""),"", IF(AND(E25>=3, E25<=4),"✓","")),"N/A")) | F29: =IF(TRIM(F10)="","", IF(ISNUMBER(SEARCH("acid grassland",LOWER(TRIM(F10)))), IF(OR(COUNTA(F16:F20)<5,F22<>""),"", IF(AND(F25>=3, F25<=4),"✓","")),"N/A")) | G29: =IF(TRIM(G10)="","", IF(ISNUMBER(SEARCH("acid grassland",LOWER(TRIM(G10)))), IF(OR(COUNTA(G16:G20)<5,G22<>""),"", IF(AND(G25>=3, G25<=4),"✓","")),"N/A")) | H29: =IF(TRIM(H10)="","", IF(ISNUMBER(SEARCH("acid grassland",LOWER(TRIM(H10)))), IF(OR(COUNTA(H16:H20)<5,H22<>""),"", IF(AND(H25>=3, H25<=4),"✓","")),"N/A")) | I29: =IF(TRIM(I10)="","", IF(ISNUMBER(SEARCH("acid grassland",LOWER(TRIM(I10)))), IF(OR(COUNTA(I16:I20)<5,I22<>""),"", IF(AND(I25>=3, I25<=4),"✓","")),"N/A")) | J29: =IF(TRIM(J10)="","", IF(ISNUMBER(SEARCH("acid grassland",LOWER(TRIM(J10)))), IF(OR(COUNTA(J16:J20)<5,J22<>""),"", IF(AND(J25>=3, J25<=4),"✓","")),"N/A")) | K29: =IF(TRIM(K10)="","", IF(ISNUMBER(SEARCH("acid grassland",LOWER(TRIM(K10)))), IF(OR(COUNTA(K16:K20)<5,K22<>""),"", IF(AND(K25>=3, K25<=4),"✓","")),"N/A")) | ... V29: =IF(TRIM(V10)="","", IF(ISNUMBER(SEARCH("acid grassland",LOWER(TRIM(V10)))), IF(OR(COUNTA(V16:V20)<5,V22<>""),"", IF(AND(V25>=3, V25<=4),"✓","")),"N/A")) | W29: =IF(TRIM(W10)="","", IF(ISNUMBER(SEARCH("acid grassland",LOWER(TRIM(W10)))), IF(OR(COUNTA(W16:W20)<5,W22<>""),"", IF(AND(COUNTIF(W16:W20,"Yes")>=3, COUNTIF(W16:W20,"Yes")<=4),"✓","")),"N/A"))
A30: Passes 2 or fewer criteria | C30: Poor (1) | D30: =IF(TRIM(D10)="","", IF(ISNUMBER(SEARCH("acid grassland",LOWER(TRIM(D10)))), IF(OR(COUNTA(D16:D20)<5,D22<>""),"", IF(D25<=2,"✓","")),"N/A")) | E30: =IF(TRIM(E10)="","", IF(ISNUMBER(SEARCH("acid grassland",LOWER(TRIM(E10)))), IF(OR(COUNTA(E16:E20)<5,E22<>""),"", IF(E25<=2,"✓","")),"N/A")) | F30: =IF(TRIM(F10)="","", IF(ISNUMBER(SEARCH("acid grassland",LOWER(TRIM(F10)))), IF(OR(COUNTA(F16:F20)<5,F22<>""),"", IF(F25<=2,"✓","")),"N/A")) | G30: =IF(TRIM(G10)="","", IF(ISNUMBER(SEARCH("acid grassland",LOWER(TRIM(G10)))), IF(OR(COUNTA(G16:G20)<5,G22<>""),"", IF(G25<=2,"✓","")),"N/A")) | H30: =IF(TRIM(H10)="","", IF(ISNUMBER(SEARCH("acid grassland",LOWER(TRIM(H10)))), IF(OR(COUNTA(H16:H20)<5,H22<>""),"", IF(H25<=2,"✓","")),"N/A")) | I30: =IF(TRIM(I10)="","", IF(ISNUMBER(SEARCH("acid grassland",LOWER(TRIM(I10)))), IF(OR(COUNTA(I16:I20)<5,I22<>""),"", IF(I25<=2,"✓","")),"N/A")) | J30: =IF(TRIM(J10)="","", IF(ISNUMBER(SEARCH("acid grassland",LOWER(TRIM(J10)))), IF(OR(COUNTA(J16:J20)<5,J22<>""),"", IF(J25<=2,"✓","")),"N/A")) | K30: =IF(TRIM(K10)="","", IF(ISNUMBER(SEARCH("acid grassland",LOWER(TRIM(K10)))), IF(OR(COUNTA(K16:K20)<5,K22<>""),"", IF(K25<=2,"✓","")),"N/A")) | ... V30: =IF(TRIM(V10)="","", IF(ISNUMBER(SEARCH("acid grassland",LOWER(TRIM(V10)))), IF(OR(COUNTA(V16:V20)<5,V22<>""),"", IF(V25<=2,"✓","")),"N/A")) | W30: =IF(TRIM(W10)="","", IF(ISNUMBER(SEARCH("acid grassland",LOWER(TRIM(W10)))), IF(OR(COUNTA(W16:W20)<5,W22<>""),"", IF(COUNTIF(W16:W20,"Yes")<=2,"✓","")),"N/A"))
A31: Non-acid grassland types (Result out of 6 criteria)
A32: Passes 5 or 6 criteria, including essential criterion A and additional criterion F. | C32: Good (3) | D32: =IF(TRIM(D10)="","", IF(ISNUMBER(SEARCH("acid grassland",LOWER(D10))),"N/A", IF(COUNTA(D16:D20)+IF(D22<>"",1,0)<6,"", IF(AND(D25>=5, D16="Yes",D22="Yes"),"✓","")))) | E32: =IF(TRIM(E10)="","", IF(ISNUMBER(SEARCH("acid grassland",LOWER(E10))),"N/A", IF(COUNTA(E16:E20)+IF(E22<>"",1,0)<6,"", IF(AND(E25>=5, E16="Yes",E22="Yes"),"✓","")))) | F32: =IF(TRIM(F10)="","", IF(ISNUMBER(SEARCH("acid grassland",LOWER(F10))),"N/A", IF(COUNTA(F16:F20)+IF(F22<>"",1,0)<6,"", IF(AND(F25>=5, F16="Yes",F22="Yes"),"✓","")))) | G32: =IF(TRIM(G10)="","", IF(ISNUMBER(SEARCH("acid grassland",LOWER(G10))),"N/A", IF(COUNTA(G16:G20)+IF(G22<>"",1,0)<6,"", IF(AND(G25>=5, G16="Yes",G22="Yes"),"✓","")))) | H32: =IF(TRIM(H10)="","", IF(ISNUMBER(SEARCH("acid grassland",LOWER(H10))),"N/A", IF(COUNTA(H16:H20)+IF(H22<>"",1,0)<6,"", IF(AND(H25>=5, H16="Yes",H22="Yes"),"✓","")))) | I32: =IF(TRIM(I10)="","", IF(ISNUMBER(SEARCH("acid grassland",LOWER(I10))),"N/A", IF(COUNTA(I16:I20)+IF(I22<>"",1,0)<6,"", IF(AND(I25>=5, I16="Yes",I22="Yes"),"✓","")))) | J32: =IF(TRIM(J10)="","", IF(ISNUMBER(SEARCH("acid grassland",LOWER(J10))),"N/A", IF(COUNTA(J16:J20)+IF(J22<>"",1,0)<6,"", IF(AND(J25>=5, J16="Yes",J22="Yes"),"✓","")))) | K32: =IF(TRIM(K10)="","", IF(ISNUMBER(SEARCH("acid grassland",LOWER(K10))),"N/A", IF(COUNTA(K16:K20)+IF(K22<>"",1,0)<6,"", IF(AND(K25>=5, K16="Yes",K22="Yes"),"✓","")))) | ... V32: =IF(TRIM(V10)="","", IF(ISNUMBER(SEARCH("acid grassland",LOWER(V10))),"N/A", IF(COUNTA(V16:V20)+IF(V22<>"",1,0)<6,"", IF(AND(V25>=5, V16="Yes",V22="Yes"),"✓","")))) | W32: =IF(TRIM(W10)="","", IF(ISNUMBER(SEARCH("acid grassland",LOWER(W10))),"N/A", IF(COUNTA(W16:W20)+IF(W22<>"",1,0)<6,"", IF(AND((COUNTIF(W16:W20,"Yes")+IF(W22="Yes",1,0))>=5, W16="Yes",W22="Yes"),"✓",""))))
A33: Passes 3 - 5 criteria, including essential criterion A. | C33: Moderate (2) | D33: =IF(TRIM(D10)="","", IF(ISNUMBER(SEARCH("acid grassland",LOWER(D10))),"N/A", IF(COUNTA(D16:D20)+IF(D22<>"",1,0)<6,"", IF(AND(D25>=3, D25<=5, D16="Yes", NOT(AND(D25>=5,D16="Yes",D22="Yes"))), "✓","")))) | E33: =IF(TRIM(E10)="","", IF(ISNUMBER(SEARCH("acid grassland",LOWER(E10))),"N/A", IF(COUNTA(E16:E20)+IF(E22<>"",1,0)<6,"", IF(AND(E25>=3, E25<=5, E16="Yes", NOT(AND(E25>=5,E16="Yes",E22="Yes"))), "✓","")))) | F33: =IF(TRIM(F10)="","", IF(ISNUMBER(SEARCH("acid grassland",LOWER(F10))),"N/A", IF(COUNTA(F16:F20)+IF(F22<>"",1,0)<6,"", IF(AND(F25>=3, F25<=5, F16="Yes", NOT(AND(F25>=5,F16="Yes",F22="Yes"))), "✓","")))) | G33: =IF(TRIM(G10)="","", IF(ISNUMBER(SEARCH("acid grassland",LOWER(G10))),"N/A", IF(COUNTA(G16:G20)+IF(G22<>"",1,0)<6,"", IF(AND(G25>=3, G25<=5, G16="Yes", NOT(AND(G25>=5,G16="Yes",G22="Yes"))), "✓","")))) | H33: =IF(TRIM(H10)="","", IF(ISNUMBER(SEARCH("acid grassland",LOWER(H10))),"N/A", IF(COUNTA(H16:H20)+IF(H22<>"",1,0)<6,"", IF(AND(H25>=3, H25<=5, H16="Yes", NOT(AND(H25>=5,H16="Yes",H22="Yes"))), "✓","")))) | I33: =IF(TRIM(I10)="","", IF(ISNUMBER(SEARCH("acid grassland",LOWER(I10))),"N/A", IF(COUNTA(I16:I20)+IF(I22<>"",1,0)<6,"", IF(AND(I25>=3, I25<=5, I16="Yes", NOT(AND(I25>=5,I16="Yes",I22="Yes"))), "✓","")))) | J33: =IF(TRIM(J10)="","", IF(ISNUMBER(SEARCH("acid grassland",LOWER(J10))),"N/A", IF(COUNTA(J16:J20)+IF(J22<>"",1,0)<6,"", IF(AND(J25>=3, J25<=5, J16="Yes", NOT(AND(J25>=5,J16="Yes",J22="Yes"))), "✓","")))) | K33: =IF(TRIM(K10)="","", IF(ISNUMBER(SEARCH("acid grassland",LOWER(K10))),"N/A", IF(COUNTA(K16:K20)+IF(K22<>"",1,0)<6,"", IF(AND(K25>=3, K25<=5, K16="Yes", NOT(AND(K25>=5,K16="Yes",K22="Yes"))), "✓","")))) | ... V33: =IF(TRIM(V10)="","", IF(ISNUMBER(SEARCH("acid grassland",LOWER(V10))),"N/A", IF(COUNTA(V16:V20)+IF(V22<>"",1,0)<6,"", IF(AND(V25>=3, V25<=5, V16="Yes", NOT(AND(V25>=5,V16="Yes",V22="Yes"))), "✓","")))) | W33: =IF(TRIM(W10)="","", IF(ISNUMBER(SEARCH("acid grassland",LOWER(W10))),"N/A", IF(COUNTA(W16:W20)+IF(W22<>"",1,0)<6,"", IF(AND((COUNTIF(W16:W20,"Yes")+IF(W22="Yes",1,0))>=3, (COUNTIF(W16:W20,"Yes")+IF(W22="Yes",1,0))<=5,W16="Yes",W22<>"Yes"),"✓",""))))
A34: Passes 2 or fewer criteria; OR Passes 3 or 4 criteria excluding criterion A and F. | C34: Poor (1) | D34: =IF(TRIM(D10)="","", IF(ISNUMBER(SEARCH("acid grassland",LOWER(D10))),"N/A", IF(COUNTA(D16:D20)+IF(D22<>"",1,0)<6,"", IF(OR(D25<=2,AND(D25>3,D16="No")),"✓","")))) | E34: =IF(TRIM(E10)="","", IF(ISNUMBER(SEARCH("acid grassland",LOWER(E10))),"N/A", IF(COUNTA(E16:E20)+IF(E22<>"",1,0)<6,"", IF(OR(E25<=2,AND(E25>3,E16="No")),"✓","")))) | F34: =IF(TRIM(F10)="","", IF(ISNUMBER(SEARCH("acid grassland",LOWER(F10))),"N/A", IF(COUNTA(F16:F20)+IF(F22<>"",1,0)<6,"", IF(OR(F25<=2,AND(F25>3,F16="No")),"✓","")))) | G34: =IF(TRIM(G10)="","", IF(ISNUMBER(SEARCH("acid grassland",LOWER(G10))),"N/A", IF(COUNTA(G16:G20)+IF(G22<>"",1,0)<6,"", IF(OR(G25<=2,AND(G25>3,G16="No")),"✓","")))) | H34: =IF(TRIM(H10)="","", IF(ISNUMBER(SEARCH("acid grassland",LOWER(H10))),"N/A", IF(COUNTA(H16:H20)+IF(H22<>"",1,0)<6,"", IF(OR(H25<=2,AND(H25>3,H16="No")),"✓","")))) | I34: =IF(TRIM(I10)="","", IF(ISNUMBER(SEARCH("acid grassland",LOWER(I10))),"N/A", IF(COUNTA(I16:I20)+IF(I22<>"",1,0)<6,"", IF(OR(I25<=2,AND(I25>3,I16="No")),"✓","")))) | J34: =IF(TRIM(J10)="","", IF(ISNUMBER(SEARCH("acid grassland",LOWER(J10))),"N/A", IF(COUNTA(J16:J20)+IF(J22<>"",1,0)<6,"", IF(OR(J25<=2,AND(J25>3,J16="No")),"✓","")))) | K34: =IF(TRIM(K10)="","", IF(ISNUMBER(SEARCH("acid grassland",LOWER(K10))),"N/A", IF(COUNTA(K16:K20)+IF(K22<>"",1,0)<6,"", IF(OR(K25<=2,AND(K25>3,K16="No")),"✓","")))) | ... V34: =IF(TRIM(V10)="","", IF(ISNUMBER(SEARCH("acid grassland",LOWER(V10))),"N/A", IF(COUNTA(V16:V20)+IF(V22<>"",1,0)<6,"", IF(OR(V25<=2,AND(V25>3,V16="No")),"✓","")))) | W34: =IF(TRIM(W10)="","", IF(ISNUMBER(SEARCH("acid grassland",LOWER(W10))),"N/A", IF(COUNTA(W16:W20)+IF(W22<>"",1,0)<6,"", IF(OR((COUNTIF(W16:W20,"Yes")+IF(W22="Yes",1,0))<=2, AND((COUNTIF(W16:W20,"Yes")+IF(W22="Yes",1,0))>3, W16="No")),"✓",""))))
A35: Suggested enhancement interventions to improve condition score
A37: Notes
A38: Footnote 1 - Professional judgement should be used alongside the UKHab description. Footnote 2 – For example, this could include small, scattered areas of bare ground allowing for plant colonisation, or localised patches not exceeding 5% cover. Footnote 3 - Species indicative of suboptimal condition for this habitat type include: creeping thistle Cirsium arvense, spear thistle Cirsium vulgare, curled dock Rumex crispus, broad-leaved dock Rumex obtusifolius, common nettle Urtica dioica, creeping buttercup Ranunculus repens, greater plantain Plantago major, white clover Trifolium repens and cow parsley Anthriscus sylvestris. There may be additional relevant species local to the region and or site. Footnote 4 – Assess this for each distinct habitat parcel. If the distribution of invasive non-native species varies across the habitat, split into parcels accordingly, applying a buffer zone around the invasive non-native species with a size relative to its risk of spread into adjacent habitat, by applying professional judgement. Footnote 5 – Wildlife and Countryside Act 1981 (as amended).

Sheet 7. HEATHLAND
A1: Condition Sheet: HEATHLAND Habitat Type
A2: UK Habitat Classification (UKHab) Habitat Types
A3: Heathland and shrub - Lowland heathland Heathland and shrub - Mountain heaths and willow scrub Heathland and shrub - Upland heathland
A4: Habitat Description
A6: ukhab – UK Habitat Classification
A7: On-site or off-site, site name and location | C7: ='SURVEY COVER SHEET '!D4&" - "&'SURVEY COVER SHEET '!D2 -> On-site - Reading Gateway | D7: Survey date and Surveyor name | F7: =TEXT('SURVEY COVER SHEET '!$B$2,"dd/mm/yyyy")&" - "&'SURVEY COVER SHEET '!$B$4 -> 19/03/2026 - Ben Wagstffe
C8: ='SURVEY COVER SHEET '!D5&" - "&'SURVEY COVER SHEET '!D3 -> - | D8: Survey reference (if relating to a wider survey)
A9: Limitations (if applicable) | D9: Habitat Type
D11: Habitat parcel reference
D13: Grid reference
A14: Condition Assessment Criteria
D15: Criterion passed (Yes or No) | X15: Notes (such as justification)
A16: A | B16: The parcel represents a good example of its habitat type - the appearance and composition of the vegetation closely matches its UKHab description, with vascular and non-vascular characteristic indicator species consistently present.1 Note - this criterion is essential for achieving Good condition.
A17: B | B17: There are at least two dwarf shrub species Frequent2, and cover of dwarf shrubs is between 25-75% for lowland heathland, 50-75% for upland dry heath, or >20% for upland wet heath. Note - this criterion is essential for achieving Good condition.
A18: C | B18: All heather Calluna vulgaris age-classes (pioneer, degenerate and mature) present with at least 10% pioneer heather in the lowlands or at least 10% degenerate or mature in the uplands. Note - this criterion is essential for achieving Good condition.
A19: D | B19: Unshaded bare ground is between 1-10%. Note - this criterion is essential for achieving Good condition.
A20: E | B20: There is an absence of invasive non-native plant species listed on Schedule 9 of WCA3 and shallon Gaultheria shallon4. Note - this criterion is essential for achieving Good condition.
A21: F | B21: No signs of disturbance of sensitive areas5, including managed burns.
A22: G | B22: No more than 33% of heather shoots have been recently grazed, or flowering heather plants are at least Frequent2 in autumn.
A23: H | B23: The canopy cover of scattered trees and or scrub (not including gorse Ulex spp.) is: • less than 20% for upland heaths; • less than 15% for lowland dry heaths; and • less than 10% for lowland wet heaths.
A24: I | B24: Total gorse cover is less than 50%, with common gorse Ulex europaeus less than 25%.
A25: J | B25: The cover of bracken Pteridium aquilinum is less than 5%6.
A26: K | B26: No signs of any damaging activities7 or contamination to the habitat such as: artificial drains, peat extraction, silt, leachate or eutrophication.
A27: Essential criteria for achieving Good condition achieved (Yes or No) | D27: =IF(TRIM(D10)="","", IF(COUNTA(D16:D26)<11,"", IF(AND(D16="Yes",D17="Yes",D18="Yes",D19="Yes",D20="Yes"),"Yes","No"))) | E27: =IF(TRIM(E10)="","", IF(COUNTA(E16:E26)<11,"", IF(AND(E16="Yes",E17="Yes",E18="Yes",E19="Yes",E20="Yes"),"Yes","No"))) | F27: =IF(TRIM(F10)="","", IF(COUNTA(F16:F26)<11,"", IF(AND(F16="Yes",F17="Yes",F18="Yes",F19="Yes",F20="Yes"),"Yes","No"))) | G27: =IF(TRIM(G10)="","", IF(COUNTA(G16:G26)<11,"", IF(AND(G16="Yes",G17="Yes",G18="Yes",G19="Yes",G20="Yes"),"Yes","No"))) | H27: =IF(TRIM(H10)="","", IF(COUNTA(H16:H26)<11,"", IF(AND(H16="Yes",H17="Yes",H18="Yes",H19="Yes",H20="Yes"),"Yes","No"))) | I27: =IF(TRIM(I10)="","", IF(COUNTA(I16:I26)<11,"", IF(AND(I16="Yes",I17="Yes",I18="Yes",I19="Yes",I20="Yes"),"Yes","No"))) | J27: =IF(TRIM(J10)="","", IF(COUNTA(J16:J26)<11,"", IF(AND(J16="Yes",J17="Yes",J18="Yes",J19="Yes",J20="Yes"),"Yes","No"))) | O27: =IF(TRIM(O10)="","", IF(COUNTA(O16:O26)<11,"", IF(AND(O16="Yes",O17="Yes",O18="Yes",O19="Yes",O20="Yes"),"Yes","No"))) | P27: =IF(TRIM(P10)="","", IF(COUNTA(P16:P26)<11,"", IF(AND(P16="Yes",P17="Yes",P18="Yes",P19="Yes",P20="Yes"),"Yes","No"))) | Q27: =IF(TRIM(Q10)="","", IF(COUNTA(Q16:Q26)<11,"", IF(AND(Q16="Yes",Q17="Yes",Q18="Yes",Q19="Yes",Q20="Yes"),"Yes","No"))) | R27: =IF(TRIM(R10)="","", IF(COUNTA(R16:R26)<11,"", IF(AND(R16="Yes",R17="Yes",R18="Yes",R19="Yes",R20="Yes"),"Yes","No"))) | S27: =IF(TRIM(S10)="","", IF(COUNTA(S16:S26)<11,"", IF(AND(S16="Yes",S17="Yes",S18="Yes",S19="Yes",S20="Yes"),"Yes","No"))) | T27: =IF(TRIM(T10)="","", IF(COUNTA(T16:T26)<11,"", IF(AND(T16="Yes",T17="Yes",T18="Yes",T19="Yes",T20="Yes"),"Yes","No"))) | U27: =IF(TRIM(U10)="","", IF(COUNTA(U16:U26)<11,"", IF(AND(U16="Yes",U17="Yes",U18="Yes",U19="Yes",U20="Yes"),"Yes","No"))) | V27: =IF(TRIM(V10)="","", IF(COUNTA(V16:V26)<11,"", IF(AND(V16="Yes",V17="Yes",V18="Yes",V19="Yes",V20="Yes"),"Yes","No"))) | W27: =IF(TRIM(W10)="","", IF(COUNTA(W16:W26)<11,"", IF(AND(W16="Yes",W17="Yes",W18="Yes",W19="Yes",W20="Yes"),"Yes","No")))
A28: Number of criteria passed | D28: =IF(TRIM(D10)="","", IF(COUNTA(D16:D26)<11,"", COUNTIF(D16:D26,"Yes"))) | E28: =IF(TRIM(E10)="","", IF(COUNTA(E16:E26)<11,"",COUNTIF(E16:E26,"Yes"))) | F28: =IF(TRIM(F10)="","", IF(COUNTA(F16:F26)<11,"",COUNTIF(F16:F26,"Yes"))) | G28: =IF(TRIM(G10)="","", IF(COUNTA(G16:G26)<11,"",COUNTIF(G16:G26,"Yes"))) | H28: =IF(TRIM(H10)="","", IF(COUNTA(H16:H26)<11,"",COUNTIF(H16:H26,"Yes"))) | I28: =IF(TRIM(I10)="","", IF(COUNTA(I16:I26)<11,"",COUNTIF(I16:I26,"Yes"))) | J28: =IF(TRIM(J10)="","", IF(COUNTA(J16:J26)<11,"",COUNTIF(J16:J26,"Yes"))) | O28: =IF(TRIM(O10)="","", IF(COUNTA(O16:O26)<11,"",COUNTIF(O16:O26,"Yes"))) | P28: =IF(TRIM(P10)="","", IF(COUNTA(P16:P26)<11,"",COUNTIF(P16:P26,"Yes"))) | Q28: =IF(TRIM(Q10)="","", IF(COUNTA(Q16:Q26)<11,"",COUNTIF(Q16:Q26,"Yes"))) | R28: =IF(TRIM(R10)="","", IF(COUNTA(R16:R26)<11,"",COUNTIF(R16:R26,"Yes"))) | S28: =IF(TRIM(S10)="","", IF(COUNTA(S16:S26)<11,"",COUNTIF(S16:S26,"Yes"))) | T28: =IF(TRIM(T10)="","", IF(COUNTA(T16:T26)<11,"",COUNTIF(T16:T26,"Yes"))) | U28: =IF(TRIM(U10)="","", IF(COUNTA(U16:U26)<11,"",COUNTIF(U16:U26,"Yes"))) | V28: =IF(TRIM(V10)="","", IF(COUNTA(V16:V26)<11,"",COUNTIF(V16:V26,"Yes"))) | W28: =IF(TRIM(W10)="","", IF(COUNTA(W16:W26)<11,"",COUNTIF(W16:W26,"Yes")))
A29: Condition Assessment Result (out of 11 criteria) | C29: Condition Assessment Score | D29: Score Achieved ×/✓
A30: Passes 9 - 11 criteria including all essential criteria A - E. | C30: Good (3) | D30: =IF(TRIM(D10)="","", IF(COUNTA(D16:D26)<11,"", IF(AND(D28>=9,D16="Yes", D17="Yes", D18="Yes", D19="Yes", D20="Yes"),"✓",""))) | E30: =IF(TRIM(E10)="","", IF(COUNTA(E16:E26)<11,"", IF(AND(E28>=9,E16="Yes", E17="Yes", E18="Yes", E19="Yes", E20="Yes"),"✓",""))) | F30: =IF(TRIM(F10)="","", IF(COUNTA(F16:F26)<11,"", IF(AND(F28>=9,F16="Yes", F17="Yes", F18="Yes", F19="Yes", F20="Yes"),"✓",""))) | G30: =IF(TRIM(G10)="","", IF(COUNTA(G16:G26)<11,"", IF(AND(G28>=9,G16="Yes", G17="Yes", G18="Yes", G19="Yes", G20="Yes"),"✓",""))) | H30: =IF(TRIM(H10)="","", IF(COUNTA(H16:H26)<11,"", IF(AND(H28>=9,H16="Yes", H17="Yes", H18="Yes", H19="Yes", H20="Yes"),"✓",""))) | I30: =IF(TRIM(I10)="","", IF(COUNTA(I16:I26)<11,"", IF(AND(I28>=9,I16="Yes", I17="Yes", I18="Yes", I19="Yes", I20="Yes"),"✓",""))) | J30: =IF(TRIM(J10)="","", IF(COUNTA(J16:J26)<11,"", IF(AND(J28>=9,J16="Yes", J17="Yes", J18="Yes", J19="Yes", J20="Yes"),"✓",""))) | O30: =IF(TRIM(O10)="","", IF(COUNTA(O16:O26)<11,"", IF(AND(O28>=9,O16="Yes", O17="Yes", O18="Yes", O19="Yes", O20="Yes"),"✓",""))) | P30: =IF(TRIM(P10)="","", IF(COUNTA(P16:P26)<11,"", IF(AND(P28>=9,P16="Yes", P17="Yes", P18="Yes", P19="Yes", P20="Yes"),"✓",""))) | Q30: =IF(TRIM(Q10)="","", IF(COUNTA(Q16:Q26)<11,"", IF(AND(Q28>=9,Q16="Yes", Q17="Yes", Q18="Yes", Q19="Yes", Q20="Yes"),"✓",""))) | R30: =IF(TRIM(R10)="","", IF(COUNTA(R16:R26)<11,"", IF(AND(R28>=9,R16="Yes", R17="Yes", R18="Yes", R19="Yes", R20="Yes"),"✓",""))) | S30: =IF(TRIM(S10)="","", IF(COUNTA(S16:S26)<11,"", IF(AND(S28>=9,S16="Yes", S17="Yes", S18="Yes", S19="Yes", S20="Yes"),"✓",""))) | T30: =IF(TRIM(T10)="","", IF(COUNTA(T16:T26)<11,"", IF(AND(T28>=9,T16="Yes", T17="Yes", T18="Yes", T19="Yes", T20="Yes"),"✓",""))) | U30: =IF(TRIM(U10)="","", IF(COUNTA(U16:U26)<11,"", IF(AND(U28>=9,U16="Yes", U17="Yes", U18="Yes", U19="Yes", U20="Yes"),"✓",""))) | V30: =IF(TRIM(V10)="","", IF(COUNTA(V16:V26)<11,"", IF(AND(V28>=9,V16="Yes", V17="Yes", V18="Yes", V19="Yes", V20="Yes"),"✓",""))) | W30: =IF(TRIM(W10)="","", IF(COUNTA(W16:W26)<11,"", IF(AND(W28>=9,W16="Yes", W17="Yes", W18="Yes", W19="Yes", W20="Yes"),"✓","")))
A31: Passes 7 or 8 criteria; OR Passes 9 - 10 criteria but fails any essential criteria (criteria A - E). | C31: Moderate (2) | D31: =IF(TRIM(D10)="","", IF(COUNTA(D16:D26)<11,"", IF(OR(D28=7,D28=8, AND(D28>=9, OR(D16<>"Yes",D17<>"Yes",D18<>"Yes",D19<>"Yes",D20<>"Yes"))),"✓",""))) | E31: =IF(TRIM(E10)="","", IF(COUNTA(E16:E26)<11,"", IF(OR(E28=7,E28=8, AND(E28>=9, OR(E16<>"Yes",E17<>"Yes",E18<>"Yes",E19<>"Yes",E20<>"Yes"))),"✓",""))) | F31: =IF(TRIM(F10)="","", IF(COUNTA(F16:F26)<11,"", IF(OR(F28=7,F28=8, AND(F28>=9, OR(F16<>"Yes",F17<>"Yes",F18<>"Yes",F19<>"Yes",F20<>"Yes"))),"✓",""))) | G31: =IF(TRIM(G10)="","", IF(COUNTA(G16:G26)<11,"", IF(OR(G28=7,G28=8, AND(G28>=9, OR(G16<>"Yes",G17<>"Yes",G18<>"Yes",G19<>"Yes",G20<>"Yes"))),"✓",""))) | H31: =IF(TRIM(H10)="","", IF(COUNTA(H16:H26)<11,"", IF(OR(H28=7,H28=8, AND(H28>=9, OR(H16<>"Yes",H17<>"Yes",H18<>"Yes",H19<>"Yes",H20<>"Yes"))),"✓",""))) | I31: =IF(TRIM(I10)="","", IF(COUNTA(I16:I26)<11,"", IF(OR(I28=7,I28=8, AND(I28>=9, OR(I16<>"Yes",I17<>"Yes",I18<>"Yes",I19<>"Yes",I20<>"Yes"))),"✓",""))) | J31: =IF(TRIM(J10)="","", IF(COUNTA(J16:J26)<11,"", IF(OR(J28=7,J28=8, AND(J28>=9, OR(J16<>"Yes",J17<>"Yes",J18<>"Yes",J19<>"Yes",J20<>"Yes"))),"✓",""))) | O31: =IF(TRIM(O10)="","", IF(COUNTA(O16:O26)<11,"", IF(OR(O28=7,O28=8, AND(O28>=9, OR(O16<>"Yes",O17<>"Yes",O18<>"Yes",O19<>"Yes",O20<>"Yes"))),"✓",""))) | P31: =IF(TRIM(P10)="","", IF(COUNTA(P16:P26)<11,"", IF(OR(P28=7,P28=8, AND(P28>=9, OR(P16<>"Yes",P17<>"Yes",P18<>"Yes",P19<>"Yes",P20<>"Yes"))),"✓",""))) | Q31: =IF(TRIM(Q10)="","", IF(COUNTA(Q16:Q26)<11,"", IF(OR(Q28=7,Q28=8, AND(Q28>=9, OR(Q16<>"Yes",Q17<>"Yes",Q18<>"Yes",Q19<>"Yes",Q20<>"Yes"))),"✓",""))) | R31: =IF(TRIM(R10)="","", IF(COUNTA(R16:R26)<11,"", IF(OR(R28=7,R28=8, AND(R28>=9, OR(R16<>"Yes",R17<>"Yes",R18<>"Yes",R19<>"Yes",R20<>"Yes"))),"✓",""))) | S31: =IF(TRIM(S10)="","", IF(COUNTA(S16:S26)<11,"", IF(OR(S28=7,S28=8, AND(S28>=9, OR(S16<>"Yes",S17<>"Yes",S18<>"Yes",S19<>"Yes",S20<>"Yes"))),"✓",""))) | T31: =IF(TRIM(T10)="","", IF(COUNTA(T16:T26)<11,"", IF(OR(T28=7,T28=8, AND(T28>=9, OR(T16<>"Yes",T17<>"Yes",T18<>"Yes",T19<>"Yes",T20<>"Yes"))),"✓",""))) | U31: =IF(TRIM(U10)="","", IF(COUNTA(U16:U26)<11,"", IF(OR(U28=7,U28=8, AND(U28>=9, OR(U16<>"Yes",U17<>"Yes",U18<>"Yes",U19<>"Yes",U20<>"Yes"))),"✓",""))) | V31: =IF(TRIM(V10)="","", IF(COUNTA(V16:V26)<11,"", IF(OR(V28=7,V28=8, AND(V28>=9, OR(V16<>"Yes",V17<>"Yes",V18<>"Yes",V19<>"Yes",V20<>"Yes"))),"✓",""))) | W31: =IF(TRIM(W10)="","", IF(COUNTA(W16:W26)<11,"", IF(OR(W28=7,W28=8, AND(W28>=9, OR(W16<>"Yes",W17<>"Yes",W18<>"Yes",W19<>"Yes",W20<>"Yes"))),"✓","")))
A32: Passes 6 or fewer criteria. | C32: Poor (1) | D32: =IF(TRIM(D10)="","", IF(COUNTA(D16:D26)<11,"", IF(AND(D28<=6),"✓",""))) | E32: =IF(TRIM(E10)="","", IF(COUNTA(E16:E26)<11,"", IF(AND(E28<=6),"✓",""))) | F32: =IF(TRIM(F10)="","", IF(COUNTA(F16:F26)<11,"", IF(AND(F28<=6),"✓",""))) | G32: =IF(TRIM(G10)="","", IF(COUNTA(G16:G26)<11,"", IF(AND(G28<=6),"✓",""))) | H32: =IF(TRIM(H10)="","", IF(COUNTA(H16:H26)<11,"", IF(AND(H28<=6),"✓",""))) | I32: =IF(TRIM(I10)="","", IF(COUNTA(I16:I26)<11,"", IF(AND(I28<=6),"✓",""))) | J32: =IF(TRIM(J10)="","", IF(COUNTA(J16:J26)<11,"", IF(AND(J28<=6),"✓",""))) | O32: =IF(TRIM(O10)="","", IF(COUNTA(O16:O26)<11,"", IF(AND(O28<=6),"✓",""))) | P32: =IF(TRIM(P10)="","", IF(COUNTA(P16:P26)<11,"", IF(AND(P28<=6),"✓",""))) | Q32: =IF(TRIM(Q10)="","", IF(COUNTA(Q16:Q26)<11,"", IF(AND(Q28<=6),"✓",""))) | R32: =IF(TRIM(R10)="","", IF(COUNTA(R16:R26)<11,"", IF(AND(R28<=6),"✓",""))) | S32: =IF(TRIM(S10)="","", IF(COUNTA(S16:S26)<11,"", IF(AND(S28<=6),"✓",""))) | T32: =IF(TRIM(T10)="","", IF(COUNTA(T16:T26)<11,"", IF(AND(T28<=6),"✓",""))) | U32: =IF(TRIM(U10)="","", IF(COUNTA(U16:U26)<11,"", IF(AND(U28<=6),"✓",""))) | V32: =IF(TRIM(V10)="","", IF(COUNTA(V16:V26)<11,"", IF(AND(V28<=6),"✓",""))) | W32: =IF(TRIM(W10)="","", IF(COUNTA(W16:W26)<11,"", IF(AND(W28<=6),"✓","")))
A33: Suggested enhancement interventions to improve condition score
A35: Footnotes
A36: Footnote 1 – Professional judgement should be used alongside the UKHab description. Footnote 2 – According to the relative abundance DAFOR scale – Dominant, Abundant, Frequent, Occasional or Rare. Footnote 3 – Wildlife and Countryside Act 1981 (as amended). Footnote 4 – Assess this for each distinct habitat parcel. If the distribution of invasive non-native species varies across the habitat, split into parcels accordingly, applying a buffer zone around the invasive non-native species with a size relative to its risk of spread into adjacent habitat, using professional judgement. Footnote 5 – Professional judgement should be used to assess this and evidence should be provided according to the INSTRUCTIONS Tab of this spreadsheet. Definition of sensitive areas: (a) Vegetation severely wind-clipped, mostly forming a mat less than 10 cm thick. (b) Areas where soils are thin and less than 5 cm deep. (c) Hill slopes greater than 1 in 2 (26o), and all the sides of gullies. (d) Ground with abundant, and or an almost continuous carpet of Sphagnum moss Sphagnum spp., bilberry Vaccinium myrtillus, liverworts and or lichens. (e) Areas with noticeably uneven structure, at a spatial scale of around 1 m2 or less. The unevenness (more commonly found in very old heather stands) will relate to distinct, often large, spreading dwarf shrub bushes. The dwarf shrub canopy will not be completely continuous, and some of its upper surface may be twice as high as other parts. Layering is likely to be present and may be common. (f) Pools, wet hollows, peat haggs and erosion gullies within 10 m of the edge of watercourses. Footnote 6 – Cover of bracken may exceed 5% where there is an identified biodiversity benefit, for example bracken beds in the South Pennines as nesting sites for twite Linaria flavirostris. Footnote 7 – Damaging activities include: accidental or unmanaged fires; managed fires on wet heath; excessive poaching; damage from machinery use or storage; and damaging levels of public access resulting in trampling and or litter.

Sheet 9.INDIVIDUAL TREES
A1: Condition Sheet: INDIVIDUAL TREES Habitat Type
A2: Habitat Types
A3: Individual trees – Urban trees Individual trees – Rural trees Complete a condition sheet for each tree or block of trees. Please see the separate Line of trees condition sheet for a line of rural trees. You should only use the Line of trees condition assessment and record that habitat type in rural locations.
A4: Habitat Description
A6: Individual trees (description applied to the urban or rural environment): Young trees over 7.5 cm in diameter at breast height whose canopies are not touching. Urban Perimeter / Linear Blocks and Groups (description applied to the urban environment only): Groups or stands of trees (size requirement as defined above) within and around the perimeter of urban land. This includes those along urban streets, highways, railways and canals, and also former field boundary trees incorporated into developments. Canopies should predominantly overlap continuously. Groups of urban trees that don’t match the descriptions for woodland may be assessed within this category.
A7: On-site or off-site, site name and location | C7: ='SURVEY COVER SHEET '!D4&" - "&'SURVEY COVER SHEET '!D2 -> On-site - Reading Gateway | D7: Survey date and Surveyor name | G7: =TEXT('SURVEY COVER SHEET '!$B$2,"dd/mm/yyyy")&" - "&'SURVEY COVER SHEET '!$B$4 -> 19/03/2026 - Ben Wagstffe
C8: ='SURVEY COVER SHEET '!D5&" - "&'SURVEY COVER SHEET '!D3 -> - | D8: Survey reference (if relating to a wider survey)
A9: Limitations (if applicable) | D9: Habitat parcel reference
D10: 1 | E10: 2
D11: Grid reference
A12: Condition Assessment Criteria | D12: SU 71568 69217 | E12: SU 71569 69214
D13: Criterion passed (Yes or No) | AM13: Notes (such as justification)
A14: A | B14: The tree is a native species (or at least 70% within the block are native species). | D14: Yes | E14: Yes
A15: B | B15: The tree canopy is predominantly continuous, with gaps in canopy cover making up <10% of total area and no individual gap being >5 m wide (individual trees automatically pass this criterion). | D15: Yes | E15: Yes
A16: C | B16: The tree is mature (or more than 50% within the block are mature)1. | D16: No | E16: No
A17: D | B17: There is little or no evidence of an adverse impact on tree health by human activities (such as vandalism, herbicide or detrimental agricultural activity). And there is no current regular pruning regime, so the trees retain >75% of expected canopy for their age range and height. | D17: Yes | E17: Yes
A18: E | B18: Natural ecological niches for vertebrates and invertebrates are present, such as presence of deadwood, cavities, ivy or loose bark. | D18: No | E18: No
A19: F | B19: More than 20% of the tree canopy area is oversailing vegetation beneath. | D19: Yes | E19: Yes
A20: Number of criteria passed | D20: =IF(COUNTA(D14:D19)<6,"", COUNTIF(D14:D19,"Yes")) -> 4 | E20: =IF(COUNTA(E14:E19)<6,"", COUNTIF(E14:E19,"Yes")) -> 4 | F20: =IF(COUNTA(F14:F19)<6,"", COUNTIF(F14:F19,"Yes")) | G20: =IF(COUNTA(G14:G19)<6,"", COUNTIF(G14:G19,"Yes")) | H20: =IF(COUNTA(H14:H19)<6,"", COUNTIF(H14:H19,"Yes")) | I20: =IF(COUNTA(I14:I19)<6,"", COUNTIF(I14:I19,"Yes")) | J20: =IF(COUNTA(J14:J19)<6,"", COUNTIF(J14:J19,"Yes")) | K20: =IF(COUNTA(K14:K19)<6,"", COUNTIF(K14:K19,"Yes")) | ... AL20: =IF(COUNTA(AL14:AL19)<6,"", COUNTIF(AL14:AL19,"Yes"))
A21: Condition Assessment Result (out of 6 criteria) | C21: Condition Assessment Score | D21: Score Achieved ×/✓
A22: Passes 5 or 6 criteria | C22: Good (3) | D22: =IF(COUNTA(D14:D19)<6,"", IF(D20>=5,"✓","")) | E22: =IF(COUNTA(E14:E19)<6,"", IF(E20>=5,"✓","")) | F22: =IF(COUNTA(F14:F19)<6,"", IF(F20>=5,"✓","")) | G22: =IF(COUNTA(G14:G19)<6,"", IF(G20>=5,"✓","")) | H22: =IF(COUNTA(H14:H19)<6,"", IF(H20>=5,"✓","")) | I22: =IF(COUNTA(I14:I19)<6,"", IF(I20>=5,"✓","")) | J22: =IF(COUNTA(J14:J19)<6,"", IF(J20>=5,"✓","")) | K22: =IF(COUNTA(K14:K19)<6,"", IF(K20>=5,"✓","")) | ... AL22: =IF(COUNTA(AL14:AL19)<6,"", IF(AL20>=5,"✓",""))
A23: Passes 3 or 4 criteria | C23: Moderate (2) | D23: =IF(COUNTA(D14:D19)<6,"", IF(OR(D20=3,D20=4),"✓","")) -> ✓ | E23: =IF(COUNTA(E14:E19)<6,"", IF(OR(E20=3,E20=4),"✓","")) -> ✓ | F23: =IF(COUNTA(F14:F19)<6,"", IF(OR(F20=3,F20=4),"✓","")) | G23: =IF(COUNTA(G14:G19)<6,"", IF(OR(G20=3,G20=4),"✓","")) | H23: =IF(COUNTA(H14:H19)<6,"", IF(OR(H20=3,H20=4),"✓","")) | I23: =IF(COUNTA(I14:I19)<6,"", IF(OR(I20=3,I20=4),"✓","")) | J23: =IF(COUNTA(J14:J19)<6,"", IF(OR(J20=3,J20=4),"✓","")) | K23: =IF(COUNTA(K14:K19)<6,"", IF(OR(K20=3,K20=4),"✓","")) | ... AL23: =IF(COUNTA(AL14:AL19)<6,"", IF(OR(AL20=3,AL20=4),"✓",""))
A24: Passes 2 or fewer criteria | C24: Poor (1) | D24: =IF(COUNTA(D14:D19)<6,"", IF(D20<=2,"✓","")) | E24: =IF(COUNTA(E14:E19)<6,"", IF(E20<=2,"✓","")) | F24: =IF(COUNTA(F14:F19)<6,"", IF(F20<=2,"✓","")) | G24: =IF(COUNTA(G14:G19)<6,"", IF(G20<=2,"✓","")) | H24: =IF(COUNTA(H14:H19)<6,"", IF(H20<=2,"✓","")) | I24: =IF(COUNTA(I14:I19)<6,"", IF(I20<=2,"✓","")) | J24: =IF(COUNTA(J14:J19)<6,"", IF(J20<=2,"✓","")) | K24: =IF(COUNTA(K14:K19)<6,"", IF(K20<=2,"✓","")) | ... AL24: =IF(COUNTA(AL14:AL19)<6,"", IF(AL20<=2,"✓",""))
A25: Note that ‘Fairly Good and Fairly Poor’ condition categories are not available for this broad habitat type.
A26: Suggested enhancement interventions to improve condition score2
A28: Footnotes
A29: Footnote 1 - See gov.uk standing advice on ancient and veteran trees. Available from:
A30: Keepers of time: ancient and native woodland and trees policy in England (publishing.service.gov.uk)
A31: and:
A32: Ancient woodland, ancient trees and veteran trees: advice for making planning decisions - GOV.UK (www.gov.uk)
A33: Footnote 2 - Enhancement of this habitat type is only possible by improving the habitat so that it meets all Criteria B, D and F. It is not possible or appropriate to enhance individual tree/s through meeting just one or two of those Criteria, nor by meeting Criteria A, C or E.

Sheet 8. HEDGEROW
A1: Condition sheet: HEDGEROW Habitat Types
A2: Habitat Type
A3: Native hedgerow Native hedgerow - associated with bank or ditch Native hedgerow with trees Native hedgerow with trees - associated with bank or ditch Species-rich native hedgerow Species-rich native hedgerow - associated with bank or ditch Species-rich native hedgerow with trees Species-rich native hedgerow with trees - associated with bank or ditch
A4: Habitat Description
A6: ukhab – UK Habitat Classification
A7: On-site or off-site, site name and location | C7: ='SURVEY COVER SHEET '!D4&" - "&'SURVEY COVER SHEET '!D2 -> On-site - Reading Gateway | E7: Survey date and Surveyor name | F7: =TEXT('SURVEY COVER SHEET '!$B$2,"dd/mm/yyyy")&" - "&'SURVEY COVER SHEET '!$B$4 -> 19/03/2026 - Ben Wagstffe | G7: See cover sheet | H7: See cover sheet | U7: See cover sheet | V7: See cover sheet | X7: See cover sheet | Y7: See cover sheet | Z7: See cover sheet | AA7: See cover sheet
A8: Limitations (if applicable) | E8: Survey reference (if relating to a wider survey)
A9: Condition Assessment Details
A10: A series of ten attributes, representing key physical characteristics are used for this assessment. Each attribute is assigned to one of five functional groups (A – E) and the condition of a hedgerow is assessed according to the number of attributes from these functional groups which pass or fail the ‘favourable condition’ criteria. This assessment is based on the Hedgerow Survey Handbook1 and Favourable Conservation Status document2. For further clarification please refer to the Hedgerow Survey Handbook. Best practice would be to record the species, age, spacing and other key information about all trees present along a hedgerow within the 'Habitat Description' box, as well as other key features of the hedgerow.
A11: Hedgerow favourable condition attributes
A12: Attributes and functional groupings (A, B, C, D and E) | C12: Criteria - the minimum requirements for ‘favourable condition’ | D12: Criteria description | G12: Habitat Type
G13: Native hedgerow
G14: Habitat parcel reference
G15: 1
G16: Grid reference
G17: SU 71566 69215
A18: Core groups - applicable to all hedgerow types | G18: Criterion passed (Yes or No) | AA18: Notes (such as justification)
A19: A1. | B19: Height | C19: >1.5 m average along length | D19: The average height of woody growth estimated from base of stem to the top of the shoots, excluding any bank beneath the hedgerow, any gaps or isolated trees. Newly laid or coppiced hedgerows are indicative of good management and pass this criterion for up to a maximum of four years (if undertaken according to good practice). A newly planted hedgerow does not pass this criterion (unless it is >1.5 m height). | G19: No
A20: A2. | B20: Width | C20: >1.5 m average along length | D20: The average width of woody growth estimated at the widest point of the canopy, excluding gaps and isolated trees. Outgrowths (such as blackthorn Prunus spinosa suckers) are only included in the width estimate when they are >0.5 m in height. Laid, coppiced, cut and newly planted hedgerows are indicative of good management and pass this criterion for up to a maximum of four years (if undertaken according to good practice). | G20: No
A21: B1. | B21: Gap - hedge base | C21: Gap between ground and base of canopy <0.5 m for >90% of length | D21: This is the vertical ‘gappiness’ of the woody component of the hedgerow, and its distance from the ground to the lowest leafy growth. Certain exceptions to this criterion are acceptable (see page 65 of the Hedgerow Survey Handbook). | G21: Yes
A22: B2. | B22: Gap - hedge canopy continuity | C22: Gaps make up <10% of total length; and No canopy gaps >5 m | D22: This is the horizontal ‘gappiness’ of the woody component of the hedgerow. Gaps are complete breaks in the woody canopy (no matter how small). Access points and gates contribute to the overall ‘gappiness’ but are not subject to the >5 m criterion (as this is the typical size of a gate). | G22: Yes
A23: C1. | B23: Undisturbed ground and perennial vegetation | C23: >1 m width of undisturbed ground with perennial herbaceous vegetation for >90% of length: · Measured from outer edge of hedgerow; and · Is present on one side of the hedgerow (at least). | D23: This is the level of disturbance (excluding wildlife disturbance) at the base of the hedgerow. Undisturbed ground is present for at least 90% of the hedgerow length, greater than 1 m in width and must be present along at least one side of the hedgerow. This criterion recognises the value of the hedgerow base as a boundary habitat with the capacity to support a wide range of species. Cultivation, heavily trodden footpaths, poached ground etc. can limit available habitat niches. | G23: No
A24: C2. | B24: Nutrient-enriched perennial vegetation | C24: Plant species indicative of nutrient enrichment of soils dominate <20% cover of the area of undisturbed ground. | D24: The indicator species used are nettles Urtica spp., cleavers Galium aparine and docks Rumex spp. Their presence, either singly or together, does not exceed the 20% cover threshold. | G24: Yes
A25: D1. | B25: Invasive and neophyte species | C25: >90% of the hedgerow and undisturbed ground is free of invasive non-native plant species (including those listed on Schedule 9 of WCA3) and recently introduced species. | D25: Recently introduced species refer to plants that have naturalised in the UK since AD 1500 (neophytes). Archaeophytes count as natives. For information on archaeophytes and neophytes see the JNCC website4, as well as the BSBI website5 where the ‘Online Atlas of the British and Irish Flora’6 contains an up-to-date list of the status of species. For information on invasive non-native species see the GB Non-Native Secretariat website7. | G25: Yes
A26: D2. | B26: Current damage | C26: >90% of the hedgerow or undisturbed ground is free of damage caused by human activities. | D26: This criterion addresses damaging activities that may have led to or lead to deterioration in other attributes. This could include evidence of pollution, piles of manure or rubble, or inappropriate management practices (for example, excessive hedgerow cutting). | G26: No
A27: Additional group - applicable to hedgerows with trees only
A28: E1. | B28: Tree class | C28: There is more than one age-class (or morphology) of tree present (for example: young, mature, veteran and or ancient8), and there is on average at least one mature, ancient or veteran tree present per 20 - 50m of hedgerow. | D28: This criterion addresses if there are a range of age-classes or morphologies which allow for replacement of trees and provide opportunities for different species.
A29: E2. | B29: Tree health | C29: At least 95% of hedgerow trees are in a healthy condition (excluding veteran features valuable for wildlife). There is little or no evidence of an adverse impact on tree health by damage from livestock or wild animals, pests or diseases, or human activity. | D29: This criterion identifies if the trees are subject to damage which compromises the survival and health of the individual specimens.
A30: Failed Functional Groups | G30: =IF(TRIM(G13)="","", _xlfn.LET(_xlpm.x,_xlfn.TEXTJOIN(", ",TRUE, IF(AND(G19="No",G20="No"),"A",""), IF(AND(G21="No",G22="No"),"B",""), IF(AND(G23="No",G24="No"),"C",""), IF(AND(G25="No",G26="No"),"D",""), IF(AND(ISNUMBER(SEARCH("with trees",LOWER(G13))),G28="No",G29="No"),"E","")), IF(_xlpm.x="","None",_xlpm.x))) -> A | H30: =IF(TRIM(H13)="","", _xlfn.LET(_xlpm.x,_xlfn.TEXTJOIN(", ",TRUE, IF(AND(H19="No",H20="No"),"A",""), IF(AND(H21="No",H22="No"),"B",""), IF(AND(H23="No",H24="No"),"C",""), IF(AND(H25="No",H26="No"),"D",""), IF(AND(ISNUMBER(SEARCH("with trees",LOWER(H13))),H28="No",H29="No"),"E","")), IF(_xlpm.x="","None",_xlpm.x))) | I30: =IF(TRIM(I13)="","", _xlfn.LET(_xlpm.x,_xlfn.TEXTJOIN(", ",TRUE, IF(AND(I19="No",I20="No"),"A",""), IF(AND(I21="No",I22="No"),"B",""), IF(AND(I23="No",I24="No"),"C",""), IF(AND(I25="No",I26="No"),"D",""), IF(AND(ISNUMBER(SEARCH("with trees",LOWER(I13))),I28="No",I29="No"),"E","")), IF(_xlpm.x="","None",_xlpm.x))) | J30: =IF(TRIM(J13)="","", _xlfn.LET(_xlpm.x,_xlfn.TEXTJOIN(", ",TRUE, IF(AND(J19="No",J20="No"),"A",""), IF(AND(J21="No",J22="No"),"B",""), IF(AND(J23="No",J24="No"),"C",""), IF(AND(J25="No",J26="No"),"D",""), IF(AND(ISNUMBER(SEARCH("with trees",LOWER(J13))),J28="No",J29="No"),"E","")), IF(_xlpm.x="","None",_xlpm.x))) | K30: =IF(TRIM(K13)="","", _xlfn.LET(_xlpm.x,_xlfn.TEXTJOIN(", ",TRUE, IF(AND(K19="No",K20="No"),"A",""), IF(AND(K21="No",K22="No"),"B",""), IF(AND(K23="No",K24="No"),"C",""), IF(AND(K25="No",K26="No"),"D",""), IF(AND(ISNUMBER(SEARCH("with trees",LOWER(K13))),K28="No",K29="No"),"E","")), IF(_xlpm.x="","None",_xlpm.x))) | L30: =IF(TRIM(L13)="","", _xlfn.LET(_xlpm.x,_xlfn.TEXTJOIN(", ",TRUE, IF(AND(L19="No",L20="No"),"A",""), IF(AND(L21="No",L22="No"),"B",""), IF(AND(L23="No",L24="No"),"C",""), IF(AND(L25="No",L26="No"),"D",""), IF(AND(ISNUMBER(SEARCH("with trees",LOWER(L13))),L28="No",L29="No"),"E","")), IF(_xlpm.x="","None",_xlpm.x))) | M30: =IF(TRIM(M13)="","", _xlfn.LET(_xlpm.x,_xlfn.TEXTJOIN(", ",TRUE, IF(AND(M19="No",M20="No"),"A",""), IF(AND(M21="No",M22="No"),"B",""), IF(AND(M23="No",M24="No"),"C",""), IF(AND(M25="No",M26="No"),"D",""), IF(AND(ISNUMBER(SEARCH("with trees",LOWER(M13))),M28="No",M29="No"),"E","")), IF(_xlpm.x="","None",_xlpm.x))) | N30: =IF(TRIM(N13)="","", _xlfn.LET(_xlpm.x,_xlfn.TEXTJOIN(", ",TRUE, IF(AND(N19="No",N20="No"),"A",""), IF(AND(N21="No",N22="No"),"B",""), IF(AND(N23="No",N24="No"),"C",""), IF(AND(N25="No",N26="No"),"D",""), IF(AND(ISNUMBER(SEARCH("with trees",LOWER(N13))),N28="No",N29="No"),"E","")), IF(_xlpm.x="","None",_xlpm.x))) | ... V30: =IF(TRIM(V13)="","", _xlfn.LET(_xlpm.x,_xlfn.TEXTJOIN(", ",TRUE, IF(AND(V19="No",V20="No"),"A",""), IF(AND(V21="No",V22="No"),"B",""), IF(AND(V23="No",V24="No"),"C",""), IF(AND(V25="No",V26="No"),"D",""), IF(AND(ISNUMBER(SEARCH("with trees",LOWER(V13))),V28="No",V29="No"),"E","")), IF(_xlpm.x="","None",_xlpm.x))) | X30: =IF(TRIM(X13)="","", _xlfn.LET(_xlpm.x,_xlfn.TEXTJOIN(", ",TRUE, IF(AND(X19="No",X20="No"),"A",""), IF(AND(X21="No",X22="No"),"B",""), IF(AND(X23="No",X24="No"),"C",""), IF(AND(X25="No",X26="No"),"D",""), IF(AND(ISNUMBER(SEARCH("with trees",LOWER(X13))),X28="No",X29="No"),"E","")), IF(_xlpm.x="","None",_xlpm.x))) | Y30: =IF(TRIM(Y13)="","", _xlfn.LET(_xlpm.x,_xlfn.TEXTJOIN(", ",TRUE, IF(AND(Y19="No",Y20="No"),"A",""), IF(AND(Y21="No",Y22="No"),"B",""), IF(AND(Y23="No",Y24="No"),"C",""), IF(AND(Y25="No",Y26="No"),"D",""), IF(AND(ISNUMBER(SEARCH("with trees",LOWER(Y13))),Y28="No",Y29="No"),"E","")), IF(_xlpm.x="","None",_xlpm.x))) | Z30: =IF(TRIM(Z13)="","", _xlfn.LET(_xlpm.x,_xlfn.TEXTJOIN(", ",TRUE, IF(AND(Z19="No",Z20="No"),"A",""), IF(AND(Z21="No",Z22="No"),"B",""), IF(AND(Z23="No",Z24="No"),"C",""), IF(AND(Z25="No",Z26="No"),"D",""), IF(AND(ISNUMBER(SEARCH("with trees",LOWER(Z13))),Z28="No",Z29="No"),"E","")), IF(_xlpm.x="","None",_xlpm.x)))
A31: Number of criteria Failed | G31: =IF(TRIM(G13)="","", IF(AND(NOT(ISNUMBER(SEARCH("with trees",G13))),COUNTIF(G28:G29,"<>")>0),"N/A", IF(AND(ISNUMBER(SEARCH("with trees",G13)),COUNTIF(G28:G29,"")=2),"N/A", IF(AND(ISNUMBER(SEARCH("with trees",G13)),COUNTA(G19:G26,G28:G29)<10),"", IF(AND(NOT(ISNUMBER(SEARCH("with trees",G13))),COUNTA(G19:G26)<8),"", COUNTIF(G19:G26,"No")+COUNTIF(G28:G29,"No")))))) -> 4 | H31: =IF(TRIM(H13)="","", IF(AND(NOT(ISNUMBER(SEARCH("with trees",H13))),COUNTIF(H28:H29,"<>")>0),"N/A", IF(AND(ISNUMBER(SEARCH("with trees",H13)),COUNTIF(H28:H29,"")=2),"N/A", IF(AND(ISNUMBER(SEARCH("with trees",H13)),COUNTA(H19:H26,H28:H29)<10),"", IF(AND(NOT(ISNUMBER(SEARCH("with trees",H13))),COUNTA(H19:H26)<8),"", COUNTIF(H19:H26,"No")+COUNTIF(H28:H29,"No")))))) | I31: =IF(TRIM(I13)="","", IF(AND(NOT(ISNUMBER(SEARCH("with trees",I13))),COUNTIF(I28:I29,"<>")>0),"N/A", IF(AND(ISNUMBER(SEARCH("with trees",I13)),COUNTIF(I28:I29,"")=2),"N/A", IF(AND(ISNUMBER(SEARCH("with trees",I13)),COUNTA(I19:I26,I28:I29)<10),"", IF(AND(NOT(ISNUMBER(SEARCH("with trees",I13))),COUNTA(I19:I26)<8),"", COUNTIF(I19:I26,"No")+COUNTIF(I28:I29,"No")))))) | J31: =IF(TRIM(J13)="","", IF(AND(NOT(ISNUMBER(SEARCH("with trees",J13))),COUNTIF(J28:J29,"<>")>0),"N/A", IF(AND(ISNUMBER(SEARCH("with trees",J13)),COUNTIF(J28:J29,"")=2),"N/A", IF(AND(ISNUMBER(SEARCH("with trees",J13)),COUNTA(J19:J26,J28:J29)<10),"", IF(AND(NOT(ISNUMBER(SEARCH("with trees",J13))),COUNTA(J19:J26)<8),"", COUNTIF(J19:J26,"No")+COUNTIF(J28:J29,"No")))))) | K31: =IF(TRIM(K13)="","", IF(AND(NOT(ISNUMBER(SEARCH("with trees",K13))),COUNTIF(K28:K29,"<>")>0),"N/A", IF(AND(ISNUMBER(SEARCH("with trees",K13)),COUNTIF(K28:K29,"")=2),"N/A", IF(AND(ISNUMBER(SEARCH("with trees",K13)),COUNTA(K19:K26,K28:K29)<10),"", IF(AND(NOT(ISNUMBER(SEARCH("with trees",K13))),COUNTA(K19:K26)<8),"", COUNTIF(K19:K26,"No")+COUNTIF(K28:K29,"No")))))) | L31: =IF(TRIM(L13)="","", IF(AND(NOT(ISNUMBER(SEARCH("with trees",L13))),COUNTIF(L28:L29,"<>")>0),"N/A", IF(AND(ISNUMBER(SEARCH("with trees",L13)),COUNTIF(L28:L29,"")=2),"N/A", IF(AND(ISNUMBER(SEARCH("with trees",L13)),COUNTA(L19:L26,L28:L29)<10),"", IF(AND(NOT(ISNUMBER(SEARCH("with trees",L13))),COUNTA(L19:L26)<8),"", COUNTIF(L19:L26,"No")+COUNTIF(L28:L29,"No")))))) | M31: =IF(TRIM(M13)="","", IF(AND(NOT(ISNUMBER(SEARCH("with trees",M13))),COUNTIF(M28:M29,"<>")>0),"N/A", IF(AND(ISNUMBER(SEARCH("with trees",M13)),COUNTIF(M28:M29,"")=2),"N/A", IF(AND(ISNUMBER(SEARCH("with trees",M13)),COUNTA(M19:M26,M28:M29)<10),"", IF(AND(NOT(ISNUMBER(SEARCH("with trees",M13))),COUNTA(M19:M26)<8),"", COUNTIF(M19:M26,"No")+COUNTIF(M28:M29,"No")))))) | N31: =IF(TRIM(N13)="","", IF(AND(NOT(ISNUMBER(SEARCH("with trees",N13))),COUNTIF(N28:N29,"<>")>0),"N/A", IF(AND(ISNUMBER(SEARCH("with trees",N13)),COUNTIF(N28:N29,"")=2),"N/A", IF(AND(ISNUMBER(SEARCH("with trees",N13)),COUNTA(N19:N26,N28:N29)<10),"", IF(AND(NOT(ISNUMBER(SEARCH("with trees",N13))),COUNTA(N19:N26)<8),"", COUNTIF(N19:N26,"No")+COUNTIF(N28:N29,"No")))))) | ... V31: =IF(TRIM(V13)="","", IF(AND(NOT(ISNUMBER(SEARCH("with trees",V13))),COUNTIF(V28:V29,"<>")>0),"N/A", IF(AND(ISNUMBER(SEARCH("with trees",V13)),COUNTIF(V28:V29,"")=2),"N/A", IF(AND(ISNUMBER(SEARCH("with trees",V13)),COUNTA(V19:V26,V28:V29)<10),"", IF(AND(NOT(ISNUMBER(SEARCH("with trees",V13))),COUNTA(V19:V26)<8),"", COUNTIF(V19:V26,"No")+COUNTIF(V28:V29,"No")))))) | X31: =IF(TRIM(X13)="","", IF(AND(NOT(ISNUMBER(SEARCH("with trees",X13))),COUNTIF(X28:X29,"<>")>0),"N/A", IF(AND(ISNUMBER(SEARCH("with trees",X13)),COUNTIF(X28:X29,"")=2),"N/A", IF(AND(ISNUMBER(SEARCH("with trees",X13)),COUNTA(X19:X26,X28:X29)<10),"", IF(AND(NOT(ISNUMBER(SEARCH("with trees",X13))),COUNTA(X19:X26)<8),"", COUNTIF(X19:X26,"No")+COUNTIF(X28:X29,"No")))))) | Y31: =IF(TRIM(Y13)="","", IF(AND(NOT(ISNUMBER(SEARCH("with trees",Y13))),COUNTIF(Y28:Y29,"<>")>0),"N/A", IF(AND(ISNUMBER(SEARCH("with trees",Y13)),COUNTIF(Y28:Y29,"")=2),"N/A", IF(AND(ISNUMBER(SEARCH("with trees",Y13)),COUNTA(Y19:Y26,Y28:Y29)<10),"", IF(AND(NOT(ISNUMBER(SEARCH("with trees",Y13))),COUNTA(Y19:Y26)<8),"", COUNTIF(Y19:Y26,"No")+COUNTIF(Y28:Y29,"No")))))) | Z31: =IF(TRIM(Z13)="","", IF(AND(NOT(ISNUMBER(SEARCH("with trees",Z13))),COUNTIF(Z28:Z29,"<>")>0),"N/A", IF(AND(ISNUMBER(SEARCH("with trees",Z13)),COUNTIF(Z28:Z29,"")=2),"N/A", IF(AND(ISNUMBER(SEARCH("with trees",Z13)),COUNTA(Z19:Z26,Z28:Z29)<10),"", IF(AND(NOT(ISNUMBER(SEARCH("with trees",Z13))),COUNTA(Z19:Z26)<8),"", COUNTIF(Z19:Z26,"No")+COUNTIF(Z28:Z29,"No"))))))
A32: Number of criteria passed | G32: =IF(TRIM(G13)="","", IF(AND(NOT(ISNUMBER(SEARCH("with trees",G13))),COUNTIF(G28:G29,"<>")>0),"N/A", IF(AND(ISNUMBER(SEARCH("with trees",G13)),COUNTIF(G28:G29,"")=2),"N/A", IF(AND(ISNUMBER(SEARCH("with trees",G13)),COUNTA(G19:G26,G28:G29)<10),"", IF(AND(NOT(ISNUMBER(SEARCH("with trees",G13))),COUNTA(G19:G26)<8),"", COUNTIF(G19:G26,"Yes")+COUNTIF(G28:G29,"Yes")))))) -> 4 | H32: =IF(TRIM(H13)="","", IF(AND(NOT(ISNUMBER(SEARCH("with trees",H13))),COUNTIF(H28:H29,"<>")>0),"N/A", IF(AND(ISNUMBER(SEARCH("with trees",H13)),COUNTIF(H28:H29,"")=2),"N/A", IF(AND(ISNUMBER(SEARCH("with trees",H13)),COUNTA(H19:H26,H28:H29)<10),"", IF(AND(NOT(ISNUMBER(SEARCH("with trees",H13))),COUNTA(H19:H26)<8),"", COUNTIF(H19:H26,"Yes")+COUNTIF(H28:H29,"Yes")))))) | I32: =IF(TRIM(I13)="","", IF(AND(NOT(ISNUMBER(SEARCH("with trees",I13))),COUNTIF(I28:I29,"<>")>0),"N/A", IF(AND(ISNUMBER(SEARCH("with trees",I13)),COUNTIF(I28:I29,"")=2),"N/A", IF(AND(ISNUMBER(SEARCH("with trees",I13)),COUNTA(I19:I26,I28:I29)<10),"", IF(AND(NOT(ISNUMBER(SEARCH("with trees",I13))),COUNTA(I19:I26)<8),"", COUNTIF(I19:I26,"Yes")+COUNTIF(I28:I29,"Yes")))))) | J32: =IF(TRIM(J13)="","", IF(AND(NOT(ISNUMBER(SEARCH("with trees",J13))),COUNTIF(J28:J29,"<>")>0),"N/A", IF(AND(ISNUMBER(SEARCH("with trees",J13)),COUNTIF(J28:J29,"")=2),"N/A", IF(AND(ISNUMBER(SEARCH("with trees",J13)),COUNTA(J19:J26,J28:J29)<10),"", IF(AND(NOT(ISNUMBER(SEARCH("with trees",J13))),COUNTA(J19:J26)<8),"", COUNTIF(J19:J26,"Yes")+COUNTIF(J28:J29,"Yes")))))) | K32: =IF(TRIM(K13)="","", IF(AND(NOT(ISNUMBER(SEARCH("with trees",K13))),COUNTIF(K28:K29,"<>")>0),"N/A", IF(AND(ISNUMBER(SEARCH("with trees",K13)),COUNTIF(K28:K29,"")=2),"N/A", IF(AND(ISNUMBER(SEARCH("with trees",K13)),COUNTA(K19:K26,K28:K29)<10),"", IF(AND(NOT(ISNUMBER(SEARCH("with trees",K13))),COUNTA(K19:K26)<8),"", COUNTIF(K19:K26,"Yes")+COUNTIF(K28:K29,"Yes")))))) | L32: =IF(TRIM(L13)="","", IF(AND(NOT(ISNUMBER(SEARCH("with trees",L13))),COUNTIF(L28:L29,"<>")>0),"N/A", IF(AND(ISNUMBER(SEARCH("with trees",L13)),COUNTIF(L28:L29,"")=2),"N/A", IF(AND(ISNUMBER(SEARCH("with trees",L13)),COUNTA(L19:L26,L28:L29)<10),"", IF(AND(NOT(ISNUMBER(SEARCH("with trees",L13))),COUNTA(L19:L26)<8),"", COUNTIF(L19:L26,"Yes")+COUNTIF(L28:L29,"Yes")))))) | M32: =IF(TRIM(M13)="","", IF(AND(NOT(ISNUMBER(SEARCH("with trees",M13))),COUNTIF(M28:M29,"<>")>0),"N/A", IF(AND(ISNUMBER(SEARCH("with trees",M13)),COUNTIF(M28:M29,"")=2),"N/A", IF(AND(ISNUMBER(SEARCH("with trees",M13)),COUNTA(M19:M26,M28:M29)<10),"", IF(AND(NOT(ISNUMBER(SEARCH("with trees",M13))),COUNTA(M19:M26)<8),"", COUNTIF(M19:M26,"Yes")+COUNTIF(M28:M29,"Yes")))))) | N32: =IF(TRIM(N13)="","", IF(AND(NOT(ISNUMBER(SEARCH("with trees",N13))),COUNTIF(N28:N29,"<>")>0),"N/A", IF(AND(ISNUMBER(SEARCH("with trees",N13)),COUNTIF(N28:N29,"")=2),"N/A", IF(AND(ISNUMBER(SEARCH("with trees",N13)),COUNTA(N19:N26,N28:N29)<10),"", IF(AND(NOT(ISNUMBER(SEARCH("with trees",N13))),COUNTA(N19:N26)<8),"", COUNTIF(N19:N26,"Yes")+COUNTIF(N28:N29,"Yes")))))) | ... V32: =IF(TRIM(V13)="","", IF(AND(NOT(ISNUMBER(SEARCH("with trees",V13))),COUNTIF(V28:V29,"<>")>0),"N/A", IF(AND(ISNUMBER(SEARCH("with trees",V13)),COUNTIF(V28:V29,"")=2),"N/A", IF(AND(ISNUMBER(SEARCH("with trees",V13)),COUNTA(V19:V26,V28:V29)<10),"", IF(AND(NOT(ISNUMBER(SEARCH("with trees",V13))),COUNTA(V19:V26)<8),"", COUNTIF(V19:V26,"Yes")+COUNTIF(V28:V29,"Yes")))))) | X32: =IF(TRIM(X13)="","", IF(AND(NOT(ISNUMBER(SEARCH("with trees",X13))),COUNTIF(X28:X29,"<>")>0),"N/A", IF(AND(ISNUMBER(SEARCH("with trees",X13)),COUNTIF(X28:X29,"")=2),"N/A", IF(AND(ISNUMBER(SEARCH("with trees",X13)),COUNTA(X19:X26,X28:X29)<10),"", IF(AND(NOT(ISNUMBER(SEARCH("with trees",X13))),COUNTA(X19:X26)<8),"", COUNTIF(X19:X26,"Yes")+COUNTIF(X28:X29,"Yes")))))) | Y32: =IF(TRIM(Y13)="","", IF(AND(NOT(ISNUMBER(SEARCH("with trees",Y13))),COUNTIF(Y28:Y29,"<>")>0),"N/A", IF(AND(ISNUMBER(SEARCH("with trees",Y13)),COUNTIF(Y28:Y29,"")=2),"N/A", IF(AND(ISNUMBER(SEARCH("with trees",Y13)),COUNTA(Y19:Y26,Y28:Y29)<10),"", IF(AND(NOT(ISNUMBER(SEARCH("with trees",Y13))),COUNTA(Y19:Y26)<8),"", COUNTIF(Y19:Y26,"Yes")+COUNTIF(Y28:Y29,"Yes")))))) | Z32: =IF(TRIM(Z13)="","", IF(AND(NOT(ISNUMBER(SEARCH("with trees",Z13))),COUNTIF(Z28:Z29,"<>")>0),"N/A", IF(AND(ISNUMBER(SEARCH("with trees",Z13)),COUNTIF(Z28:Z29,"")=2),"N/A", IF(AND(ISNUMBER(SEARCH("with trees",Z13)),COUNTA(Z19:Z26,Z28:Z29)<10),"", IF(AND(NOT(ISNUMBER(SEARCH("with trees",Z13))),COUNTA(Z19:Z26)<8),"", COUNTIF(Z19:Z26,"Yes")+COUNTIF(Z28:Z29,"Yes"))))))
A33: The hedgerow condition assessment generates a weighting (score) ranging from 1 - 3, which is used within the Statutory Biodiversity Metric. The scores for each are set out in the tables below.
A34: Condition categories for hedgerows without trees | G34: Score achieved
A35: Category | C35: Category Requirements | F35: Metric Score
A36: Good | C36: No more than 2 failures in total; AND No more than 1 failure in any functional group. | F36: 3 | G36: {=IF(TRIM(G13)="","", IF(ISNUMBER(SEARCH("with trees",LOWER(G13))),"N/A", IF(OR(COUNTA(G19:G26)<8,G28:G29<>""),"", IF(AND(G31<=2, IF(AND(G19="No",G20="No"),1,0)+ IF(AND(G21="No",G22="No"),1,0)+ IF(AND(G23="No",G24="No"),1,0)+ IF(AND(G25="No",G26="No"),1,0)=0), "✓",""))))} | H36: {=IF(TRIM(H13)="","", IF(ISNUMBER(SEARCH("with trees",LOWER(H13))),"N/A", IF(OR(COUNTA(H19:H26)<8,H28:H29<>""),"", IF(AND(H31<=2, IF(AND(H19="No",H20="No"),1,0)+ IF(AND(H21="No",H22="No"),1,0)+ IF(AND(H23="No",H24="No"),1,0)+ IF(AND(H25="No",H26="No"),1,0)=0), "✓",""))))} | I36: {=IF(TRIM(I13)="","", IF(ISNUMBER(SEARCH("with trees",LOWER(I13))),"N/A", IF(OR(COUNTA(I19:I26)<8,I28:I29<>""),"", IF(AND(I31<=2, IF(AND(I19="No",I20="No"),1,0)+ IF(AND(I21="No",I22="No"),1,0)+ IF(AND(I23="No",I24="No"),1,0)+ IF(AND(I25="No",I26="No"),1,0)=0), "✓",""))))} | J36: {=IF(TRIM(J13)="","", IF(ISNUMBER(SEARCH("with trees",LOWER(J13))),"N/A", IF(OR(COUNTA(J19:J26)<8,J28:J29<>""),"", IF(AND(J31<=2, IF(AND(J19="No",J20="No"),1,0)+ IF(AND(J21="No",J22="No"),1,0)+ IF(AND(J23="No",J24="No"),1,0)+ IF(AND(J25="No",J26="No"),1,0)=0), "✓",""))))} | K36: {=IF(TRIM(K13)="","", IF(ISNUMBER(SEARCH("with trees",LOWER(K13))),"N/A", IF(OR(COUNTA(K19:K26)<8,K28:K29<>""),"", IF(AND(K31<=2, IF(AND(K19="No",K20="No"),1,0)+ IF(AND(K21="No",K22="No"),1,0)+ IF(AND(K23="No",K24="No"),1,0)+ IF(AND(K25="No",K26="No"),1,0)=0), "✓",""))))} | L36: {=IF(TRIM(L13)="","", IF(ISNUMBER(SEARCH("with trees",LOWER(L13))),"N/A", IF(OR(COUNTA(L19:L26)<8,L28:L29<>""),"", IF(AND(L31<=2, IF(AND(L19="No",L20="No"),1,0)+ IF(AND(L21="No",L22="No"),1,0)+ IF(AND(L23="No",L24="No"),1,0)+ IF(AND(L25="No",L26="No"),1,0)=0), "✓",""))))} | M36: {=IF(TRIM(M13)="","", IF(ISNUMBER(SEARCH("with trees",LOWER(M13))),"N/A", IF(OR(COUNTA(M19:M26)<8,M28:M29<>""),"", IF(AND(M31<=2, IF(AND(M19="No",M20="No"),1,0)+ IF(AND(M21="No",M22="No"),1,0)+ IF(AND(M23="No",M24="No"),1,0)+ IF(AND(M25="No",M26="No"),1,0)=0), "✓",""))))} | N36: {=IF(TRIM(N13)="","", IF(ISNUMBER(SEARCH("with trees",LOWER(N13))),"N/A", IF(OR(COUNTA(N19:N26)<8,N28:N29<>""),"", IF(AND(N31<=2, IF(AND(N19="No",N20="No"),1,0)+ IF(AND(N21="No",N22="No"),1,0)+ IF(AND(N23="No",N24="No"),1,0)+ IF(AND(N25="No",N26="No"),1,0)=0), "✓",""))))} | ... V36: {=IF(TRIM(V13)="","", IF(ISNUMBER(SEARCH("with trees",LOWER(V13))),"N/A", IF(OR(COUNTA(V19:V26)<8,V28:V29<>""),"", IF(AND(V31<=2, IF(AND(V19="No",V20="No"),1,0)+ IF(AND(V21="No",V22="No"),1,0)+ IF(AND(V23="No",V24="No"),1,0)+ IF(AND(V25="No",V26="No"),1,0)=0), "✓",""))))} | X36: {=IF(TRIM(X13)="","", IF(ISNUMBER(SEARCH("with trees",LOWER(X13))),"N/A", IF(OR(COUNTA(X19:X26)<8,X28:X29<>""),"", IF(AND(X31<=2, IF(AND(X19="No",X20="No"),1,0)+ IF(AND(X21="No",X22="No"),1,0)+ IF(AND(X23="No",X24="No"),1,0)+ IF(AND(X25="No",X26="No"),1,0)=0), "✓",""))))} | Y36: {=IF(TRIM(Y13)="","", IF(ISNUMBER(SEARCH("with trees",LOWER(Y13))),"N/A", IF(OR(COUNTA(Y19:Y26)<8,Y28:Y29<>""),"", IF(AND(Y31<=2, IF(AND(Y19="No",Y20="No"),1,0)+ IF(AND(Y21="No",Y22="No"),1,0)+ IF(AND(Y23="No",Y24="No"),1,0)+ IF(AND(Y25="No",Y26="No"),1,0)=0), "✓",""))))} | Z36: {=IF(TRIM(Z13)="","", IF(ISNUMBER(SEARCH("with trees",LOWER(Z13))),"N/A", IF(OR(COUNTA(Z19:Z26)<8,Z28:Z29<>""),"", IF(AND(Z31<=2, IF(AND(Z19="No",Z20="No"),1,0)+ IF(AND(Z21="No",Z22="No"),1,0)+ IF(AND(Z23="No",Z24="No"),1,0)+ IF(AND(Z25="No",Z26="No"),1,0)=0), "✓",""))))}
A37: Moderate | C37: No more than 4 failures in total; AND Does not fail both attributes in more than one functional group (for example, fails attributes A1, A2, B1 and C2 = Moderate condition). | F37: 2 | G37: {=IF(TRIM(G13)="","", IF(ISNUMBER(SEARCH("with trees",LOWER(G13))),"N/A", IF(OR(COUNTA(G19:G26)<8,G28:G29<>""),"", IF(AND(G31>2,G31<=4, IF(AND(G19="No",G20="No"),1,0)+ IF(AND(G21="No",G22="No"),1,0)+ IF(AND(G23="No",G24="No"),1,0)+ IF(AND(G25="No",G26="No"),1,0)<=1), "✓", IF(AND(G31=2, IF(AND(G19="No",G20="No"),1,0)+ IF(AND(G21="No",G22="No"),1,0)+ IF(AND(G23="No",G24="No"),1,0)+ IF(AND(G25="No",G26="No"),1,0)=1), "✓","")))))} -> ✓ | H37: =IF(TRIM(H13)="","", IF(ISNUMBER(SEARCH("with trees",LOWER(H13))),"N/A", IF(AND(H31>2,H31<=4, IF(AND(H19="No",H20="No"),1,0)+ IF(AND(H21="No",H22="No"),1,0)+ IF(AND(H23="No",H24="No"),1,0)+ IF(AND(H25="No",H26="No"),1,0) <=1), "✓", IF(AND(H31=2, IF(AND(H19="No",H20="No"),1,0)+ IF(AND(H21="No",H22="No"),1,0)+ IF(AND(H23="No",H24="No"),1,0)+ IF(AND(H25="No",H26="No"),1,0)=1), "✓","")))) | I37: =IF(TRIM(I13)="","", IF(ISNUMBER(SEARCH("with trees",LOWER(I13))),"N/A", IF(AND(I31>2,I31<=4, IF(AND(I19="No",I20="No"),1,0)+ IF(AND(I21="No",I22="No"),1,0)+ IF(AND(I23="No",I24="No"),1,0)+ IF(AND(I25="No",I26="No"),1,0) <=1), "✓", IF(AND(I31=2, IF(AND(I19="No",I20="No"),1,0)+ IF(AND(I21="No",I22="No"),1,0)+ IF(AND(I23="No",I24="No"),1,0)+ IF(AND(I25="No",I26="No"),1,0)=1), "✓","")))) | J37: =IF(TRIM(J13)="","", IF(ISNUMBER(SEARCH("with trees",LOWER(J13))),"N/A", IF(AND(J31>2,J31<=4, IF(AND(J19="No",J20="No"),1,0)+ IF(AND(J21="No",J22="No"),1,0)+ IF(AND(J23="No",J24="No"),1,0)+ IF(AND(J25="No",J26="No"),1,0) <=1), "✓", IF(AND(J31=2, IF(AND(J19="No",J20="No"),1,0)+ IF(AND(J21="No",J22="No"),1,0)+ IF(AND(J23="No",J24="No"),1,0)+ IF(AND(J25="No",J26="No"),1,0)=1), "✓","")))) | K37: =IF(TRIM(K13)="","", IF(ISNUMBER(SEARCH("with trees",LOWER(K13))),"N/A", IF(AND(K31>2,K31<=4, IF(AND(K19="No",K20="No"),1,0)+ IF(AND(K21="No",K22="No"),1,0)+ IF(AND(K23="No",K24="No"),1,0)+ IF(AND(K25="No",K26="No"),1,0) <=1), "✓", IF(AND(K31=2, IF(AND(K19="No",K20="No"),1,0)+ IF(AND(K21="No",K22="No"),1,0)+ IF(AND(K23="No",K24="No"),1,0)+ IF(AND(K25="No",K26="No"),1,0)=1), "✓","")))) | L37: =IF(TRIM(L13)="","", IF(ISNUMBER(SEARCH("with trees",LOWER(L13))),"N/A", IF(AND(L31>2,L31<=4, IF(AND(L19="No",L20="No"),1,0)+ IF(AND(L21="No",L22="No"),1,0)+ IF(AND(L23="No",L24="No"),1,0)+ IF(AND(L25="No",L26="No"),1,0) <=1), "✓", IF(AND(L31=2, IF(AND(L19="No",L20="No"),1,0)+ IF(AND(L21="No",L22="No"),1,0)+ IF(AND(L23="No",L24="No"),1,0)+ IF(AND(L25="No",L26="No"),1,0)=1), "✓","")))) | M37: =IF(TRIM(M13)="","", IF(ISNUMBER(SEARCH("with trees",LOWER(M13))),"N/A", IF(AND(M31>2,M31<=4, IF(AND(M19="No",M20="No"),1,0)+ IF(AND(M21="No",M22="No"),1,0)+ IF(AND(M23="No",M24="No"),1,0)+ IF(AND(M25="No",M26="No"),1,0) <=1), "✓", IF(AND(M31=2, IF(AND(M19="No",M20="No"),1,0)+ IF(AND(M21="No",M22="No"),1,0)+ IF(AND(M23="No",M24="No"),1,0)+ IF(AND(M25="No",M26="No"),1,0)=1), "✓","")))) | N37: =IF(TRIM(N13)="","", IF(ISNUMBER(SEARCH("with trees",LOWER(N13))),"N/A", IF(AND(N31>2,N31<=4, IF(AND(N19="No",N20="No"),1,0)+ IF(AND(N21="No",N22="No"),1,0)+ IF(AND(N23="No",N24="No"),1,0)+ IF(AND(N25="No",N26="No"),1,0) <=1), "✓", IF(AND(N31=2, IF(AND(N19="No",N20="No"),1,0)+ IF(AND(N21="No",N22="No"),1,0)+ IF(AND(N23="No",N24="No"),1,0)+ IF(AND(N25="No",N26="No"),1,0)=1), "✓","")))) | O37: =IF(TRIM(O13)="","", IF(ISNUMBER(SEARCH("with trees",LOWER(O13))),"N/A", IF(AND(O31>2,O31<=4, IF(AND(O19="No",O20="No"),1,0)+ IF(AND(O21="No",O22="No"),1,0)+ IF(AND(O23="No",O24="No"),1,0)+ IF(AND(O25="No",O26="No"),1,0) <=1), "✓", IF(AND(O31=2, IF(AND(O19="No",O20="No"),1,0)+ IF(AND(O21="No",O22="No"),1,0)+ IF(AND(O23="No",O24="No"),1,0)+ IF(AND(O25="No",O26="No"),1,0)=1), "✓","")))) | ... V37: =IF(TRIM(V13)="","", IF(ISNUMBER(SEARCH("with trees",LOWER(V13))),"N/A", IF(AND(V31>2,V31<=4, IF(AND(V19="No",V20="No"),1,0)+ IF(AND(V21="No",V22="No"),1,0)+ IF(AND(V23="No",V24="No"),1,0)+ IF(AND(V25="No",V26="No"),1,0) <=1), "✓", IF(AND(V31=2, IF(AND(V19="No",V20="No"),1,0)+ IF(AND(V21="No",V22="No"),1,0)+ IF(AND(V23="No",V24="No"),1,0)+ IF(AND(V25="No",V26="No"),1,0)=1), "✓","")))) | X37: =IF(TRIM(X13)="","", IF(ISNUMBER(SEARCH("with trees",LOWER(X13))),"N/A", IF(AND(X31>2,X31<=4, IF(AND(X19="No",X20="No"),1,0)+ IF(AND(X21="No",X22="No"),1,0)+ IF(AND(X23="No",X24="No"),1,0)+ IF(AND(X25="No",X26="No"),1,0) <=1), "✓", IF(AND(X31=2, IF(AND(X19="No",X20="No"),1,0)+ IF(AND(X21="No",X22="No"),1,0)+ IF(AND(X23="No",X24="No"),1,0)+ IF(AND(X25="No",X26="No"),1,0)=1), "✓","")))) | Y37: =IF(TRIM(Y13)="","", IF(ISNUMBER(SEARCH("with trees",LOWER(Y13))),"N/A", IF(AND(Y31>2,Y31<=4, IF(AND(Y19="No",Y20="No"),1,0)+ IF(AND(Y21="No",Y22="No"),1,0)+ IF(AND(Y23="No",Y24="No"),1,0)+ IF(AND(Y25="No",Y26="No"),1,0) <=1), "✓", IF(AND(Y31=2, IF(AND(Y19="No",Y20="No"),1,0)+ IF(AND(Y21="No",Y22="No"),1,0)+ IF(AND(Y23="No",Y24="No"),1,0)+ IF(AND(Y25="No",Y26="No"),1,0)=1), "✓","")))) | Z37: =IF(TRIM(Z13)="","", IF(ISNUMBER(SEARCH("with trees",LOWER(Z13))),"N/A", IF(AND(Z31>2,Z31<=4, IF(AND(Z19="No",Z20="No"),1,0)+ IF(AND(Z21="No",Z22="No"),1,0)+ IF(AND(Z23="No",Z24="No"),1,0)+ IF(AND(Z25="No",Z26="No"),1,0) <=1), "✓", IF(AND(Z31=2, IF(AND(Z19="No",Z20="No"),1,0)+ IF(AND(Z21="No",Z22="No"),1,0)+ IF(AND(Z23="No",Z24="No"),1,0)+ IF(AND(Z25="No",Z26="No"),1,0)=1), "✓",""))))
A38: Poor | C38: Fails a total of more than 4 attributes; OR Fails both attributes in more than one functional group (for example, fails attributes A1, A2, B1 and B2 = Poor condition). | F38: 1 | G38: {=IF(TRIM(G13)="","", IF(ISNUMBER(SEARCH("with trees",LOWER(G13))),"N/A", IF(OR(COUNTA(G19:G26)<8,G28:G29<>""),"", IF(OR(COUNTIF(G19:G26,"No")>4, IF(AND(G19="No",G20="No"),1,0)+ IF(AND(G21="No",G22="No"),1,0)+ IF(AND(G23="No",G24="No"),1,0)+ IF(AND(G25="No",G26="No"),1,0)>1), "✓",""))))} | H38: =IF(TRIM(H13)="","", IF(ISNUMBER(SEARCH("with trees",LOWER(H13))),"N/A", IF(OR( COUNTIF(H19:H26,"No")>4, IF(AND(H19="No",H20="No"),1,0)+ IF(AND(H21="No",H22="No"),1,0)+ IF(AND(H23="No",H24="No"),1,0)+ IF(AND(H25="No",H26="No"),1,0)>1), "✓",""))) | I38: =IF(TRIM(I13)="","", IF(ISNUMBER(SEARCH("with trees",LOWER(I13))),"N/A", IF(OR( COUNTIF(I19:I26,"No")>4, IF(AND(I19="No",I20="No"),1,0)+ IF(AND(I21="No",I22="No"),1,0)+ IF(AND(I23="No",I24="No"),1,0)+ IF(AND(I25="No",I26="No"),1,0)>1), "✓",""))) | J38: =IF(TRIM(J13)="","", IF(ISNUMBER(SEARCH("with trees",LOWER(J13))),"N/A", IF(OR( COUNTIF(J19:J26,"No")>4, IF(AND(J19="No",J20="No"),1,0)+ IF(AND(J21="No",J22="No"),1,0)+ IF(AND(J23="No",J24="No"),1,0)+ IF(AND(J25="No",J26="No"),1,0)>1), "✓",""))) | K38: =IF(TRIM(K13)="","", IF(ISNUMBER(SEARCH("with trees",LOWER(K13))),"N/A", IF(OR( COUNTIF(K19:K26,"No")>4, IF(AND(K19="No",K20="No"),1,0)+ IF(AND(K21="No",K22="No"),1,0)+ IF(AND(K23="No",K24="No"),1,0)+ IF(AND(K25="No",K26="No"),1,0)>1), "✓",""))) | L38: =IF(TRIM(L13)="","", IF(ISNUMBER(SEARCH("with trees",LOWER(L13))),"N/A", IF(OR( COUNTIF(L19:L26,"No")>4, IF(AND(L19="No",L20="No"),1,0)+ IF(AND(L21="No",L22="No"),1,0)+ IF(AND(L23="No",L24="No"),1,0)+ IF(AND(L25="No",L26="No"),1,0)>1), "✓",""))) | M38: =IF(TRIM(M13)="","", IF(ISNUMBER(SEARCH("with trees",LOWER(M13))),"N/A", IF(OR( COUNTIF(M19:M26,"No")>4, IF(AND(M19="No",M20="No"),1,0)+ IF(AND(M21="No",M22="No"),1,0)+ IF(AND(M23="No",M24="No"),1,0)+ IF(AND(M25="No",M26="No"),1,0)>1), "✓",""))) | N38: =IF(TRIM(N13)="","", IF(ISNUMBER(SEARCH("with trees",LOWER(N13))),"N/A", IF(OR( COUNTIF(N19:N26,"No")>4, IF(AND(N19="No",N20="No"),1,0)+ IF(AND(N21="No",N22="No"),1,0)+ IF(AND(N23="No",N24="No"),1,0)+ IF(AND(N25="No",N26="No"),1,0)>1), "✓",""))) | O38: =IF(TRIM(O13)="","", IF(ISNUMBER(SEARCH("with trees",LOWER(O13))),"N/A", IF(OR( COUNTIF(O19:O26,"No")>4, IF(AND(O19="No",O20="No"),1,0)+ IF(AND(O21="No",O22="No"),1,0)+ IF(AND(O23="No",O24="No"),1,0)+ IF(AND(O25="No",O26="No"),1,0)>1), "✓",""))) | ... V38: =IF(TRIM(V13)="","", IF(ISNUMBER(SEARCH("with trees",LOWER(V13))),"N/A", IF(OR( COUNTIF(V19:V26,"No")>4, IF(AND(V19="No",V20="No"),1,0)+ IF(AND(V21="No",V22="No"),1,0)+ IF(AND(V23="No",V24="No"),1,0)+ IF(AND(V25="No",V26="No"),1,0)>1), "✓",""))) | X38: =IF(TRIM(X13)="","", IF(ISNUMBER(SEARCH("with trees",LOWER(X13))),"N/A", IF(OR( COUNTIF(X19:X26,"No")>4, IF(AND(X19="No",X20="No"),1,0)+ IF(AND(X21="No",X22="No"),1,0)+ IF(AND(X23="No",X24="No"),1,0)+ IF(AND(X25="No",X26="No"),1,0)>1), "✓",""))) | Y38: =IF(TRIM(Y13)="","", IF(ISNUMBER(SEARCH("with trees",LOWER(Y13))),"N/A", IF(OR( COUNTIF(Y19:Y26,"No")>4, IF(AND(Y19="No",Y20="No"),1,0)+ IF(AND(Y21="No",Y22="No"),1,0)+ IF(AND(Y23="No",Y24="No"),1,0)+ IF(AND(Y25="No",Y26="No"),1,0)>1), "✓",""))) | Z38: =IF(TRIM(Z13)="","", IF(ISNUMBER(SEARCH("with trees",LOWER(Z13))),"N/A", IF(OR( COUNTIF(Z19:Z26,"No")>4, IF(AND(Z19="No",Z20="No"),1,0)+ IF(AND(Z21="No",Z22="No"),1,0)+ IF(AND(Z23="No",Z24="No"),1,0)+ IF(AND(Z25="No",Z26="No"),1,0)>1), "✓","")))
A39: Condition categories for hedgerows with trees | G39: Score achieved
A40: Category | C40: Category Requirements | F40: Metric Score
A41: Good | C41: No more than 2 failures in total; AND No more than 1 failure in any functional group. | F41: 3 | G41: =IF(TRIM(G13)="","", IF(ISNUMBER(SEARCH("with trees",LOWER(G13))), IF(COUNTA(G19:G26)+COUNTA(G28:G29)<10,"", IF(AND(G31<=2, IF(AND(G19="No",G20="No"),1,0)+ IF(AND(G21="No",G22="No"),1,0)+ IF(AND(G23="No",G24="No"),1,0)+ IF(AND(G25="No",G26="No"),1,0)=0), "✓","")), "N/A")) -> N/A | H41: =IF(TRIM(H13)="","", IF(ISNUMBER(SEARCH("with trees",LOWER(H13))), IF(COUNTA(H19:H26)+COUNTA(H28:H29)<10,"", IF(AND(H31<=2, IF(AND(H19="No",H20="No"),1,0)+ IF(AND(H21="No",H22="No"),1,0)+ IF(AND(H23="No",H24="No"),1,0)+ IF(AND(H25="No",H26="No"),1,0)=0), "✓","")), "N/A")) | I41: =IF(TRIM(I13)="","", IF(ISNUMBER(SEARCH("with trees",LOWER(I13))), IF(COUNTA(I19:I26)+COUNTA(I28:I29)<10,"", IF(AND(I31<=2, IF(AND(I19="No",I20="No"),1,0)+ IF(AND(I21="No",I22="No"),1,0)+ IF(AND(I23="No",I24="No"),1,0)+ IF(AND(I25="No",I26="No"),1,0)=0), "✓","")), "N/A")) | J41: =IF(TRIM(J13)="","", IF(ISNUMBER(SEARCH("with trees",LOWER(J13))), IF(COUNTA(J19:J26)+COUNTA(J28:J29)<10,"", IF(AND(J31<=2, IF(AND(J19="No",J20="No"),1,0)+ IF(AND(J21="No",J22="No"),1,0)+ IF(AND(J23="No",J24="No"),1,0)+ IF(AND(J25="No",J26="No"),1,0)=0), "✓","")), "N/A")) | K41: =IF(TRIM(K13)="","", IF(ISNUMBER(SEARCH("with trees",LOWER(K13))), IF(COUNTA(K19:K26)+COUNTA(K28:K29)<10,"", IF(AND(K31<=2, IF(AND(K19="No",K20="No"),1,0)+ IF(AND(K21="No",K22="No"),1,0)+ IF(AND(K23="No",K24="No"),1,0)+ IF(AND(K25="No",K26="No"),1,0)=0), "✓","")), "N/A")) | L41: =IF(TRIM(L13)="","", IF(ISNUMBER(SEARCH("with trees",LOWER(L13))), IF(COUNTA(L19:L26)+COUNTA(L28:L29)<10,"", IF(AND(L31<=2, IF(AND(L19="No",L20="No"),1,0)+ IF(AND(L21="No",L22="No"),1,0)+ IF(AND(L23="No",L24="No"),1,0)+ IF(AND(L25="No",L26="No"),1,0)=0), "✓","")), "N/A")) | M41: =IF(TRIM(M13)="","", IF(ISNUMBER(SEARCH("with trees",LOWER(M13))), IF(COUNTA(M19:M26)+COUNTA(M28:M29)<10,"", IF(AND(M31<=2, IF(AND(M19="No",M20="No"),1,0)+ IF(AND(M21="No",M22="No"),1,0)+ IF(AND(M23="No",M24="No"),1,0)+ IF(AND(M25="No",M26="No"),1,0)=0), "✓","")), "N/A")) | N41: =IF(TRIM(N13)="","", IF(ISNUMBER(SEARCH("with trees",LOWER(N13))), IF(COUNTA(N19:N26)+COUNTA(N28:N29)<10,"", IF(AND(N31<=2, IF(AND(N19="No",N20="No"),1,0)+ IF(AND(N21="No",N22="No"),1,0)+ IF(AND(N23="No",N24="No"),1,0)+ IF(AND(N25="No",N26="No"),1,0)=0), "✓","")), "N/A")) | ... V41: =IF(TRIM(V13)="","", IF(ISNUMBER(SEARCH("with trees",LOWER(V13))), IF(COUNTA(V19:V26)+COUNTA(V28:V29)<10,"", IF(AND(V31<=2, IF(AND(V19="No",V20="No"),1,0)+ IF(AND(V21="No",V22="No"),1,0)+ IF(AND(V23="No",V24="No"),1,0)+ IF(AND(V25="No",V26="No"),1,0)=0), "✓","")), "N/A")) | X41: =IF(TRIM(X13)="","", IF(ISNUMBER(SEARCH("with trees",LOWER(X13))), IF(COUNTA(X19:X26)+COUNTA(X28:X29)<10,"", IF(AND(X31<=2, IF(AND(X19="No",X20="No"),1,0)+ IF(AND(X21="No",X22="No"),1,0)+ IF(AND(X23="No",X24="No"),1,0)+ IF(AND(X25="No",X26="No"),1,0)=0), "✓","")), "N/A")) | Y41: =IF(TRIM(Y13)="","", IF(ISNUMBER(SEARCH("with trees",LOWER(Y13))), IF(COUNTA(Y19:Y26)+COUNTA(Y28:Y29)<10,"", IF(AND(Y31<=2, IF(AND(Y19="No",Y20="No"),1,0)+ IF(AND(Y21="No",Y22="No"),1,0)+ IF(AND(Y23="No",Y24="No"),1,0)+ IF(AND(Y25="No",Y26="No"),1,0)=0), "✓","")), "N/A")) | Z41: =IF(TRIM(Z13)="","", IF(ISNUMBER(SEARCH("with trees",LOWER(Z13))), IF(COUNTA(Z19:Z26)+COUNTA(Z28:Z29)<10,"", IF(AND(Z31<=2, IF(AND(Z19="No",Z20="No"),1,0)+ IF(AND(Z21="No",Z22="No"),1,0)+ IF(AND(Z23="No",Z24="No"),1,0)+ IF(AND(Z25="No",Z26="No"),1,0)=0), "✓","")), "N/A"))
A42: Moderate | C42: No more than 5 failures in total; AND Does not fail both attributes in more than one functional group (for example, fails attributes A1, A2, B1, C2 and E1 = Moderate condition). | F42: 2 | G42: =IF(TRIM(G13)="","", IF(ISNUMBER(SEARCH("with trees",LOWER(G13))), IF(COUNTA(G19:G26)+COUNTA(G28:G29)<10,"", IF(AND(G31>2,G31<=5, IF(AND(G19="No",G20="No"),1,0)+ IF(AND(G21="No",G22="No"),1,0)+ IF(AND(G23="No",G24="No"),1,0)+ IF(AND(G25="No",G26="No"),1,0) <=1), "✓", IF(AND(G31=2, IF(AND(G19="No",G20="No"),1,0)+ IF(AND(G21="No",G22="No"),1,0)+ IF(AND(G23="No",G24="No"),1,0)+ IF(AND(G25="No",G26="No"),1,0)=1), "✓",""))), "N/A")) -> N/A | H42: =IF(TRIM(H13)="","", IF(ISNUMBER(SEARCH("with trees",LOWER(H13))), IF(COUNTA(H19:H26)+COUNTA(H28:H29)<10,"", IF(AND(H31>2,H31<=5, IF(AND(H19="No",H20="No"),1,0)+ IF(AND(H21="No",H22="No"),1,0)+ IF(AND(H23="No",H24="No"),1,0)+ IF(AND(H25="No",H26="No"),1,0) <=1), "✓", IF(AND(H31=2, IF(AND(H19="No",H20="No"),1,0)+ IF(AND(H21="No",H22="No"),1,0)+ IF(AND(H23="No",H24="No"),1,0)+ IF(AND(H25="No",H26="No"),1,0)=1), "✓",""))), "N/A")) | I42: =IF(TRIM(I13)="","", IF(ISNUMBER(SEARCH("with trees",LOWER(I13))), IF(COUNTA(I19:I26)+COUNTA(I28:I29)<10,"", IF(AND(I31>2,I31<=5, IF(AND(I19="No",I20="No"),1,0)+ IF(AND(I21="No",I22="No"),1,0)+ IF(AND(I23="No",I24="No"),1,0)+ IF(AND(I25="No",I26="No"),1,0) <=1), "✓", IF(AND(I31=2, IF(AND(I19="No",I20="No"),1,0)+ IF(AND(I21="No",I22="No"),1,0)+ IF(AND(I23="No",I24="No"),1,0)+ IF(AND(I25="No",I26="No"),1,0)=1), "✓",""))), "N/A")) | J42: =IF(TRIM(J13)="","", IF(ISNUMBER(SEARCH("with trees",LOWER(J13))), IF(COUNTA(J19:J26)+COUNTA(J28:J29)<10,"", IF(AND(J31>2,J31<=5, IF(AND(J19="No",J20="No"),1,0)+ IF(AND(J21="No",J22="No"),1,0)+ IF(AND(J23="No",J24="No"),1,0)+ IF(AND(J25="No",J26="No"),1,0) <=1), "✓", IF(AND(J31=2, IF(AND(J19="No",J20="No"),1,0)+ IF(AND(J21="No",J22="No"),1,0)+ IF(AND(J23="No",J24="No"),1,0)+ IF(AND(J25="No",J26="No"),1,0)=1), "✓",""))), "N/A")) | K42: =IF(TRIM(K13)="","", IF(ISNUMBER(SEARCH("with trees",LOWER(K13))), IF(COUNTA(K19:K26)+COUNTA(K28:K29)<10,"", IF(AND(K31>2,K31<=5, IF(AND(K19="No",K20="No"),1,0)+ IF(AND(K21="No",K22="No"),1,0)+ IF(AND(K23="No",K24="No"),1,0)+ IF(AND(K25="No",K26="No"),1,0) <=1), "✓", IF(AND(K31=2, IF(AND(K19="No",K20="No"),1,0)+ IF(AND(K21="No",K22="No"),1,0)+ IF(AND(K23="No",K24="No"),1,0)+ IF(AND(K25="No",K26="No"),1,0)=1), "✓",""))), "N/A")) | L42: =IF(TRIM(L13)="","", IF(ISNUMBER(SEARCH("with trees",LOWER(L13))), IF(COUNTA(L19:L26)+COUNTA(L28:L29)<10,"", IF(AND(L31>2,L31<=5, IF(AND(L19="No",L20="No"),1,0)+ IF(AND(L21="No",L22="No"),1,0)+ IF(AND(L23="No",L24="No"),1,0)+ IF(AND(L25="No",L26="No"),1,0) <=1), "✓", IF(AND(L31=2, IF(AND(L19="No",L20="No"),1,0)+ IF(AND(L21="No",L22="No"),1,0)+ IF(AND(L23="No",L24="No"),1,0)+ IF(AND(L25="No",L26="No"),1,0)=1), "✓",""))), "N/A")) | M42: =IF(TRIM(M13)="","", IF(ISNUMBER(SEARCH("with trees",LOWER(M13))), IF(COUNTA(M19:M26)+COUNTA(M28:M29)<10,"", IF(AND(M31>2,M31<=5, IF(AND(M19="No",M20="No"),1,0)+ IF(AND(M21="No",M22="No"),1,0)+ IF(AND(M23="No",M24="No"),1,0)+ IF(AND(M25="No",M26="No"),1,0) <=1), "✓", IF(AND(M31=2, IF(AND(M19="No",M20="No"),1,0)+ IF(AND(M21="No",M22="No"),1,0)+ IF(AND(M23="No",M24="No"),1,0)+ IF(AND(M25="No",M26="No"),1,0)=1), "✓",""))), "N/A")) | N42: =IF(TRIM(N13)="","", IF(ISNUMBER(SEARCH("with trees",LOWER(N13))), IF(COUNTA(N19:N26)+COUNTA(N28:N29)<10,"", IF(AND(N31>2,N31<=5, IF(AND(N19="No",N20="No"),1,0)+ IF(AND(N21="No",N22="No"),1,0)+ IF(AND(N23="No",N24="No"),1,0)+ IF(AND(N25="No",N26="No"),1,0) <=1), "✓", IF(AND(N31=2, IF(AND(N19="No",N20="No"),1,0)+ IF(AND(N21="No",N22="No"),1,0)+ IF(AND(N23="No",N24="No"),1,0)+ IF(AND(N25="No",N26="No"),1,0)=1), "✓",""))), "N/A")) | ... V42: =IF(TRIM(V13)="","", IF(ISNUMBER(SEARCH("with trees",LOWER(V13))), IF(COUNTA(V19:V26)+COUNTA(V28:V29)<10,"", IF(AND(V31>2,V31<=5, IF(AND(V19="No",V20="No"),1,0)+ IF(AND(V21="No",V22="No"),1,0)+ IF(AND(V23="No",V24="No"),1,0)+ IF(AND(V25="No",V26="No"),1,0) <=1), "✓", IF(AND(V31=2, IF(AND(V19="No",V20="No"),1,0)+ IF(AND(V21="No",V22="No"),1,0)+ IF(AND(V23="No",V24="No"),1,0)+ IF(AND(V25="No",V26="No"),1,0)=1), "✓",""))), "N/A")) | X42: =IF(TRIM(X13)="","", IF(ISNUMBER(SEARCH("with trees",LOWER(X13))), IF(COUNTA(X19:X26)+COUNTA(X28:X29)<10,"", IF(AND(X31>2,X31<=5, IF(AND(X19="No",X20="No"),1,0)+ IF(AND(X21="No",X22="No"),1,0)+ IF(AND(X23="No",X24="No"),1,0)+ IF(AND(X25="No",X26="No"),1,0) <=1), "✓", IF(AND(X31=2, IF(AND(X19="No",X20="No"),1,0)+ IF(AND(X21="No",X22="No"),1,0)+ IF(AND(X23="No",X24="No"),1,0)+ IF(AND(X25="No",X26="No"),1,0)=1), "✓",""))), "N/A")) | Y42: =IF(TRIM(Y13)="","", IF(ISNUMBER(SEARCH("with trees",LOWER(Y13))), IF(COUNTA(Y19:Y26)+COUNTA(Y28:Y29)<10,"", IF(AND(Y31>2,Y31<=5, IF(AND(Y19="No",Y20="No"),1,0)+ IF(AND(Y21="No",Y22="No"),1,0)+ IF(AND(Y23="No",Y24="No"),1,0)+ IF(AND(Y25="No",Y26="No"),1,0) <=1), "✓", IF(AND(Y31=2, IF(AND(Y19="No",Y20="No"),1,0)+ IF(AND(Y21="No",Y22="No"),1,0)+ IF(AND(Y23="No",Y24="No"),1,0)+ IF(AND(Y25="No",Y26="No"),1,0)=1), "✓",""))), "N/A")) | Z42: =IF(TRIM(Z13)="","", IF(ISNUMBER(SEARCH("with trees",LOWER(Z13))), IF(COUNTA(Z19:Z26)+COUNTA(Z28:Z29)<10,"", IF(AND(Z31>2,Z31<=5, IF(AND(Z19="No",Z20="No"),1,0)+ IF(AND(Z21="No",Z22="No"),1,0)+ IF(AND(Z23="No",Z24="No"),1,0)+ IF(AND(Z25="No",Z26="No"),1,0) <=1), "✓", IF(AND(Z31=2, IF(AND(Z19="No",Z20="No"),1,0)+ IF(AND(Z21="No",Z22="No"),1,0)+ IF(AND(Z23="No",Z24="No"),1,0)+ IF(AND(Z25="No",Z26="No"),1,0)=1), "✓",""))), "N/A"))
A43: Poor | C43: Fails a total of more than 5 attributes; OR Fails both attributes in more than one functional group (for example, fails attributes A1, A2, B1 and B2 = Poor condition). | F43: 1 | G43: =IF(TRIM(G13)="","", IF(ISNUMBER(SEARCH("with trees",LOWER(G13))), IF(COUNTA(G19:G26)+COUNTA(G28:G29)<10,"", IF(OR( COUNTIF(G19:G26,"No")>5, IF(AND(G19="No",G20="No"),1,0)+ IF(AND(G21="No",G22="No"),1,0)+ IF(AND(G23="No",G24="No"),1,0)+ IF(AND(H28="No",H29="No"),1,0)+ IF(AND(G25="No",G26="No"),1,0)>1), "✓","")), "N/A")) -> N/A | H43: =IF(TRIM(H13)="","", IF(ISNUMBER(SEARCH("with trees",LOWER(H13))), IF(COUNTA(H19:H26)+COUNTA(H28:H29)<10,"", IF(OR( COUNTIF(H19:H26,"No")>5, IF(AND(H19="No",H20="No"),1,0)+ IF(AND(H21="No",H22="No"),1,0)+ IF(AND(H23="No",H24="No"),1,0)+ IF(AND(I28="No",I29="No"),1,0)+ IF(AND(H25="No",H26="No"),1,0)>1), "✓","")), "N/A")) | I43: =IF(TRIM(I13)="","", IF(ISNUMBER(SEARCH("with trees",LOWER(I13))), IF(COUNTA(I19:I26)+COUNTA(I28:I29)<10,"", IF(OR( COUNTIF(I19:I26,"No")>5, IF(AND(I19="No",I20="No"),1,0)+ IF(AND(I21="No",I22="No"),1,0)+ IF(AND(I23="No",I24="No"),1,0)+ IF(AND(J28="No",J29="No"),1,0)+ IF(AND(I25="No",I26="No"),1,0)>1), "✓","")), "N/A")) | J43: =IF(TRIM(J13)="","", IF(ISNUMBER(SEARCH("with trees",LOWER(J13))), IF(COUNTA(J19:J26)+COUNTA(J28:J29)<10,"", IF(OR( COUNTIF(J19:J26,"No")>5, IF(AND(J19="No",J20="No"),1,0)+ IF(AND(J21="No",J22="No"),1,0)+ IF(AND(J23="No",J24="No"),1,0)+ IF(AND(K28="No",K29="No"),1,0)+ IF(AND(J25="No",J26="No"),1,0)>1), "✓","")), "N/A")) | K43: =IF(TRIM(K13)="","", IF(ISNUMBER(SEARCH("with trees",LOWER(K13))), IF(COUNTA(K19:K26)+COUNTA(K28:K29)<10,"", IF(OR( COUNTIF(K19:K26,"No")>5, IF(AND(K19="No",K20="No"),1,0)+ IF(AND(K21="No",K22="No"),1,0)+ IF(AND(K23="No",K24="No"),1,0)+ IF(AND(L28="No",L29="No"),1,0)+ IF(AND(K25="No",K26="No"),1,0)>1), "✓","")), "N/A")) | L43: =IF(TRIM(L13)="","", IF(ISNUMBER(SEARCH("with trees",LOWER(L13))), IF(COUNTA(L19:L26)+COUNTA(L28:L29)<10,"", IF(OR( COUNTIF(L19:L26,"No")>5, IF(AND(L19="No",L20="No"),1,0)+ IF(AND(L21="No",L22="No"),1,0)+ IF(AND(L23="No",L24="No"),1,0)+ IF(AND(M28="No",M29="No"),1,0)+ IF(AND(L25="No",L26="No"),1,0)>1), "✓","")), "N/A")) | M43: =IF(TRIM(M13)="","", IF(ISNUMBER(SEARCH("with trees",LOWER(M13))), IF(COUNTA(M19:M26)+COUNTA(M28:M29)<10,"", IF(OR( COUNTIF(M19:M26,"No")>5, IF(AND(M19="No",M20="No"),1,0)+ IF(AND(M21="No",M22="No"),1,0)+ IF(AND(M23="No",M24="No"),1,0)+ IF(AND(N28="No",N29="No"),1,0)+ IF(AND(M25="No",M26="No"),1,0)>1), "✓","")), "N/A")) | N43: =IF(TRIM(N13)="","", IF(ISNUMBER(SEARCH("with trees",LOWER(N13))), IF(COUNTA(N19:N26)+COUNTA(N28:N29)<10,"", IF(OR( COUNTIF(N19:N26,"No")>5, IF(AND(N19="No",N20="No"),1,0)+ IF(AND(N21="No",N22="No"),1,0)+ IF(AND(N23="No",N24="No"),1,0)+ IF(AND(O28="No",O29="No"),1,0)+ IF(AND(N25="No",N26="No"),1,0)>1), "✓","")), "N/A")) | ... U43: =IF(TRIM(U13)="","", IF(ISNUMBER(SEARCH("with trees",LOWER(U13))), IF(COUNTA(U19:U26)+COUNTA(U28:U29)<10,"", IF(OR( COUNTIF(U19:U26,"No")>5, IF(AND(U19="No",U20="No"),1,0)+ IF(AND(U21="No",U22="No"),1,0)+ IF(AND(U23="No",U24="No"),1,0)+ IF(AND(V28="No",V29="No"),1,0)+ IF(AND(U25="No",U26="No"),1,0)>1), "✓","")), "N/A")) | V43: =IF(TRIM(V13)="","", IF(ISNUMBER(SEARCH("with trees",LOWER(V13))), IF(COUNTA(V19:V26)+COUNTA(V28:V29)<10,"", IF(OR( COUNTIF(V19:V26,"No")>5, IF(AND(V19="No",V20="No"),1,0)+ IF(AND(V21="No",V22="No"),1,0)+ IF(AND(V23="No",V24="No"),1,0)+ IF(AND(X28="No",X29="No"),1,0)+ IF(AND(V25="No",V26="No"),1,0)>1), "✓","")), "N/A")) | X43: =IF(TRIM(X13)="","", IF(ISNUMBER(SEARCH("with trees",LOWER(X13))), IF(COUNTA(X19:X26)+COUNTA(X28:X29)<10,"", IF(OR( COUNTIF(X19:X26,"No")>5, IF(AND(X19="No",X20="No"),1,0)+ IF(AND(X21="No",X22="No"),1,0)+ IF(AND(X23="No",X24="No"),1,0)+ IF(AND(Y28="No",Y29="No"),1,0)+ IF(AND(X25="No",X26="No"),1,0)>1), "✓","")), "N/A")) | Y43: =IF(TRIM(Y13)="","", IF(ISNUMBER(SEARCH("with trees",LOWER(Y13))), IF(COUNTA(Y19:Y26)+COUNTA(Y28:Y29)<10,"", IF(OR( COUNTIF(Y19:Y26,"No")>5, IF(AND(Y19="No",Y20="No"),1,0)+ IF(AND(Y21="No",Y22="No"),1,0)+ IF(AND(Y23="No",Y24="No"),1,0)+ IF(AND(Z28="No",Z29="No"),1,0)+ IF(AND(Y25="No",Y26="No"),1,0)>1), "✓","")), "N/A")) | Z43: =IF(TRIM(Z13)="","", IF(ISNUMBER(SEARCH("with trees",LOWER(Z13))), IF(COUNTA(Z19:Z26)+COUNTA(Z28:Z29)<10,"", IF(OR( COUNTIF(Z19:Z26,"No")>5, IF(AND(Z19="No",Z20="No"),1,0)+ IF(AND(Z21="No",Z22="No"),1,0)+ IF(AND(Z23="No",Z24="No"),1,0)+ IF(AND(AA28="No",AA29="No"),1,0)+ IF(AND(Z25="No",Z26="No"),1,0)>1), "✓","")), "N/A"))
A44: Suggested enhancement interventions to improve condition score
A46: Footnotes
A47: Footnote 1 – DEFRA (2007) Hedgerow Survey Handbook. A standard procedure for local surveys in the UK. [online] Available on:
A48: layout (hedgelink.org.uk)
A49: Footnote 2 – STALEY, J.T. ET AL. (2020) Definition of Favourable Conservation Status for Hedgerows. [online] Available on:
A50: Definition of Favourable Conservation Status for Hedgerows - RP2943 (naturalengland.org.uk)
A51: Footnote 3 – Wildlife and Countryside Act 1981 (as amended).
A52: Footnote 4 – CHEFFINGS, C. M. et al. (2005) The Vascular Plant Red Data List for Great Britain. Species Status 7: 1-116. [online] Available on:
A53: The Vascular Plant Red Data List for Great Britain (Species Status No. 7) | JNCC Resource Hub
A54: Footnote 5 – BOTANICAL SOCIETY OF BRITAIN AND IRELAND (BSBI). Definitions: wild, native or alien? [online] Available on:
A55: Definitions: wild, native or alien? – Botanical Society of Britain & Ireland (bsbi.org)
A56: Footnote 6 – BSBI and Biological Records Centre (BRC) (2022) Online Atlas of the British and Irish Flora. [online] Available on:
... A63: Ancient woodland, ancient trees and veteran trees: advice for making planning decisions - GOV.UK (www.gov.uk)

Sheet 16.LINE OF TREES
A1: Condition Sheet: LINE OF TREES Habitat Type
A2: Habitat Types
A3: Line of trees Line of trees – associated with bank or ditch Ecologically valuable line of trees Ecologically valuable line of trees – associated with bank or ditch Please see the separate Individual trees condition sheet for linear blocks and groups of trees in an urban setting. You should only use this Line of trees condition assessment and record this habitat type in rural locations.
A4: Habitat Description
A6: See the Statutory Biodiversity Metric User Guide. This assessment is based on the Hedgerow Survey Handbook1. For further clarifications please refer to the Handbook. Where ancient and veteran trees are present within the line of trees, see Footnote 2 for standing advice.
A7: On-site or off-site, site name and location | C7: ='SURVEY COVER SHEET '!D4&" - "&'SURVEY COVER SHEET '!D2 -> On-site - Reading Gateway | D7: Survey date and Surveyor name | F7: =TEXT('SURVEY COVER SHEET '!$B$2,"dd/mm/yyyy")&" - "&'SURVEY COVER SHEET '!$B$4 -> 19/03/2026 - Ben Wagstffe
D8: Survey reference (if relating to a wider survey)
A9: Limitations (if applicable) | D9: Habitat Type
D11: Habitat parcel reference
D13: Grid reference
A14: Condition Assessment Criteria
D15: Criterion passed (Yes or No) | X15: Notes (such as justification)
A16: A | B16: At least 70% of trees are native species.
A17: B | B17: Tree canopy is predominantly continuous with gaps in canopy cover making up <10% of total area and no individual gap being >5 m wide.
A18: C | B18: One or more trees has veteran features and or natural ecological niches for vertebrates and invertebrates, such as presence of standing and attached deadwood, cavities, ivy or loose bark.
A19: D | B19: There is an undisturbed naturally-vegetated strip of at least 6 m on both sides to protect the line of trees from farming and other human activities (excluding grazing). Where veteran trees are present, root protection areas should follow standing advice2.
A20: E | B20: At least 95% of the trees are in a healthy condition (deadwood or veteran features valuable for wildlife are excluded from this). There is little or no evidence of an adverse impact on tree health by damage from livestock or wild animals, pests or diseases, or human activity.
A21: Number of criteria passed | D21: =IF(TRIM(D10)="","", IF(COUNTA(D16:D20)<5,"", COUNTIF(D16:D20,"Yes"))) | E21: =IF(TRIM(E10)="","", IF(COUNTA(E16:E20)<5,"", COUNTIF(E16:E20,"Yes"))) | F21: =IF(TRIM(F10)="","", IF(COUNTA(F16:F20)<5,"", COUNTIF(F16:F20,"Yes"))) | G21: =IF(TRIM(G10)="","", IF(COUNTA(G16:G20)<5,"", COUNTIF(G16:G20,"Yes"))) | H21: =IF(TRIM(H10)="","", IF(COUNTA(H16:H20)<5,"", COUNTIF(H16:H20,"Yes"))) | I21: =IF(TRIM(I10)="","", IF(COUNTA(I16:I20)<5,"", COUNTIF(I16:I20,"Yes"))) | J21: =IF(TRIM(J10)="","", IF(COUNTA(J16:J20)<5,"", COUNTIF(J16:J20,"Yes"))) | K21: =IF(TRIM(K10)="","", IF(COUNTA(K16:K20)<5,"", COUNTIF(K16:K20,"Yes"))) | ... W21: =IF(TRIM(W10)="","", IF(COUNTA(W16:W20)<5,"", COUNTIF(W16:W20,"Yes")))
A22: Condition Assessment Result (out of 5 criteria) | C22: Condition Assessment Score | D22: Score Achieved ×/✓
A23: Passes 5 criteria | C23: Good (3) | D23: =IF(TRIM(D10)="","", IF(COUNTA(D16:D20)<5,"", IF(D21=5,"✓",""))) | E23: =IF(TRIM(E10)="","", IF(COUNTA(E16:E20)<5,"", IF(E21=5,"✓",""))) | F23: =IF(TRIM(F10)="","", IF(COUNTA(F16:F20)<5,"", IF(F21=5,"✓",""))) | G23: =IF(TRIM(G10)="","", IF(COUNTA(G16:G20)<5,"", IF(G21=5,"✓",""))) | H23: =IF(TRIM(H10)="","", IF(COUNTA(H16:H20)<5,"", IF(H21=5,"✓",""))) | I23: =IF(TRIM(I10)="","", IF(COUNTA(I16:I20)<5,"", IF(I21=5,"✓",""))) | J23: =IF(TRIM(J10)="","", IF(COUNTA(J16:J20)<5,"", IF(J21=5,"✓",""))) | K23: =IF(TRIM(K10)="","", IF(COUNTA(K16:K20)<5,"", IF(K21=5,"✓",""))) | ... W23: =IF(TRIM(W10)="","", IF(COUNTA(W16:W20)<5,"", IF(W21=5,"✓","")))
A24: Passes 3 or 4 criteria | C24: Moderate (2) | D24: =IF(TRIM(D10)="","", IF(COUNTA(D16:D20)<5,"", IF(OR(D21=3,D21=4),"✓",""))) | E24: =IF(TRIM(E10)="","", IF(COUNTA(E16:E20)<5,"", IF(OR(E21=3,E21=4),"✓",""))) | F24: =IF(TRIM(F10)="","", IF(COUNTA(F16:F20)<5,"", IF(OR(F21=3,F21=4),"✓",""))) | G24: =IF(TRIM(G10)="","", IF(COUNTA(G16:G20)<5,"", IF(OR(G21=3,G21=4),"✓",""))) | H24: =IF(TRIM(H10)="","", IF(COUNTA(H16:H20)<5,"", IF(OR(H21=3,H21=4),"✓",""))) | I24: =IF(TRIM(I10)="","", IF(COUNTA(I16:I20)<5,"", IF(OR(I21=3,I21=4),"✓",""))) | J24: =IF(TRIM(J10)="","", IF(COUNTA(J16:J20)<5,"", IF(OR(J21=3,J21=4),"✓",""))) | K24: =IF(TRIM(K10)="","", IF(COUNTA(K16:K20)<5,"", IF(OR(K21=3,K21=4),"✓",""))) | ... W24: =IF(TRIM(W10)="","", IF(COUNTA(W16:W20)<5,"", IF(OR(W21=3,W21=4),"✓","")))
A25: Passes 2 or fewer criteria | C25: Poor (1) | D25: =IF(TRIM(D10)="","", IF(COUNTA(D16:D20)<5,"", IF(D21<=2,"✓",""))) | E25: =IF(TRIM(E10)="","", IF(COUNTA(E16:E20)<5,"", IF(E21<=2,"✓",""))) | F25: =IF(TRIM(F10)="","", IF(COUNTA(F16:F20)<5,"", IF(F21<=2,"✓",""))) | G25: =IF(TRIM(G10)="","", IF(COUNTA(G16:G20)<5,"", IF(G21<=2,"✓",""))) | H25: =IF(TRIM(H10)="","", IF(COUNTA(H16:H20)<5,"", IF(H21<=2,"✓",""))) | I25: =IF(TRIM(I10)="","", IF(COUNTA(I16:I20)<5,"", IF(I21<=2,"✓",""))) | J25: =IF(TRIM(J10)="","", IF(COUNTA(J16:J20)<5,"", IF(J21<=2,"✓",""))) | K25: =IF(TRIM(K10)="","", IF(COUNTA(K16:K20)<5,"", IF(K21<=2,"✓",""))) | ... W25: =IF(TRIM(W10)="","", IF(COUNTA(W16:W20)<5,"", IF(W21<=2,"✓","")))
A26: Suggested enhancement interventions to improve condition score
A28: Footnotes
A29: Footnote 1 – DEFRA (2007) Hedgerow Survey Handbook: A standard procedure for local surveys in the UK. 2nd ed [online]. Defra, London. PB1195. Available from: Hedgerow Survey Handbook (publishing.service.gov.uk). Footnote 2 – Where ancient and veteran trees are present, see gov.uk standing advice on ancient and veteran trees. Available from:
A30: Keepers of time: ancient and native woodland and trees policy in England (publishing.service.gov.uk)
A31: and:
A32: Ancient woodland, ancient trees and veteran trees: advice for making planning decisions - GOV.UK (www.gov.uk)

Sheet 17.ORCHARD
A1: Condition Sheet: ORCHARD Habitat Type
A2: UK Habitat Classification (UKHab) Habitat Type
A3: Grassland - Traditional orchard
A4: Habitat Description
A6: ukhab – UK Habitat Classification
A7: On-site or off-site, site name and location | C7: ='SURVEY COVER SHEET '!D4&" - "&'SURVEY COVER SHEET '!D2 -> On-site - Reading Gateway | D7: Survey date and Surveyor name | F7: =TEXT('SURVEY COVER SHEET '!$B$2,"dd/mm/yyyy")&" - "&'SURVEY COVER SHEET '!$B$4 -> 19/03/2026 - Ben Wagstffe
D8: Survey reference (if relating to a wider survey)
A9: Limitations (if applicable) | D9: Habitat parcel reference
D11: Grid reference
A12: Condition Assessment Criteria
D13: Criterion passed (Yes or No) | X13: Notes (such as justification)
A14: A | B14: Presence of ancient1 and or veteran1 trees. Note - this criterion is essential for achieving Good condition.
A15: B | B15: Presence of deadwood in or on trees, or on the ground: at least 20% of mature trees have deadwood associated with them. Some examples of deadwood are: standing, attached and fallen trees or limbs; dead stems; branches and branch stubs greater than 10 cm diameter; and internal cavities. The types and distribution of deadwood provide a range of habitats suitable to support a wide assemblage of saproxylic invertebrates. Note - this criterion is essential for achieving Good condition.
A16: C | B16: Less than 5% of fruit trees are smothered by scrub. Small patches of dense scrub and or scattered scrub growing between trees can be beneficial to biodiversity, however these occupy less than 10% of ground cover.
A17: D | B17: There is evidence of formative and or restorative pruning to maintain longevity of trees.
A18: E | B18: At least 95% of the trees are free from damage caused by humans or animals, for example browsing, bark stripping or rubbing on non-adjusted ties.
A19: F | B19: Grassland is not overgrazed, poaching is not evident around the trees, with no more than 10% of trees poached under the canopy.
A20: G | B20: Species richness of the grassland is equivalent to a medium, high, or very high distinctiveness grassland.
A21: H | B21: There is an absence of invasive non-native plant species2 (as listed on Schedule 9 of WCA3) and species indicative of suboptimal condition4 make up less than 10% of ground cover.
A22: Essential criteria achieved (required for Good condition - Yes or No) | D22: =IF(COUNTA(D14:D21)<8,"", IF(AND(D14="Yes",D15="Yes"),"Yes","No")) | E22: =IF(COUNTA(E14:E21)<8,"", IF(AND(E14="Yes",E15="Yes"),"Yes","No")) | F22: =IF(COUNTA(F14:F21)<8,"", IF(AND(F14="Yes",F15="Yes"),"Yes","No")) | G22: =IF(COUNTA(G14:G21)<8,"", IF(AND(G14="Yes",G15="Yes"),"Yes","No")) | H22: =IF(COUNTA(H14:H21)<8,"", IF(AND(H14="Yes",H15="Yes"),"Yes","No")) | I22: =IF(COUNTA(I14:I21)<8,"", IF(AND(I14="Yes",I15="Yes"),"Yes","No")) | J22: =IF(COUNTA(J14:J21)<8,"", IF(AND(J14="Yes",J15="Yes"),"Yes","No")) | K22: =IF(COUNTA(K14:K21)<8,"", IF(AND(K14="Yes",K15="Yes"),"Yes","No")) | ... P22: =IF(COUNTA(P14:P21)<8,"", IF(AND(P14="Yes",P15="Yes"),"Yes","No")) | R22: =IF(COUNTA(R14:R21)<8,"", IF(AND(R14="Yes",R15="Yes"),"Yes","No")) | T22: =IF(COUNTA(T14:T21)<8,"", IF(AND(T14="Yes",T15="Yes"),"Yes","No")) | V22: =IF(COUNTA(V14:V21)<8,"", IF(AND(V14="Yes",V15="Yes"),"Yes","No")) | W22: =IF(COUNTA(W14:W21)<8,"", IF(AND(W14="Yes",W15="Yes"),"Yes","No"))
A23: Number of criteria passed | D23: =IF(COUNTA(D14:D21)<8,"", COUNTIF(D14:D21,"Yes")) | E23: =IF(COUNTA(E14:E21)<8,"", COUNTIF(E14:E21,"Yes")) | F23: =IF(COUNTA(F14:F21)<8,"", COUNTIF(F14:F21,"Yes")) | G23: =IF(COUNTA(G14:G21)<8,"", COUNTIF(G14:G21,"Yes")) | H23: =IF(COUNTA(H14:H21)<8,"", COUNTIF(H14:H21,"Yes")) | I23: =IF(COUNTA(I14:I21)<8,"", COUNTIF(I14:I21,"Yes")) | J23: =IF(COUNTA(J14:J21)<8,"", COUNTIF(J14:J21,"Yes")) | K23: =IF(COUNTA(K14:K21)<8,"", COUNTIF(K14:K21,"Yes")) | ... P23: =IF(COUNTA(P14:P21)<8,"", COUNTIF(P14:P21,"Yes")) | R23: =IF(COUNTA(R14:R21)<8,"", COUNTIF(R14:R21,"Yes")) | T23: =IF(COUNTA(T14:T21)<8,"", COUNTIF(T14:T21,"Yes")) | V23: =IF(COUNTA(V14:V21)<8,"", COUNTIF(V14:V21,"Yes")) | W23: =IF(COUNTA(W14:W21)<8,"", COUNTIF(W14:W21,"Yes"))
A24: Condition Assessment Result (out of 8 criteria) | C24: Condition Assessment Score | D24: Score Achieved ×/✓
A25: Passes 6- 8 criteria, including essential criteria A and B. | C25: Good (3) | D25: =IF(COUNTA(D14:D21)<8,"", IF(AND(D23>=6,D14="Yes",D15="Yes"),"✓","")) | E25: =IF(COUNTA(E14:E21)<8,"", IF(AND(E23>=6,E14="Yes",E15="Yes"),"✓","")) | F25: =IF(COUNTA(F14:F21)<8,"", IF(AND(F23>=6,F14="Yes",F15="Yes"),"✓","")) | G25: =IF(COUNTA(G14:G21)<8,"", IF(AND(G23>=6,G14="Yes",G15="Yes"),"✓","")) | H25: =IF(COUNTA(H14:H21)<8,"", IF(AND(H23>=6,H14="Yes",H15="Yes"),"✓","")) | I25: =IF(COUNTA(I14:I21)<8,"", IF(AND(I23>=6,I14="Yes",I15="Yes"),"✓","")) | J25: =IF(COUNTA(J14:J21)<8,"", IF(AND(J23>=6,J14="Yes",J15="Yes"),"✓","")) | K25: =IF(COUNTA(K14:K21)<8,"", IF(AND(K23>=6,K14="Yes",K15="Yes"),"✓","")) | ... P25: =IF(COUNTA(P14:P21)<8,"", IF(AND(P23>=6,P14="Yes",P15="Yes"),"✓","")) | R25: =IF(COUNTA(R14:R21)<8,"", IF(AND(R23>=6,R14="Yes",R15="Yes"),"✓","")) | T25: =IF(COUNTA(T14:T21)<8,"", IF(AND(T23>=6,T14="Yes",T15="Yes"),"✓","")) | V25: =IF(COUNTA(V14:V21)<8,"", IF(AND(V23>=6,V14="Yes",V15="Yes"),"✓","")) | W25: =IF(COUNTA(W14:W21)<8,"", IF(AND(W23>=6,W14="Yes",W15="Yes"),"✓",""))
A26: Passes 4 or 5 criteria; OR Passes 6 or 7 criteria but fails an essential criterion. | C26: Moderate (2) | D26: =IF(COUNTA(D14:D21)<8,"", IF(OR(D23=5,D23=4, AND(D23>=6, OR(D14<>"Yes",D15<>"Yes"))),"✓","")) | E26: =IF(COUNTA(E14:E21)<8,"", IF(OR(E23=5,E23=4, AND(E23>=6, OR(E14<>"Yes",E15<>"Yes"))),"✓","")) | F26: =IF(COUNTA(F14:F21)<8,"", IF(OR(F23=5,F23=4, AND(F23>=6, OR(F14<>"Yes",F15<>"Yes"))),"✓","")) | G26: =IF(COUNTA(G14:G21)<8,"", IF(OR(G23=5,G23=4, AND(G23>=6, OR(G14<>"Yes",G15<>"Yes"))),"✓","")) | H26: =IF(COUNTA(H14:H21)<8,"", IF(OR(H23=5,H23=4, AND(H23>=6, OR(H14<>"Yes",H15<>"Yes"))),"✓","")) | I26: =IF(COUNTA(I14:I21)<8,"", IF(OR(I23=5,I23=4, AND(I23>=6, OR(I14<>"Yes",I15<>"Yes"))),"✓","")) | J26: =IF(COUNTA(J14:J21)<8,"", IF(OR(J23=5,J23=4, AND(J23>=6, OR(J14<>"Yes",J15<>"Yes"))),"✓","")) | K26: =IF(COUNTA(K14:K21)<8,"", IF(OR(K23=5,K23=4, AND(K23>=6, OR(K14<>"Yes",K15<>"Yes"))),"✓","")) | ... P26: =IF(COUNTA(P14:P21)<8,"", IF(OR(P23=5,P23=4, AND(P23>=6, OR(P14<>"Yes",P15<>"Yes"))),"✓","")) | R26: =IF(COUNTA(R14:R21)<8,"", IF(OR(R23=5,R23=4, AND(R23>=6, OR(R14<>"Yes",R15<>"Yes"))),"✓","")) | T26: =IF(COUNTA(T14:T21)<8,"", IF(OR(T23=5,T23=4, AND(T23>=6, OR(T14<>"Yes",T15<>"Yes"))),"✓","")) | V26: =IF(COUNTA(V14:V21)<8,"", IF(OR(V23=5,V23=4, AND(V23>=6, OR(V14<>"Yes",V15<>"Yes"))),"✓","")) | W26: =IF(COUNTA(W14:W21)<8,"", IF(OR(W23=5,W23=4, AND(W23>=6, OR(W14<>"Yes",W15<>"Yes"))),"✓",""))
A27: Passes 3 or fewer criteria. | C27: Poor (1) | D27: =IF(COUNTA(D14:D21)<8,"", IF(D23<=3,"✓","")) | E27: =IF(COUNTA(E14:E21)<8,"", IF(E23<=3,"✓","")) | F27: =IF(COUNTA(F14:F21)<8,"", IF(F23<=3,"✓","")) | G27: =IF(COUNTA(G14:G21)<8,"", IF(G23<=3,"✓","")) | H27: =IF(COUNTA(H14:H21)<8,"", IF(H23<=3,"✓","")) | I27: =IF(COUNTA(I14:I21)<8,"", IF(I23<=3,"✓","")) | J27: =IF(COUNTA(J14:J21)<8,"", IF(J23<=3,"✓","")) | K27: =IF(COUNTA(K14:K21)<8,"", IF(K23<=3,"✓","")) | ... P27: =IF(COUNTA(P14:P21)<8,"", IF(P23<=3,"✓","")) | R27: =IF(COUNTA(R14:R21)<8,"", IF(R23<=3,"✓","")) | T27: =IF(COUNTA(T14:T21)<8,"", IF(T23<=3,"✓","")) | V27: =IF(COUNTA(V14:V21)<8,"", IF(V23<=3,"✓","")) | W27: =IF(COUNTA(W14:W21)<8,"", IF(W23<=3,"✓",""))
A28: Suggested enhancement interventions to improve condition score
A30: Footnotes
A31: Footnote 1 - See gov.uk standing advice on ancient and veteran trees. Available from:
A32: Keepers of time: ancient and native woodland and trees policy in England (publishing.service.gov.uk)
A33: and:
A34: Ancient woodland, ancient trees and veteran trees: advice for making planning decisions - GOV.UK (www.gov.uk)
A35: Footnote 2 – Assess this for each distinct habitat parcel. If the distribution of invasive non-native species varies across the habitat, split into parcels accordingly, applying a buffer zone around the invasive non-native species with a size relative to its risk of spread into adjacent habitat, using professional judgement. Footnote 3 – Wildlife and Countryside Act 1981 (as amended). Footnote 4 - Species indicative of suboptimal condition for this habitat type include: creeping thistle Cirsium arvense, spear thistle Cirsium vulgare, curled dock Rumex crispus, broad-leaved dock Rumex obtusifolius and common nettle Urtica dioica. There may be additional relevant species local to the region and or site.

Sheet 18.POND
A1: Condition Sheet: POND Habitat Type
A2: Habitat Type
A3: Lakes - Ponds (priority habitat) Lakes - Ponds (non-priority habitat) Lakes - Temporary lakes ponds and pools (H3170) [Use this condition sheet for Temporary ponds and pools, use Lake condition sheet for Temporary lakes] Lakes - Ornamental lake or pond [Use this condition sheet for Ornamental ponds, use Lake condition sheet for Ornamental lakes]
A4: Habitat Description
A6: ukhab – UK Habitat Classification
A7: On-site or off-site, site name and location | C7: ='SURVEY COVER SHEET '!D4&" - "&'SURVEY COVER SHEET '!D2 -> On-site - Reading Gateway | D7: Survey date and Surveyor name | F7: =TEXT('SURVEY COVER SHEET '!$B$2,"dd/mm/yyyy")&" - "&'SURVEY COVER SHEET '!$B$4 -> 19/03/2026 - Ben Wagstffe
D8: Survey reference (if relating to a wider survey)
A9: Limitations (if applicable) | D9: Habitat type
D11: Habitat parcel reference
D13: Grid reference
A14: Condition Assessment Criteria
D15: Criterion passed (Yes or No) | X15: Notes (such as justification)
A16: Core Criteria - applicable to all ponds (woodland1 and non-woodland):
A17: A | B17: The pond is of good water quality, with clear water (low turbidity) indicating no obvious signs of pollution. Turbidity is acceptable if the pond is grazed by livestock.
A18: B | B18: There is semi-natural habitat (moderate distinctiveness or above) completely surrounding the pond, for at least 10 m from the pond edge for its entire perimeter.
A19: C | B19: Less than 10% of the water surface is covered with duckweed Lemna spp. or filamentous algae.
A20: D | B20: The pond is not artificially connected to other waterbodies, such as agricultural ditches or artificial pipework.
A21: E | B21: Pond water levels can fluctuate naturally throughout the year. No obvious artificial dams2, pumps or pipework.
A22: F | B22: There is an absence of listed non-native plant and animal species3.
A23: G | B23: The pond is not artificially stocked with fish. If the pond naturally contains fish, it is a native fish assemblage at low densities.
A24: Additional Criteria - must be assessed for all non-woodland ponds:
A25: H | B25: Emergent, submerged or floating plants (excluding duckweed)4 cover at least 50% of the pond area which is less than 3 m deep.
A26: I | B26: The pond surface is no more than 50% shaded by adjacent trees and scrub.
A27: Number of criteria passed | D27: =IF(TRIM(D10)="","", IF(AND(ISNUMBER(SEARCH("Woodland",D10)),COUNTA(D17:D23)<>7),"", IF(AND(ISNUMBER(SEARCH("Woodland",D10)),COUNTA(D25:D26)<>0),"N/A", IF(AND(NOT(ISNUMBER(SEARCH("Woodland",D10))),COUNTA(D17:D23,D25:D26)<>9),"", IF(AND(NOT(ISNUMBER(SEARCH("Woodland",D10))),COUNTA(D25:D26)<0),"N/A", COUNTIF(D17:D23,"Yes")+COUNTIF(D25:D26,"Yes")))))) | E27: =IF(TRIM(E10)="","", IF(AND(ISNUMBER(SEARCH("Woodland",E10)),COUNTA(E17:E23)<>7),"", IF(AND(ISNUMBER(SEARCH("Woodland",E10)),COUNTA(E25:E26)<>0),"N/A", IF(AND(NOT(ISNUMBER(SEARCH("Woodland",E10))),COUNTA(E17:E23,E25:E26)<>9),"", IF(AND(NOT(ISNUMBER(SEARCH("Woodland",E10))),COUNTA(E25:E26)<0),"N/A", COUNTIF(E17:E23,"Yes")+COUNTIF(E25:E26,"Yes")))))) | F27: =IF(TRIM(F10)="","", IF(AND(ISNUMBER(SEARCH("Woodland",F10)),COUNTA(F17:F23)<>7),"", IF(AND(ISNUMBER(SEARCH("Woodland",F10)),COUNTA(F25:F26)<>0),"N/A", IF(AND(NOT(ISNUMBER(SEARCH("Woodland",F10))),COUNTA(F17:F23,F25:F26)<>9),"", IF(AND(NOT(ISNUMBER(SEARCH("Woodland",F10))),COUNTA(F25:F26)<0),"N/A", COUNTIF(F17:F23,"Yes")+COUNTIF(F25:F26,"Yes")))))) | G27: =IF(TRIM(G10)="","", IF(AND(ISNUMBER(SEARCH("Woodland",G10)),COUNTA(G17:G23)<>7),"", IF(AND(ISNUMBER(SEARCH("Woodland",G10)),COUNTA(G25:G26)<>0),"N/A", IF(AND(NOT(ISNUMBER(SEARCH("Woodland",G10))),COUNTA(G17:G23,G25:G26)<>9),"", IF(AND(NOT(ISNUMBER(SEARCH("Woodland",G10))),COUNTA(G25:G26)<0),"N/A", COUNTIF(G17:G23,"Yes")+COUNTIF(G25:G26,"Yes")))))) | H27: =IF(TRIM(H10)="","", IF(AND(ISNUMBER(SEARCH("Woodland",H10)),COUNTA(H17:H23)<>7),"", IF(AND(ISNUMBER(SEARCH("Woodland",H10)),COUNTA(H25:H26)<>0),"N/A", IF(AND(NOT(ISNUMBER(SEARCH("Woodland",H10))),COUNTA(H17:H23,H25:H26)<>9),"", IF(AND(NOT(ISNUMBER(SEARCH("Woodland",H10))),COUNTA(H25:H26)<0),"N/A", COUNTIF(H17:H23,"Yes")+COUNTIF(H25:H26,"Yes")))))) | N27: =IF(TRIM(N10)="","", IF(AND(ISNUMBER(SEARCH("Woodland",N10)),COUNTA(N17:N23)<>7),"", IF(AND(ISNUMBER(SEARCH("Woodland",N10)),COUNTA(N25:N26)<>0),"N/A", IF(AND(NOT(ISNUMBER(SEARCH("Woodland",N10))),COUNTA(N17:N23,N25:N26)<>9),"", IF(AND(NOT(ISNUMBER(SEARCH("Woodland",N10))),COUNTA(N25:N26)<0),"N/A", COUNTIF(N17:N23,"Yes")+COUNTIF(N25:N26,"Yes")))))) | O27: =IF(TRIM(O10)="","", IF(AND(ISNUMBER(SEARCH("Woodland",O10)),COUNTA(O17:O23)<>7),"", IF(AND(ISNUMBER(SEARCH("Woodland",O10)),COUNTA(O25:O26)<>0),"N/A", IF(AND(NOT(ISNUMBER(SEARCH("Woodland",O10))),COUNTA(O17:O23,O25:O26)<>9),"", IF(AND(NOT(ISNUMBER(SEARCH("Woodland",O10))),COUNTA(O25:O26)<0),"N/A", COUNTIF(O17:O23,"Yes")+COUNTIF(O25:O26,"Yes")))))) | P27: =IF(TRIM(P10)="","", IF(AND(ISNUMBER(SEARCH("Woodland",P10)),COUNTA(P17:P23)<>7),"", IF(AND(ISNUMBER(SEARCH("Woodland",P10)),COUNTA(P25:P26)<>0),"N/A", IF(AND(NOT(ISNUMBER(SEARCH("Woodland",P10))),COUNTA(P17:P23,P25:P26)<>9),"", IF(AND(NOT(ISNUMBER(SEARCH("Woodland",P10))),COUNTA(P25:P26)<0),"N/A", COUNTIF(P17:P23,"Yes")+COUNTIF(P25:P26,"Yes")))))) | Q27: =IF(TRIM(Q10)="","", IF(AND(ISNUMBER(SEARCH("Woodland",Q10)),COUNTA(Q17:Q23)<>7),"", IF(AND(ISNUMBER(SEARCH("Woodland",Q10)),COUNTA(Q25:Q26)<>0),"N/A", IF(AND(NOT(ISNUMBER(SEARCH("Woodland",Q10))),COUNTA(Q17:Q23,Q25:Q26)<>9),"", IF(AND(NOT(ISNUMBER(SEARCH("Woodland",Q10))),COUNTA(Q25:Q26)<0),"N/A", COUNTIF(Q17:Q23,"Yes")+COUNTIF(Q25:Q26,"Yes")))))) | R27: =IF(TRIM(R10)="","", IF(AND(ISNUMBER(SEARCH("Woodland",R10)),COUNTA(R17:R23)<>7),"", IF(AND(ISNUMBER(SEARCH("Woodland",R10)),COUNTA(R25:R26)<>0),"N/A", IF(AND(NOT(ISNUMBER(SEARCH("Woodland",R10))),COUNTA(R17:R23,R25:R26)<>9),"", IF(AND(NOT(ISNUMBER(SEARCH("Woodland",R10))),COUNTA(R25:R26)<0),"N/A", COUNTIF(R17:R23,"Yes")+COUNTIF(R25:R26,"Yes")))))) | S27: =IF(TRIM(S10)="","", IF(AND(ISNUMBER(SEARCH("Woodland",S10)),COUNTA(S17:S23)<>7),"", IF(AND(ISNUMBER(SEARCH("Woodland",S10)),COUNTA(S25:S26)<>0),"N/A", IF(AND(NOT(ISNUMBER(SEARCH("Woodland",S10))),COUNTA(S17:S23,S25:S26)<>9),"", IF(AND(NOT(ISNUMBER(SEARCH("Woodland",S10))),COUNTA(S25:S26)<0),"N/A", COUNTIF(S17:S23,"Yes")+COUNTIF(S25:S26,"Yes")))))) | T27: =IF(TRIM(T10)="","", IF(AND(ISNUMBER(SEARCH("Woodland",T10)),COUNTA(T17:T23)<>7),"", IF(AND(ISNUMBER(SEARCH("Woodland",T10)),COUNTA(T25:T26)<>0),"N/A", IF(AND(NOT(ISNUMBER(SEARCH("Woodland",T10))),COUNTA(T17:T23,T25:T26)<>9),"", IF(AND(NOT(ISNUMBER(SEARCH("Woodland",T10))),COUNTA(T25:T26)<0),"N/A", COUNTIF(T17:T23,"Yes")+COUNTIF(T25:T26,"Yes")))))) | U27: =IF(TRIM(U10)="","", IF(AND(ISNUMBER(SEARCH("Woodland",U10)),COUNTA(U17:U23)<>7),"", IF(AND(ISNUMBER(SEARCH("Woodland",U10)),COUNTA(U25:U26)<>0),"N/A", IF(AND(NOT(ISNUMBER(SEARCH("Woodland",U10))),COUNTA(U17:U23,U25:U26)<>9),"", IF(AND(NOT(ISNUMBER(SEARCH("Woodland",U10))),COUNTA(U25:U26)<0),"N/A", COUNTIF(U17:U23,"Yes")+COUNTIF(U25:U26,"Yes")))))) | ... W27: =IF(TRIM(W10)="","", IF(AND(ISNUMBER(SEARCH("Woodland",W10)),COUNTA(W17:W23)<>7),"", IF(AND(ISNUMBER(SEARCH("Woodland",W10)),COUNTA(W25:W26)<>0),"N/A", IF(AND(NOT(ISNUMBER(SEARCH("Woodland",W10))),COUNTA(W17:W23,W25:W26)<>9),"", IF(AND(NOT(ISNUMBER(SEARCH("Woodland",W10))),COUNTA(W25:W26)<0),"N/A", COUNTIF(W17:W23,"Yes")+COUNTIF(W25:W26,"Yes"))))))
A28: Condition Assessment Result | C28: Condition Assessment Score | D28: Score Achieved ×/✓
A29: Results for woodland ponds which require assessment of 7 core criteria
A30: Passes 7 criteria | C30: Good (3) | D30: =IF(TRIM(D10)="","", IF(ISNUMBER(SEARCH("Woodland",D10)), IF(OR(COUNTA(D17:D23)<>7,COUNTA(D25:D26)<>0),"", IF(D27=7,"✓","")),"N/A")) | E30: =IF(TRIM(E10)="","", IF(ISNUMBER(SEARCH("Woodland",E10)), IF(OR(COUNTA(E17:E23)<>7,COUNTA(E25:E26)<>0),"", IF(E27=7,"✓","")),"N/A")) | F30: =IF(TRIM(F10)="","", IF(ISNUMBER(SEARCH("Woodland",F10)), IF(OR(COUNTA(F17:F23)<>7,COUNTA(F25:F26)<>0),"", IF(F27=7,"✓","")),"N/A")) | G30: =IF(TRIM(G10)="","", IF(ISNUMBER(SEARCH("Woodland",G10)), IF(OR(COUNTA(G17:G23)<>7,COUNTA(G25:G26)<>0),"", IF(G27=7,"✓","")),"N/A")) | H30: =IF(TRIM(H10)="","", IF(ISNUMBER(SEARCH("Woodland",H10)), IF(OR(COUNTA(H17:H23)<>7,COUNTA(H25:H26)<>0),"", IF(H27=7,"✓","")),"N/A")) | N30: =IF(TRIM(N10)="","", IF(ISNUMBER(SEARCH("Woodland",N10)), IF(OR(COUNTA(N17:N23)<>7,COUNTA(N25:N26)<>0),"", IF(N27=7,"✓","")),"N/A")) | O30: =IF(TRIM(O10)="","", IF(ISNUMBER(SEARCH("Woodland",O10)), IF(OR(COUNTA(O17:O23)<>7,COUNTA(O25:O26)<>0),"", IF(O27=7,"✓","")),"N/A")) | P30: =IF(TRIM(P10)="","", IF(ISNUMBER(SEARCH("Woodland",P10)), IF(OR(COUNTA(P17:P23)<>7,COUNTA(P25:P26)<>0),"", IF(P27=7,"✓","")),"N/A")) | Q30: =IF(TRIM(Q10)="","", IF(ISNUMBER(SEARCH("Woodland",Q10)), IF(OR(COUNTA(Q17:Q23)<>7,COUNTA(Q25:Q26)<>0),"", IF(Q27=7,"✓","")),"N/A")) | R30: =IF(TRIM(R10)="","", IF(ISNUMBER(SEARCH("Woodland",R10)), IF(OR(COUNTA(R17:R23)<>7,COUNTA(R25:R26)<>0),"", IF(R27=7,"✓","")),"N/A")) | S30: =IF(TRIM(S10)="","", IF(ISNUMBER(SEARCH("Woodland",S10)), IF(OR(COUNTA(S17:S23)<>7,COUNTA(S25:S26)<>0),"", IF(S27=7,"✓","")),"N/A")) | T30: =IF(TRIM(T10)="","", IF(ISNUMBER(SEARCH("Woodland",T10)), IF(OR(COUNTA(T17:T23)<>7,COUNTA(T25:T26)<>0),"", IF(T27=7,"✓","")),"N/A")) | U30: =IF(TRIM(U10)="","", IF(ISNUMBER(SEARCH("Woodland",U10)), IF(OR(COUNTA(U17:U23)<>7,COUNTA(U25:U26)<>0),"", IF(U27=7,"✓","")),"N/A")) | ... W30: =IF(TRIM(W10)="","", IF(ISNUMBER(SEARCH("Woodland",W10)), IF(OR(COUNTA(W17:W23)<>7,COUNTA(W25:W26)<>0),"", IF(W27=7,"✓","")),"N/A"))
A31: Passes 5 or 6 criteria | C31: Moderate (2) | D31: =IF(TRIM(D10)="","", IF(ISNUMBER(SEARCH("Woodland",D10)), IF(OR(COUNTA(D17:D23)<>7,COUNTA(D25:D26)<>0),"", IF(AND(D27>=5, D27<=6),"✓","")),"N/A")) | E31: =IF(TRIM(E10)="","", IF(ISNUMBER(SEARCH("Woodland",E10)), IF(OR(COUNTA(E17:E23)<>7,COUNTA(E25:E26)<>0),"", IF(AND(E27>=5, E27<=6),"✓","")),"N/A")) | F31: =IF(TRIM(F10)="","", IF(ISNUMBER(SEARCH("Woodland",F10)), IF(OR(COUNTA(F17:F23)<>7,COUNTA(F25:F26)<>0),"", IF(AND(F27>=5, F27<=6),"✓","")),"N/A")) | G31: =IF(TRIM(G10)="","", IF(ISNUMBER(SEARCH("Woodland",G10)), IF(OR(COUNTA(G17:G23)<>7,COUNTA(G25:G26)<>0),"", IF(AND(G27>=5, G27<=6),"✓","")),"N/A")) | H31: =IF(TRIM(H10)="","", IF(ISNUMBER(SEARCH("Woodland",H10)), IF(OR(COUNTA(H17:H23)<>7,COUNTA(H25:H26)<>0),"", IF(AND(H27>=5, H27<=6),"✓","")),"N/A")) | N31: =IF(TRIM(N10)="","", IF(ISNUMBER(SEARCH("Woodland",N10)), IF(OR(COUNTA(N17:N23)<>7,COUNTA(N25:N26)<>0),"", IF(AND(N27>=5, N27<=6),"✓","")),"N/A")) | O31: =IF(TRIM(O10)="","", IF(ISNUMBER(SEARCH("Woodland",O10)), IF(OR(COUNTA(O17:O23)<>7,COUNTA(O25:O26)<>0),"", IF(AND(O27>=5, O27<=6),"✓","")),"N/A")) | P31: =IF(TRIM(P10)="","", IF(ISNUMBER(SEARCH("Woodland",P10)), IF(OR(COUNTA(P17:P23)<>7,COUNTA(P25:P26)<>0),"", IF(AND(P27>=5, P27<=6),"✓","")),"N/A")) | Q31: =IF(TRIM(Q10)="","", IF(ISNUMBER(SEARCH("Woodland",Q10)), IF(OR(COUNTA(Q17:Q23)<>7,COUNTA(Q25:Q26)<>0),"", IF(AND(Q27>=5, Q27<=6),"✓","")),"N/A")) | R31: =IF(TRIM(R10)="","", IF(ISNUMBER(SEARCH("Woodland",R10)), IF(OR(COUNTA(R17:R23)<>7,COUNTA(R25:R26)<>0),"", IF(AND(R27>=5, R27<=6),"✓","")),"N/A")) | S31: =IF(TRIM(S10)="","", IF(ISNUMBER(SEARCH("Woodland",S10)), IF(OR(COUNTA(S17:S23)<>7,COUNTA(S25:S26)<>0),"", IF(AND(S27>=5, S27<=6),"✓","")),"N/A")) | T31: =IF(TRIM(T10)="","", IF(ISNUMBER(SEARCH("Woodland",T10)), IF(OR(COUNTA(T17:T23)<>7,COUNTA(T25:T26)<>0),"", IF(AND(T27>=5, T27<=6),"✓","")),"N/A")) | U31: =IF(TRIM(U10)="","", IF(ISNUMBER(SEARCH("Woodland",U10)), IF(OR(COUNTA(U17:U23)<>7,COUNTA(U25:U26)<>0),"", IF(AND(U27>=5, U27<=6),"✓","")),"N/A")) | ... W31: =IF(TRIM(W10)="","", IF(ISNUMBER(SEARCH("Woodland",W10)), IF(OR(COUNTA(W17:W23)<>7,COUNTA(W25:W26)<>0),"", IF(AND(W27>=5, W27<=6),"✓","")),"N/A"))
A32: Passes 4 or fewer criteria | C32: Poor (1) | D32: =IF(TRIM(D10)="","", IF(ISNUMBER(SEARCH("Woodland",D10)), IF(OR(COUNTA(D17:D23)<>7,COUNTA(D25:D26)<>0),"", IF(D27<=4,"✓","")),"N/A")) | E32: =IF(TRIM(E10)="","", IF(ISNUMBER(SEARCH("Woodland",E10)), IF(OR(COUNTA(E17:E23)<>7,COUNTA(E25:E26)<>0),"", IF(E27<=4,"✓","")),"N/A")) | F32: =IF(TRIM(F10)="","", IF(ISNUMBER(SEARCH("Woodland",F10)), IF(OR(COUNTA(F17:F23)<>7,COUNTA(F25:F26)<>0),"", IF(F27<=4,"✓","")),"N/A")) | G32: =IF(TRIM(G10)="","", IF(ISNUMBER(SEARCH("Woodland",G10)), IF(OR(COUNTA(G17:G23)<>7,COUNTA(G25:G26)<>0),"", IF(G27<=4,"✓","")),"N/A")) | H32: =IF(TRIM(H10)="","", IF(ISNUMBER(SEARCH("Woodland",H10)), IF(OR(COUNTA(H17:H23)<>7,COUNTA(H25:H26)<>0),"", IF(H27<=4,"✓","")),"N/A")) | N32: =IF(TRIM(N10)="","", IF(ISNUMBER(SEARCH("Woodland",N10)), IF(OR(COUNTA(N17:N23)<>7,COUNTA(N25:N26)<>0),"", IF(N27<=4,"✓","")),"N/A")) | O32: =IF(TRIM(O10)="","", IF(ISNUMBER(SEARCH("Woodland",O10)), IF(OR(COUNTA(O17:O23)<>7,COUNTA(O25:O26)<>0),"", IF(O27<=4,"✓","")),"N/A")) | P32: =IF(TRIM(P10)="","", IF(ISNUMBER(SEARCH("Woodland",P10)), IF(OR(COUNTA(P17:P23)<>7,COUNTA(P25:P26)<>0),"", IF(P27<=4,"✓","")),"N/A")) | Q32: =IF(TRIM(Q10)="","", IF(ISNUMBER(SEARCH("Woodland",Q10)), IF(OR(COUNTA(Q17:Q23)<>7,COUNTA(Q25:Q26)<>0),"", IF(Q27<=4,"✓","")),"N/A")) | R32: =IF(TRIM(R10)="","", IF(ISNUMBER(SEARCH("Woodland",R10)), IF(OR(COUNTA(R17:R23)<>7,COUNTA(R25:R26)<>0),"", IF(R27<=4,"✓","")),"N/A")) | S32: =IF(TRIM(S10)="","", IF(ISNUMBER(SEARCH("Woodland",S10)), IF(OR(COUNTA(S17:S23)<>7,COUNTA(S25:S26)<>0),"", IF(S27<=4,"✓","")),"N/A")) | T32: =IF(TRIM(T10)="","", IF(ISNUMBER(SEARCH("Woodland",T10)), IF(OR(COUNTA(T17:T23)<>7,COUNTA(T25:T26)<>0),"", IF(T27<=4,"✓","")),"N/A")) | U32: =IF(TRIM(U10)="","", IF(ISNUMBER(SEARCH("Woodland",U10)), IF(OR(COUNTA(U17:U23)<>7,COUNTA(U25:U26)<>0),"", IF(U27<=4,"✓","")),"N/A")) | ... W32: =IF(TRIM(W10)="","", IF(ISNUMBER(SEARCH("Woodland",W10)), IF(OR(COUNTA(W17:W23)<>7,COUNTA(W25:W26)<>0),"", IF(W27<=4,"✓","")),"N/A"))
A33: Results for non-woodland ponds which require assessment of 9 criteria
A34: Passes 9 criteria | C34: Good (3) | D34: =IF(TRIM(D10)="","", IF(NOT(ISNUMBER(SEARCH("Woodland",D10))), IF(OR(COUNTA(D17:D23)<>7,COUNTA(D25:D26)<>2),"", IF(D27=9,"✓","")),"N/A")) | E34: =IF(TRIM(E10)="","", IF(NOT(ISNUMBER(SEARCH("Woodland",E10))), IF(OR(COUNTA(E17:E23)<>7,COUNTA(E25:E26)<>2),"", IF(E27=9,"✓","")),"N/A")) | F34: =IF(TRIM(F10)="","", IF(NOT(ISNUMBER(SEARCH("Woodland",F10))), IF(OR(COUNTA(F17:F23)<>7,COUNTA(F25:F26)<>2),"", IF(F27=9,"✓","")),"N/A")) | G34: =IF(TRIM(G10)="","", IF(NOT(ISNUMBER(SEARCH("Woodland",G10))), IF(OR(COUNTA(G17:G23)<>7,COUNTA(G25:G26)<>2),"", IF(G27=9,"✓","")),"N/A")) | H34: =IF(TRIM(H10)="","", IF(NOT(ISNUMBER(SEARCH("Woodland",H10))), IF(OR(COUNTA(H17:H23)<>7,COUNTA(H25:H26)<>2),"", IF(H27=9,"✓","")),"N/A")) | N34: =IF(TRIM(N10)="","", IF(NOT(ISNUMBER(SEARCH("Woodland",N10))), IF(OR(COUNTA(N17:N23)<>7,COUNTA(N25:N26)<>2),"", IF(N27=9,"✓","")),"N/A")) | O34: =IF(TRIM(O10)="","", IF(NOT(ISNUMBER(SEARCH("Woodland",O10))), IF(OR(COUNTA(O17:O23)<>7,COUNTA(O25:O26)<>2),"", IF(O27=9,"✓","")),"N/A")) | P34: =IF(TRIM(P10)="","", IF(NOT(ISNUMBER(SEARCH("Woodland",P10))), IF(OR(COUNTA(P17:P23)<>7,COUNTA(P25:P26)<>2),"", IF(P27=9,"✓","")),"N/A")) | Q34: =IF(TRIM(Q10)="","", IF(NOT(ISNUMBER(SEARCH("Woodland",Q10))), IF(OR(COUNTA(Q17:Q23)<>7,COUNTA(Q25:Q26)<>2),"", IF(Q27=9,"✓","")),"N/A")) | R34: =IF(TRIM(R10)="","", IF(NOT(ISNUMBER(SEARCH("Woodland",R10))), IF(OR(COUNTA(R17:R23)<>7,COUNTA(R25:R26)<>2),"", IF(R27=9,"✓","")),"N/A")) | S34: =IF(TRIM(S10)="","", IF(NOT(ISNUMBER(SEARCH("Woodland",S10))), IF(OR(COUNTA(S17:S23)<>7,COUNTA(S25:S26)<>2),"", IF(S27=9,"✓","")),"N/A")) | T34: =IF(TRIM(T10)="","", IF(NOT(ISNUMBER(SEARCH("Woodland",T10))), IF(OR(COUNTA(T17:T23)<>7,COUNTA(T25:T26)<>2),"", IF(T27=9,"✓","")),"N/A")) | U34: =IF(TRIM(U10)="","", IF(NOT(ISNUMBER(SEARCH("Woodland",U10))), IF(OR(COUNTA(U17:U23)<>7,COUNTA(U25:U26)<>2),"", IF(U27=9,"✓","")),"N/A")) | ... W34: =IF(TRIM(W10)="","", IF(NOT(ISNUMBER(SEARCH("Woodland",W10))), IF(OR(COUNTA(W17:W23)<>7,COUNTA(W25:W26)<>2),"", IF(W27=9,"✓","")),"N/A"))
A35: Passes 6 to 8 criteria | C35: Moderate (2) | D35: =IF(TRIM(D10)="","", IF(NOT(ISNUMBER(SEARCH("Woodland",D10))), IF(OR(COUNTA(D17:D23)<>7,COUNTA(D25:D26)<>2),"", IF(AND(D27>=6, D27<=8),"✓","")),"N/A")) | E35: =IF(TRIM(E10)="","", IF(NOT(ISNUMBER(SEARCH("Woodland",E10))), IF(OR(COUNTA(E17:E23)<>7,COUNTA(E25:E26)<>2),"", IF(AND(E27>=6, E27<=8),"✓","")),"N/A")) | F35: =IF(TRIM(F10)="","", IF(NOT(ISNUMBER(SEARCH("Woodland",F10))), IF(OR(COUNTA(F17:F23)<>7,COUNTA(F25:F26)<>2),"", IF(AND(F27>=6, F27<=8),"✓","")),"N/A")) | G35: =IF(TRIM(G10)="","", IF(NOT(ISNUMBER(SEARCH("Woodland",G10))), IF(OR(COUNTA(G17:G23)<>7,COUNTA(G25:G26)<>2),"", IF(AND(G27>=6, G27<=8),"✓","")),"N/A")) | H35: =IF(TRIM(H10)="","", IF(NOT(ISNUMBER(SEARCH("Woodland",H10))), IF(OR(COUNTA(H17:H23)<>7,COUNTA(H25:H26)<>2),"", IF(AND(H27>=6, H27<=8),"✓","")),"N/A")) | N35: =IF(TRIM(N10)="","", IF(NOT(ISNUMBER(SEARCH("Woodland",N10))), IF(OR(COUNTA(N17:N23)<>7,COUNTA(N25:N26)<>2),"", IF(AND(N27>=6, N27<=8),"✓","")),"N/A")) | O35: =IF(TRIM(O10)="","", IF(NOT(ISNUMBER(SEARCH("Woodland",O10))), IF(OR(COUNTA(O17:O23)<>7,COUNTA(O25:O26)<>2),"", IF(AND(O27>=6, O27<=8),"✓","")),"N/A")) | P35: =IF(TRIM(P10)="","", IF(NOT(ISNUMBER(SEARCH("Woodland",P10))), IF(OR(COUNTA(P17:P23)<>7,COUNTA(P25:P26)<>2),"", IF(AND(P27>=6, P27<=8),"✓","")),"N/A")) | Q35: =IF(TRIM(Q10)="","", IF(NOT(ISNUMBER(SEARCH("Woodland",Q10))), IF(OR(COUNTA(Q17:Q23)<>7,COUNTA(Q25:Q26)<>2),"", IF(AND(Q27>=6, Q27<=8),"✓","")),"N/A")) | R35: =IF(TRIM(R10)="","", IF(NOT(ISNUMBER(SEARCH("Woodland",R10))), IF(OR(COUNTA(R17:R23)<>7,COUNTA(R25:R26)<>2),"", IF(AND(R27>=6, R27<=8),"✓","")),"N/A")) | S35: =IF(TRIM(S10)="","", IF(NOT(ISNUMBER(SEARCH("Woodland",S10))), IF(OR(COUNTA(S17:S23)<>7,COUNTA(S25:S26)<>2),"", IF(AND(S27>=6, S27<=8),"✓","")),"N/A")) | T35: =IF(TRIM(T10)="","", IF(NOT(ISNUMBER(SEARCH("Woodland",T10))), IF(OR(COUNTA(T17:T23)<>7,COUNTA(T25:T26)<>2),"", IF(AND(T27>=6, T27<=8),"✓","")),"N/A")) | U35: =IF(TRIM(U10)="","", IF(NOT(ISNUMBER(SEARCH("Woodland",U10))), IF(OR(COUNTA(U17:U23)<>7,COUNTA(U25:U26)<>2),"", IF(AND(U27>=6, U27<=8),"✓","")),"N/A")) | ... W35: =IF(TRIM(W10)="","", IF(NOT(ISNUMBER(SEARCH("Woodland",W10))), IF(OR(COUNTA(W17:W23)<>7,COUNTA(W25:W26)<>2),"", IF(AND(W27>=6, W27<=8),"✓","")),"N/A"))
A36: Passes 5 or fewer criteria | C36: Poor (1) | D36: =IF(TRIM(D10)="","", IF(NOT(ISNUMBER(SEARCH("Woodland",D10))), IF(OR(COUNTA(D17:D23)<>7,COUNTA(D25:D26)<>2),"", IF(D27<=5,"✓","")),"N/A")) | E36: =IF(TRIM(E10)="","", IF(NOT(ISNUMBER(SEARCH("Woodland",E10))), IF(OR(COUNTA(E17:E23)<>7,COUNTA(E25:E26)<>2),"", IF(E27<=5,"✓","")),"N/A")) | F36: =IF(TRIM(F10)="","", IF(NOT(ISNUMBER(SEARCH("Woodland",F10))), IF(OR(COUNTA(F17:F23)<>7,COUNTA(F25:F26)<>2),"", IF(F27<=5,"✓","")),"N/A")) | G36: =IF(TRIM(G10)="","", IF(NOT(ISNUMBER(SEARCH("Woodland",G10))), IF(OR(COUNTA(G17:G23)<>7,COUNTA(G25:G26)<>2),"", IF(G27<=5,"✓","")),"N/A")) | H36: =IF(TRIM(H10)="","", IF(NOT(ISNUMBER(SEARCH("Woodland",H10))), IF(OR(COUNTA(H17:H23)<>7,COUNTA(H25:H26)<>2),"", IF(H27<=5,"✓","")),"N/A")) | N36: =IF(TRIM(N10)="","", IF(NOT(ISNUMBER(SEARCH("Woodland",N10))), IF(OR(COUNTA(N17:N23)<>7,COUNTA(N25:N26)<>2),"", IF(N27<=5,"✓","")),"N/A")) | O36: =IF(TRIM(O10)="","", IF(NOT(ISNUMBER(SEARCH("Woodland",O10))), IF(OR(COUNTA(O17:O23)<>7,COUNTA(O25:O26)<>2),"", IF(O27<=5,"✓","")),"N/A")) | P36: =IF(TRIM(P10)="","", IF(NOT(ISNUMBER(SEARCH("Woodland",P10))), IF(OR(COUNTA(P17:P23)<>7,COUNTA(P25:P26)<>2),"", IF(P27<=5,"✓","")),"N/A")) | Q36: =IF(TRIM(Q10)="","", IF(NOT(ISNUMBER(SEARCH("Woodland",Q10))), IF(OR(COUNTA(Q17:Q23)<>7,COUNTA(Q25:Q26)<>2),"", IF(Q27<=5,"✓","")),"N/A")) | R36: =IF(TRIM(R10)="","", IF(NOT(ISNUMBER(SEARCH("Woodland",R10))), IF(OR(COUNTA(R17:R23)<>7,COUNTA(R25:R26)<>2),"", IF(R27<=5,"✓","")),"N/A")) | S36: =IF(TRIM(S10)="","", IF(NOT(ISNUMBER(SEARCH("Woodland",S10))), IF(OR(COUNTA(S17:S23)<>7,COUNTA(S25:S26)<>2),"", IF(S27<=5,"✓","")),"N/A")) | T36: =IF(TRIM(T10)="","", IF(NOT(ISNUMBER(SEARCH("Woodland",T10))), IF(OR(COUNTA(T17:T23)<>7,COUNTA(T25:T26)<>2),"", IF(T27<=5,"✓","")),"N/A")) | U36: =IF(TRIM(U10)="","", IF(NOT(ISNUMBER(SEARCH("Woodland",U10))), IF(OR(COUNTA(U17:U23)<>7,COUNTA(U25:U26)<>2),"", IF(U27<=5,"✓","")),"N/A")) | ... W36: =IF(TRIM(W10)="","", IF(NOT(ISNUMBER(SEARCH("Woodland",W10))), IF(OR(COUNTA(W17:W23)<>7,COUNTA(W25:W26)<>2),"", IF(W27<=5,"✓","")),"N/A"))
A37: Suggested enhancement interventions to improve condition score
A39: Footnotes
A40: Footnote 1 - A woodland pond will be surrounded on all sides by woodland habitat. Footnote 2 – This excludes natural dams such as those created by Eurasian beaver Castor fiber. Footnote 3 - Any species included on the Water Framework Directive (WFD) UKTAG GB High Impact Species List should be absent: WFD UKTAG (2021) Classification of aquatic alien species according to their level of impact [online]. Available from:
A41: UKTAG classification of alien species working paper v8.pdf (wfduk.org)

Sheet 20. SCRUB
A1: Condition Sheet: SCRUB Habitat Type
A2: Habitat Types
A3: Heathland and shrub - Blackthorn scrub Heathland and shrub - Gorse scrub Heathland and shrub - Hawthorn scrub Heathland and shrub - Hazel scrub Heathland and shrub - Mixed scrub Heathland and shrub - Dunes with sea buckthorn (H2160) Heathland and shrub - Willow scrub
A4: Habitat Description
A6: For Dunes with sea buckthorn see: | C6: Dunes with sea-buckthorn (Dunes with Hippophae rhamnoides) - Special Areas of Conservation (jncc.gov.uk)
A7: For other scrub types see: | C7: ukhab – UK Habitat Classification
A8: On-site or off-site, site name and location | C8: ='SURVEY COVER SHEET '!D4&" - "&'SURVEY COVER SHEET '!D2 -> On-site - Reading Gateway | D8: Survey date and Surveyor name | G8: =TEXT('SURVEY COVER SHEET '!$B$2,"dd/mm/yyyy")&" - "&'SURVEY COVER SHEET '!$B$4 -> 19/03/2026 - Ben Wagstffe
D9: Survey reference (if relating to a wider survey)
A10: Limitations (if applicable) | D10: Habitat Type
D12: Habitat parcel reference
D14: Grid reference
A15: Condition Assessment Criteria
D16: Criterion passed (Yes or No) | X16: Notes (such as justification)
A17: A | B17: The parcel represents a good example of its habitat type - the appearance and composition of the vegetation closely matches its UKHab description (where in its natural range).1 - At least 80% of scrub is native, - There are at least three native woody species2, - No single species comprises more than 75% of the cover (except hazel Corylus avellana, common juniper Juniperus communis, sea buckthorn Hippophae rhamnoides (only in its restricted native range), or box Buxus sempervirens, which can be up to 100% cover).
A18: B | B18: Seedlings, saplings, young shrubs and mature (or ancient or veteran3) shrubs are all present.
A19: C | B19: There is an absence of invasive non-native plant species4 (as listed on Schedule 9 of WCA5) and species indicative of suboptimal condition6 make up less than 5% of ground cover.
A20: D | B20: The scrub has a well-developed edge with scattered scrub and tall grassland and or forbs present between the scrub and adjacent habitat.
A21: E | B21: There are clearings, glades or rides present within the scrub, providing sheltered edges.
A22: Number of criteria passed | D22: =IF(COUNTA(D17:D21)<5,"",COUNTIF(D17:D21,"Yes")) | E22: =IF(COUNTA(E17:E21)<5,"",COUNTIF(E17:E21,"Yes")) | F22: =IF(COUNTA(F17:F21)<5,"",COUNTIF(F17:F21,"Yes")) | G22: =IF(COUNTA(G17:G21)<5,"",COUNTIF(G17:G21,"Yes")) | H22: =IF(COUNTA(H17:H21)<5,"",COUNTIF(H17:H21,"Yes")) | I22: =IF(COUNTA(I17:I21)<5,"",COUNTIF(I17:I21,"Yes")) | J22: =IF(COUNTA(J17:J21)<5,"",COUNTIF(J17:J21,"Yes")) | K22: =IF(COUNTA(K17:K21)<5,"",COUNTIF(K17:K21,"Yes")) | ... W22: =IF(COUNTA(W17:W21)<5,"",COUNTIF(W17:W21,"Yes"))
A23: Condition Assessment Result (out of 5 criteria) | C23: Condition Assessment Score | D23: Score Achieved ×/✓
A24: Passes 5 criteria | C24: Good (3) | D24: =IF(TRIM(D11)="","", IF(COUNTA(D17:D21)<5,"", IF(D22=5,"✓",""))) | E24: =IF(TRIM(E11)="","", IF(COUNTA(E17:E21)<5,"", IF(E22=5,"✓",""))) | F24: =IF(TRIM(F11)="","", IF(COUNTA(F17:F21)<5,"", IF(F22=5,"✓",""))) | G24: =IF(TRIM(G11)="","", IF(COUNTA(G17:G21)<5,"", IF(G22=5,"✓",""))) | H24: =IF(TRIM(H11)="","", IF(COUNTA(H17:H21)<5,"", IF(H22=5,"✓",""))) | I24: =IF(TRIM(I11)="","", IF(COUNTA(I17:I21)<5,"", IF(I22=5,"✓",""))) | J24: =IF(TRIM(J11)="","", IF(COUNTA(J17:J21)<5,"", IF(J22=5,"✓",""))) | K24: =IF(TRIM(K11)="","", IF(COUNTA(K17:K21)<5,"", IF(K22=5,"✓",""))) | ... W24: =IF(TRIM(W11)="","", IF(COUNTA(W17:W21)<5,"", IF(W22=5,"✓","")))
A25: Passes 3 or 4 criteria | C25: Moderate (2) | D25: =IF(TRIM(D11)="","", IF(COUNTA(D17:D21)<5,"", IF(OR(D22=3,D22=4),"✓",""))) | E25: =IF(TRIM(E11)="","", IF(COUNTA(E17:E21)<5,"", IF(OR(E22=3,E22=4),"✓",""))) | F25: =IF(TRIM(F11)="","", IF(COUNTA(F17:F21)<5,"", IF(OR(F22=3,F22=4),"✓",""))) | G25: =IF(TRIM(G11)="","", IF(COUNTA(G17:G21)<5,"", IF(OR(G22=3,G22=4),"✓",""))) | H25: =IF(TRIM(H11)="","", IF(COUNTA(H17:H21)<5,"", IF(OR(H22=3,H22=4),"✓",""))) | I25: =IF(TRIM(I11)="","", IF(COUNTA(I17:I21)<5,"", IF(OR(I22=3,I22=4),"✓",""))) | J25: =IF(TRIM(J11)="","", IF(COUNTA(J17:J21)<5,"", IF(OR(J22=3,J22=4),"✓",""))) | K25: =IF(TRIM(K11)="","", IF(COUNTA(K17:K21)<5,"", IF(OR(K22=3,K22=4),"✓",""))) | ... W25: =IF(TRIM(W11)="","", IF(COUNTA(W17:W21)<5,"", IF(OR(W22=3,W22=4),"✓","")))
A26: Passes 2 or fewer criteria | C26: Poor (1) | D26: =IF(TRIM(D11)="","", IF(COUNTA(D17:D21)<5,"", IF(D22<=2,"✓",""))) | E26: =IF(TRIM(E11)="","", IF(COUNTA(E17:E21)<5,"", IF(E22<=2,"✓",""))) | F26: =IF(TRIM(F11)="","", IF(COUNTA(F17:F21)<5,"", IF(F22<=2,"✓",""))) | G26: =IF(TRIM(G11)="","", IF(COUNTA(G17:G21)<5,"", IF(G22<=2,"✓",""))) | H26: =IF(TRIM(H11)="","", IF(COUNTA(H17:H21)<5,"", IF(H22<=2,"✓",""))) | I26: =IF(TRIM(I11)="","", IF(COUNTA(I17:I21)<5,"", IF(I22<=2,"✓",""))) | J26: =IF(TRIM(J11)="","", IF(COUNTA(J17:J21)<5,"", IF(J22<=2,"✓",""))) | K26: =IF(TRIM(K11)="","", IF(COUNTA(K17:K21)<5,"", IF(K22<=2,"✓",""))) | ... W26: =IF(TRIM(W11)="","", IF(COUNTA(W17:W21)<5,"", IF(W22<=2,"✓","")))
A27: Suggested enhancement interventions to improve condition score
A29: Footnotes
A30: Footnote 1 – Professional judgement should be used alongside the UKHab description. Footnote 2 – Native woody species as defined and listed in the Hedgerow Survey Handbook: DEFRA (2007) Hedgerow Survey Handbook: A standard procedure for local surveys in the UK. 2nd ed. [online]. Defra, London. PB1195. Available from: Hedgerow Survey Handbook (publishing.service.gov.uk). Footnote 3 – See gov.uk standing advice on ancient and veteran species. Available from:
A31: Keepers of time: ancient and native woodland and trees policy in England (publishing.service.gov.uk) | G31: and
A32: Ancient woodland, ancient trees and veteran trees: advice for making planning decisions - GOV.UK (www.gov.uk)
A33: Footnote 4 – Assess this for each distinct habitat parcel. If the distribution of invasive non-native species varies across the habitat, split into parcels accordingly, applying a buffer zone around the invasive non-native species with a size relative to its risk of spread into adjacent habitat, using professional judgement. Footnote 5 – Wildlife and Countryside Act 1981 (as amended). Footnote 6 – Species indicative of suboptimal condition for this habitat type may include: non-native conifers, tree-of-heaven Alianthus altissima, holm oak Quercus ilex, European turkey oak Quercus cerris, cherry laurel Prunus laurocerasus, snowberry Symphoricarpos spp., shallon Gaultheria shallon, American skunk cabbage Lysichiton americanus, buddleia Buddleja spp., cotoneaster Cotoneaster spp., Spanish bluebell Hyacinthoides hispanica and hybrid bluebells Hyacinthoides x massartiana. There may be additional relevant species local to the region and or site.

Sheet 22.URBAN
A1: Condition Sheet: URBAN Habitat Type
A2: Habitat Types
A3: Sparsely vegetated land - Ruderal/Ephemeral Sparsely vegetated land - Tall forbs Urban - Allotments Urban - Biodiverse green roof Urban - Bioswale Urban - Cemeteries and churchyards Urban - Facade-bound green wall Urban - Ground based green wall Urban - Intensive green roof Urban - Open mosaic habitats on previously developed land Urban - Rain garden Urban - Sustainable drainage system (SuDS) Urban - Vacant or derelict land Urban - Bare ground
A4: Habitat Description
A6: See the Statutory Biodiversity Metric User Guide for green roofs, and UK Habitat Classification (UKHab) for other habitats: | N6: ukhab – UK Habitat Classification
A7: On-site or off-site, site name and location | C7: ='SURVEY COVER SHEET '!D4&" - "&'SURVEY COVER SHEET '!D2 -> On-site - Reading Gateway | D7: Survey date and Surveyor name | M7: =TEXT('SURVEY COVER SHEET '!$B$2,"dd/mm/yyyy")&" - "&'SURVEY COVER SHEET '!$B$4 -> 19/03/2026 - Ben Wagstffe
D8: Survey reference (if relating to a wider survey)
A9: Limitations (if applicable) | D9: Habitat type
D10: Bare ground | E10: Bare ground
D11: Habitat parcel reference
D12: 1 | E12: 2
D13: Grid reference
A14: Condition Assessment Criteria | D14: SU 71525 69252 | E14: SU 71567 69213
D15: Criterion passed (Yes or No) | X15: Notes (such as justification)
A16: Core Criteria - must be assessed for all urban habitat types:
A17: A | B17: Vegetation structure is varied, providing opportunities for vertebrates and invertebrates to live, eat and breed. A single structural habitat component or vegetation type does not account for more than 80% of the total habitat area. | D17: No | E17: No
A18: B | B18: The habitat parcel contains different plant species that are beneficial for wildlife, for example flowering species providing nectar sources for a range of invertebrates at different times of year. | D18: No | E18: No
A19: C | B19: Invasive non-native plant species (listed on Schedule 9 of WCA1) and others which are to the detriment of native wildlife (using professional judgement)2 cover less than 5% of the total vegetated area3. Note - to achieve Good condition, this criterion must be satisfied by a complete absence of invasive non-native species (rather than <5% cover). | D19: Yes | E19: Yes
A20: Additional Criterion - must be assessed for Open mosaic habitat on previously developed land only:
A21: D | B21: The parcel shows spatial variation and forms a mosaic of bare substrate PLUS: - At least four early successional communities (a) to (i); Communities: (a) annuals; (b) mosses/liverworts; (c) lichens; (d) ruderals; (e) inundation species; (f) open grassland; (g) flower-rich grassland; (h) heathland, (i) pools.
A22: Additional Criteria - must be assessed for Bioswale and SuDS habitat types only:
A23: E1 | B23: Plant species are mostly native. If non-native species are present, they should not be detrimental to the habitat or native wildlife4.
A24: E2 | B24: The vegetation is comprised of plant species suited to wetland or riparian situations.
A25: Additional Criterion - must be assessed for Intensive green roofs only:
A26: F | B26: The roof has a minimum of 50% native and non-native wildflowers. 70% of the roof area is soil and vegetation (including water features).
A27: Additional Criterion - must be assessed for Biodiverse green roofs only:
A28: G | B28: The roof has a varied depth of 80 – 150 mm; at least 50% is at 150 mm and is planted and seeded with wildflowers and sedums or is pre-prepared with sedums and wildflowers. Note – to achieve Good condition, some additional habitat, such as sand piles, stones, logs etc. are present.
A29: Essential criteria relevant for habitat type achieved (Yes or No) | D29: Yes | E29: Yes
A30: Number of criteria passed | D30: =IF(TRIM(D10)="","", IF(AND(NOT(ISNUMBER(SEARCH("mosaic",D10))), NOT(ISNUMBER(SEARCH("intensive",D10))), NOT(ISNUMBER(SEARCH("biodiverse",D10))), NOT(OR(ISNUMBER(SEARCH("bioswale",D10)),ISNUMBER(SEARCH("suds",D10)))), COUNTA(D21,D23:D24,D26,D28)>0),"N/A", IF(AND(ISNUMBER(SEARCH("mosaic",D10)),COUNTA(D23:D24,D26,D28)>0),"N/A", IF(AND(ISNUMBER(SEARCH("intensive",D10)),COUNTA(D21,D23:D24,D28)>0),"N/A", IF(AND(ISNUMBER(SEARCH("biodiverse",D10)),COUNTA(D21,D23:D24,D26)>0),"N/A", IF(AND(OR(ISNUMBER(SEARCH("bioswale",D10)),ISNUMBER(SEARCH("suds",D10))),COUNTA(D21,D26,D28)>0),"N/A", IF(COUNTA(D17:D19) +IF(ISNUMBER(SEARCH("mosaic",D10)),COUNTA(D21),0) +IF(ISNUMBER(SEARCH("intensive",D10)),COUNTA(D26),0) +IF(ISNUMBER(SEARCH("biodiverse",D10)),COUNTA(D28),0) +IF(OR(ISNUMBER(SEARCH("bioswale",D10)),ISNUMBER(SEARCH("suds",D10))),COUNTA(D23:D24),0) <>3 +IF(OR(ISNUMBER(SEARCH("mosaic",D10)),ISNUMBER(SEARCH("intensive",D10)),ISNUMBER(SEARCH("biodiverse",D10))),1,0) +IF(OR(ISNUMBER(SEARCH("bioswale",D10)),ISNUMBER(SEARCH("suds",D10))),2,0),"", COUNTIF(D17:D19,"Yes") +COUNTIF(D21,"Yes") +COUNTIF(D26,"Yes") +COUNTIF(D28,"Yes") +COUNTIF(D23:D24,"Yes")))))))) -> 1 | E30: =IF(TRIM(E10)="","", IF(AND(NOT(ISNUMBER(SEARCH("mosaic",E10))), NOT(ISNUMBER(SEARCH("intensive",E10))), NOT(ISNUMBER(SEARCH("biodiverse",E10))), NOT(OR(ISNUMBER(SEARCH("bioswale",E10)),ISNUMBER(SEARCH("suds",E10)))), COUNTA(E21,E23:E24,E26,E28)>0),"N/A", IF(AND(ISNUMBER(SEARCH("mosaic",E10)),COUNTA(E23:E24,E26,E28)>0),"N/A", IF(AND(ISNUMBER(SEARCH("intensive",E10)),COUNTA(E21,E23:E24,E28)>0),"N/A", IF(AND(ISNUMBER(SEARCH("biodiverse",E10)),COUNTA(E21,E23:E24,E26)>0),"N/A", IF(AND(OR(ISNUMBER(SEARCH("bioswale",E10)),ISNUMBER(SEARCH("suds",E10))),COUNTA(E21,E26,E28)>0),"N/A", IF(COUNTA(E17:E19) +IF(ISNUMBER(SEARCH("mosaic",E10)),COUNTA(E21),0) +IF(ISNUMBER(SEARCH("intensive",E10)),COUNTA(E26),0) +IF(ISNUMBER(SEARCH("biodiverse",E10)),COUNTA(E28),0) +IF(OR(ISNUMBER(SEARCH("bioswale",E10)),ISNUMBER(SEARCH("suds",E10))),COUNTA(E23:E24),0) <>3 +IF(OR(ISNUMBER(SEARCH("mosaic",E10)),ISNUMBER(SEARCH("intensive",E10)),ISNUMBER(SEARCH("biodiverse",E10))),1,0) +IF(OR(ISNUMBER(SEARCH("bioswale",E10)),ISNUMBER(SEARCH("suds",E10))),2,0),"", COUNTIF(E17:E19,"Yes") +COUNTIF(E21,"Yes") +COUNTIF(E26,"Yes") +COUNTIF(E28,"Yes") +COUNTIF(E23:E24,"Yes")))))))) -> 1 | F30: =IF(TRIM(F10)="","", IF(AND(NOT(ISNUMBER(SEARCH("mosaic",F10))), NOT(ISNUMBER(SEARCH("intensive",F10))), NOT(ISNUMBER(SEARCH("biodiverse",F10))), NOT(OR(ISNUMBER(SEARCH("bioswale",F10)),ISNUMBER(SEARCH("suds",F10)))), COUNTA(F21,F23:F24,F26,F28)>0),"N/A", IF(AND(ISNUMBER(SEARCH("mosaic",F10)),COUNTA(F23:F24,F26,F28)>0),"N/A", IF(AND(ISNUMBER(SEARCH("intensive",F10)),COUNTA(F21,F23:F24,F28)>0),"N/A", IF(AND(ISNUMBER(SEARCH("biodiverse",F10)),COUNTA(F21,F23:F24,F26)>0),"N/A", IF(AND(OR(ISNUMBER(SEARCH("bioswale",F10)),ISNUMBER(SEARCH("suds",F10))),COUNTA(F21,F26,F28)>0),"N/A", IF(COUNTA(F17:F19) +IF(ISNUMBER(SEARCH("mosaic",F10)),COUNTA(F21),0) +IF(ISNUMBER(SEARCH("intensive",F10)),COUNTA(F26),0) +IF(ISNUMBER(SEARCH("biodiverse",F10)),COUNTA(F28),0) +IF(OR(ISNUMBER(SEARCH("bioswale",F10)),ISNUMBER(SEARCH("suds",F10))),COUNTA(F23:F24),0) <>3 +IF(OR(ISNUMBER(SEARCH("mosaic",F10)),ISNUMBER(SEARCH("intensive",F10)),ISNUMBER(SEARCH("biodiverse",F10))),1,0) +IF(OR(ISNUMBER(SEARCH("bioswale",F10)),ISNUMBER(SEARCH("suds",F10))),2,0),"", COUNTIF(F17:F19,"Yes") +COUNTIF(F21,"Yes") +COUNTIF(F26,"Yes") +COUNTIF(F28,"Yes") +COUNTIF(F23:F24,"Yes")))))))) | G30: =IF(TRIM(G10)="","", IF(AND(NOT(ISNUMBER(SEARCH("mosaic",G10))), NOT(ISNUMBER(SEARCH("intensive",G10))), NOT(ISNUMBER(SEARCH("biodiverse",G10))), NOT(OR(ISNUMBER(SEARCH("bioswale",G10)),ISNUMBER(SEARCH("suds",G10)))), COUNTA(G21,G23:G24,G26,G28)>0),"N/A", IF(AND(ISNUMBER(SEARCH("mosaic",G10)),COUNTA(G23:G24,G26,G28)>0),"N/A", IF(AND(ISNUMBER(SEARCH("intensive",G10)),COUNTA(G21,G23:G24,G28)>0),"N/A", IF(AND(ISNUMBER(SEARCH("biodiverse",G10)),COUNTA(G21,G23:G24,G26)>0),"N/A", IF(AND(OR(ISNUMBER(SEARCH("bioswale",G10)),ISNUMBER(SEARCH("suds",G10))),COUNTA(G21,G26,G28)>0),"N/A", IF(COUNTA(G17:G19) +IF(ISNUMBER(SEARCH("mosaic",G10)),COUNTA(G21),0) +IF(ISNUMBER(SEARCH("intensive",G10)),COUNTA(G26),0) +IF(ISNUMBER(SEARCH("biodiverse",G10)),COUNTA(G28),0) +IF(OR(ISNUMBER(SEARCH("bioswale",G10)),ISNUMBER(SEARCH("suds",G10))),COUNTA(G23:G24),0) <>3 +IF(OR(ISNUMBER(SEARCH("mosaic",G10)),ISNUMBER(SEARCH("intensive",G10)),ISNUMBER(SEARCH("biodiverse",G10))),1,0) +IF(OR(ISNUMBER(SEARCH("bioswale",G10)),ISNUMBER(SEARCH("suds",G10))),2,0),"", COUNTIF(G17:G19,"Yes") +COUNTIF(G21,"Yes") +COUNTIF(G26,"Yes") +COUNTIF(G28,"Yes") +COUNTIF(G23:G24,"Yes")))))))) | H30: =IF(TRIM(H10)="","", IF(AND(NOT(ISNUMBER(SEARCH("mosaic",H10))), NOT(ISNUMBER(SEARCH("intensive",H10))), NOT(ISNUMBER(SEARCH("biodiverse",H10))), NOT(OR(ISNUMBER(SEARCH("bioswale",H10)),ISNUMBER(SEARCH("suds",H10)))), COUNTA(H21,H23:H24,H26,H28)>0),"N/A", IF(AND(ISNUMBER(SEARCH("mosaic",H10)),COUNTA(H23:H24,H26,H28)>0),"N/A", IF(AND(ISNUMBER(SEARCH("intensive",H10)),COUNTA(H21,H23:H24,H28)>0),"N/A", IF(AND(ISNUMBER(SEARCH("biodiverse",H10)),COUNTA(H21,H23:H24,H26)>0),"N/A", IF(AND(OR(ISNUMBER(SEARCH("bioswale",H10)),ISNUMBER(SEARCH("suds",H10))),COUNTA(H21,H26,H28)>0),"N/A", IF(COUNTA(H17:H19) +IF(ISNUMBER(SEARCH("mosaic",H10)),COUNTA(H21),0) +IF(ISNUMBER(SEARCH("intensive",H10)),COUNTA(H26),0) +IF(ISNUMBER(SEARCH("biodiverse",H10)),COUNTA(H28),0) +IF(OR(ISNUMBER(SEARCH("bioswale",H10)),ISNUMBER(SEARCH("suds",H10))),COUNTA(H23:H24),0) <>3 +IF(OR(ISNUMBER(SEARCH("mosaic",H10)),ISNUMBER(SEARCH("intensive",H10)),ISNUMBER(SEARCH("biodiverse",H10))),1,0) +IF(OR(ISNUMBER(SEARCH("bioswale",H10)),ISNUMBER(SEARCH("suds",H10))),2,0),"", COUNTIF(H17:H19,"Yes") +COUNTIF(H21,"Yes") +COUNTIF(H26,"Yes") +COUNTIF(H28,"Yes") +COUNTIF(H23:H24,"Yes")))))))) | I30: =IF(TRIM(I10)="","", IF(AND(NOT(ISNUMBER(SEARCH("mosaic",I10))), NOT(ISNUMBER(SEARCH("intensive",I10))), NOT(ISNUMBER(SEARCH("biodiverse",I10))), NOT(OR(ISNUMBER(SEARCH("bioswale",I10)),ISNUMBER(SEARCH("suds",I10)))), COUNTA(I21,I23:I24,I26,I28)>0),"N/A", IF(AND(ISNUMBER(SEARCH("mosaic",I10)),COUNTA(I23:I24,I26,I28)>0),"N/A", IF(AND(ISNUMBER(SEARCH("intensive",I10)),COUNTA(I21,I23:I24,I28)>0),"N/A", IF(AND(ISNUMBER(SEARCH("biodiverse",I10)),COUNTA(I21,I23:I24,I26)>0),"N/A", IF(AND(OR(ISNUMBER(SEARCH("bioswale",I10)),ISNUMBER(SEARCH("suds",I10))),COUNTA(I21,I26,I28)>0),"N/A", IF(COUNTA(I17:I19) +IF(ISNUMBER(SEARCH("mosaic",I10)),COUNTA(I21),0) +IF(ISNUMBER(SEARCH("intensive",I10)),COUNTA(I26),0) +IF(ISNUMBER(SEARCH("biodiverse",I10)),COUNTA(I28),0) +IF(OR(ISNUMBER(SEARCH("bioswale",I10)),ISNUMBER(SEARCH("suds",I10))),COUNTA(I23:I24),0) <>3 +IF(OR(ISNUMBER(SEARCH("mosaic",I10)),ISNUMBER(SEARCH("intensive",I10)),ISNUMBER(SEARCH("biodiverse",I10))),1,0) +IF(OR(ISNUMBER(SEARCH("bioswale",I10)),ISNUMBER(SEARCH("suds",I10))),2,0),"", COUNTIF(I17:I19,"Yes") +COUNTIF(I21,"Yes") +COUNTIF(I26,"Yes") +COUNTIF(I28,"Yes") +COUNTIF(I23:I24,"Yes")))))))) | J30: =IF(TRIM(J10)="","", IF(AND(NOT(ISNUMBER(SEARCH("mosaic",J10))), NOT(ISNUMBER(SEARCH("intensive",J10))), NOT(ISNUMBER(SEARCH("biodiverse",J10))), NOT(OR(ISNUMBER(SEARCH("bioswale",J10)),ISNUMBER(SEARCH("suds",J10)))), COUNTA(J21,J23:J24,J26,J28)>0),"N/A", IF(AND(ISNUMBER(SEARCH("mosaic",J10)),COUNTA(J23:J24,J26,J28)>0),"N/A", IF(AND(ISNUMBER(SEARCH("intensive",J10)),COUNTA(J21,J23:J24,J28)>0),"N/A", IF(AND(ISNUMBER(SEARCH("biodiverse",J10)),COUNTA(J21,J23:J24,J26)>0),"N/A", IF(AND(OR(ISNUMBER(SEARCH("bioswale",J10)),ISNUMBER(SEARCH("suds",J10))),COUNTA(J21,J26,J28)>0),"N/A", IF(COUNTA(J17:J19) +IF(ISNUMBER(SEARCH("mosaic",J10)),COUNTA(J21),0) +IF(ISNUMBER(SEARCH("intensive",J10)),COUNTA(J26),0) +IF(ISNUMBER(SEARCH("biodiverse",J10)),COUNTA(J28),0) +IF(OR(ISNUMBER(SEARCH("bioswale",J10)),ISNUMBER(SEARCH("suds",J10))),COUNTA(J23:J24),0) <>3 +IF(OR(ISNUMBER(SEARCH("mosaic",J10)),ISNUMBER(SEARCH("intensive",J10)),ISNUMBER(SEARCH("biodiverse",J10))),1,0) +IF(OR(ISNUMBER(SEARCH("bioswale",J10)),ISNUMBER(SEARCH("suds",J10))),2,0),"", COUNTIF(J17:J19,"Yes") +COUNTIF(J21,"Yes") +COUNTIF(J26,"Yes") +COUNTIF(J28,"Yes") +COUNTIF(J23:J24,"Yes")))))))) | K30: =IF(TRIM(K10)="","", IF(AND(NOT(ISNUMBER(SEARCH("mosaic",K10))), NOT(ISNUMBER(SEARCH("intensive",K10))), NOT(ISNUMBER(SEARCH("biodiverse",K10))), NOT(OR(ISNUMBER(SEARCH("bioswale",K10)),ISNUMBER(SEARCH("suds",K10)))), COUNTA(K21,K23:K24,K26,K28)>0),"N/A", IF(AND(ISNUMBER(SEARCH("mosaic",K10)),COUNTA(K23:K24,K26,K28)>0),"N/A", IF(AND(ISNUMBER(SEARCH("intensive",K10)),COUNTA(K21,K23:K24,K28)>0),"N/A", IF(AND(ISNUMBER(SEARCH("biodiverse",K10)),COUNTA(K21,K23:K24,K26)>0),"N/A", IF(AND(OR(ISNUMBER(SEARCH("bioswale",K10)),ISNUMBER(SEARCH("suds",K10))),COUNTA(K21,K26,K28)>0),"N/A", IF(COUNTA(K17:K19) +IF(ISNUMBER(SEARCH("mosaic",K10)),COUNTA(K21),0) +IF(ISNUMBER(SEARCH("intensive",K10)),COUNTA(K26),0) +IF(ISNUMBER(SEARCH("biodiverse",K10)),COUNTA(K28),0) +IF(OR(ISNUMBER(SEARCH("bioswale",K10)),ISNUMBER(SEARCH("suds",K10))),COUNTA(K23:K24),0) <>3 +IF(OR(ISNUMBER(SEARCH("mosaic",K10)),ISNUMBER(SEARCH("intensive",K10)),ISNUMBER(SEARCH("biodiverse",K10))),1,0) +IF(OR(ISNUMBER(SEARCH("bioswale",K10)),ISNUMBER(SEARCH("suds",K10))),2,0),"", COUNTIF(K17:K19,"Yes") +COUNTIF(K21,"Yes") +COUNTIF(K26,"Yes") +COUNTIF(K28,"Yes") +COUNTIF(K23:K24,"Yes")))))))) | ... N30: =IF(TRIM(N10)="","", IF(AND(NOT(ISNUMBER(SEARCH("mosaic",N10))), NOT(ISNUMBER(SEARCH("intensive",N10))), NOT(ISNUMBER(SEARCH("biodiverse",N10))), NOT(OR(ISNUMBER(SEARCH("bioswale",N10)),ISNUMBER(SEARCH("suds",N10)))), COUNTA(N21,N23:N24,N26,N28)>0),"N/A", IF(AND(ISNUMBER(SEARCH("mosaic",N10)),COUNTA(N23:N24,N26,N28)>0),"N/A", IF(AND(ISNUMBER(SEARCH("intensive",N10)),COUNTA(N21,N23:N24,N28)>0),"N/A", IF(AND(ISNUMBER(SEARCH("biodiverse",N10)),COUNTA(N21,N23:N24,N26)>0),"N/A", IF(AND(OR(ISNUMBER(SEARCH("bioswale",N10)),ISNUMBER(SEARCH("suds",N10))),COUNTA(N21,N26,N28)>0),"N/A", IF(COUNTA(N17:N19) +IF(ISNUMBER(SEARCH("mosaic",N10)),COUNTA(N21),0) +IF(ISNUMBER(SEARCH("intensive",N10)),COUNTA(N26),0) +IF(ISNUMBER(SEARCH("biodiverse",N10)),COUNTA(N28),0) +IF(OR(ISNUMBER(SEARCH("bioswale",N10)),ISNUMBER(SEARCH("suds",N10))),COUNTA(N23:N24),0) <>3 +IF(OR(ISNUMBER(SEARCH("mosaic",N10)),ISNUMBER(SEARCH("intensive",N10)),ISNUMBER(SEARCH("biodiverse",N10))),1,0) +IF(OR(ISNUMBER(SEARCH("bioswale",N10)),ISNUMBER(SEARCH("suds",N10))),2,0),"", COUNTIF(N17:N19,"Yes") +COUNTIF(N21,"Yes") +COUNTIF(N26,"Yes") +COUNTIF(N28,"Yes") +COUNTIF(N23:N24,"Yes")))))))) | R30: =IF(TRIM(R10)="","", IF(AND(NOT(ISNUMBER(SEARCH("mosaic",R10))), NOT(ISNUMBER(SEARCH("intensive",R10))), NOT(ISNUMBER(SEARCH("biodiverse",R10))), NOT(OR(ISNUMBER(SEARCH("bioswale",R10)),ISNUMBER(SEARCH("suds",R10)))), COUNTA(R21,R23:R24,R26,R28)>0),"N/A", IF(AND(ISNUMBER(SEARCH("mosaic",R10)),COUNTA(R23:R24,R26,R28)>0),"N/A", IF(AND(ISNUMBER(SEARCH("intensive",R10)),COUNTA(R21,R23:R24,R28)>0),"N/A", IF(AND(ISNUMBER(SEARCH("biodiverse",R10)),COUNTA(R21,R23:R24,R26)>0),"N/A", IF(AND(OR(ISNUMBER(SEARCH("bioswale",R10)),ISNUMBER(SEARCH("suds",R10))),COUNTA(R21,R26,R28)>0),"N/A", IF(COUNTA(R17:R19) +IF(ISNUMBER(SEARCH("mosaic",R10)),COUNTA(R21),0) +IF(ISNUMBER(SEARCH("intensive",R10)),COUNTA(R26),0) +IF(ISNUMBER(SEARCH("biodiverse",R10)),COUNTA(R28),0) +IF(OR(ISNUMBER(SEARCH("bioswale",R10)),ISNUMBER(SEARCH("suds",R10))),COUNTA(R23:R24),0) <>3 +IF(OR(ISNUMBER(SEARCH("mosaic",R10)),ISNUMBER(SEARCH("intensive",R10)),ISNUMBER(SEARCH("biodiverse",R10))),1,0) +IF(OR(ISNUMBER(SEARCH("bioswale",R10)),ISNUMBER(SEARCH("suds",R10))),2,0),"", COUNTIF(R17:R19,"Yes") +COUNTIF(R21,"Yes") +COUNTIF(R26,"Yes") +COUNTIF(R28,"Yes") +COUNTIF(R23:R24,"Yes")))))))) | S30: =IF(TRIM(S10)="","", IF(AND(NOT(ISNUMBER(SEARCH("mosaic",S10))), NOT(ISNUMBER(SEARCH("intensive",S10))), NOT(ISNUMBER(SEARCH("biodiverse",S10))), NOT(OR(ISNUMBER(SEARCH("bioswale",S10)),ISNUMBER(SEARCH("suds",S10)))), COUNTA(S21,S23:S24,S26,S28)>0),"N/A", IF(AND(ISNUMBER(SEARCH("mosaic",S10)),COUNTA(S23:S24,S26,S28)>0),"N/A", IF(AND(ISNUMBER(SEARCH("intensive",S10)),COUNTA(S21,S23:S24,S28)>0),"N/A", IF(AND(ISNUMBER(SEARCH("biodiverse",S10)),COUNTA(S21,S23:S24,S26)>0),"N/A", IF(AND(OR(ISNUMBER(SEARCH("bioswale",S10)),ISNUMBER(SEARCH("suds",S10))),COUNTA(S21,S26,S28)>0),"N/A", IF(COUNTA(S17:S19) +IF(ISNUMBER(SEARCH("mosaic",S10)),COUNTA(S21),0) +IF(ISNUMBER(SEARCH("intensive",S10)),COUNTA(S26),0) +IF(ISNUMBER(SEARCH("biodiverse",S10)),COUNTA(S28),0) +IF(OR(ISNUMBER(SEARCH("bioswale",S10)),ISNUMBER(SEARCH("suds",S10))),COUNTA(S23:S24),0) <>3 +IF(OR(ISNUMBER(SEARCH("mosaic",S10)),ISNUMBER(SEARCH("intensive",S10)),ISNUMBER(SEARCH("biodiverse",S10))),1,0) +IF(OR(ISNUMBER(SEARCH("bioswale",S10)),ISNUMBER(SEARCH("suds",S10))),2,0),"", COUNTIF(S17:S19,"Yes") +COUNTIF(S21,"Yes") +COUNTIF(S26,"Yes") +COUNTIF(S28,"Yes") +COUNTIF(S23:S24,"Yes")))))))) | U30: =IF(TRIM(U10)="","", IF(AND(NOT(ISNUMBER(SEARCH("mosaic",U10))), NOT(ISNUMBER(SEARCH("intensive",U10))), NOT(ISNUMBER(SEARCH("biodiverse",U10))), NOT(OR(ISNUMBER(SEARCH("bioswale",U10)),ISNUMBER(SEARCH("suds",U10)))), COUNTA(U21,U23:U24,U26,U28)>0),"N/A", IF(AND(ISNUMBER(SEARCH("mosaic",U10)),COUNTA(U23:U24,U26,U28)>0),"N/A", IF(AND(ISNUMBER(SEARCH("intensive",U10)),COUNTA(U21,U23:U24,U28)>0),"N/A", IF(AND(ISNUMBER(SEARCH("biodiverse",U10)),COUNTA(U21,U23:U24,U26)>0),"N/A", IF(AND(OR(ISNUMBER(SEARCH("bioswale",U10)),ISNUMBER(SEARCH("suds",U10))),COUNTA(U21,U26,U28)>0),"N/A", IF(COUNTA(U17:U19) +IF(ISNUMBER(SEARCH("mosaic",U10)),COUNTA(U21),0) +IF(ISNUMBER(SEARCH("intensive",U10)),COUNTA(U26),0) +IF(ISNUMBER(SEARCH("biodiverse",U10)),COUNTA(U28),0) +IF(OR(ISNUMBER(SEARCH("bioswale",U10)),ISNUMBER(SEARCH("suds",U10))),COUNTA(U23:U24),0) <>3 +IF(OR(ISNUMBER(SEARCH("mosaic",U10)),ISNUMBER(SEARCH("intensive",U10)),ISNUMBER(SEARCH("biodiverse",U10))),1,0) +IF(OR(ISNUMBER(SEARCH("bioswale",U10)),ISNUMBER(SEARCH("suds",U10))),2,0),"", COUNTIF(U17:U19,"Yes") +COUNTIF(U21,"Yes") +COUNTIF(U26,"Yes") +COUNTIF(U28,"Yes") +COUNTIF(U23:U24,"Yes")))))))) | V30: =IF(TRIM(V10)="","", IF(AND(NOT(ISNUMBER(SEARCH("mosaic",V10))), NOT(ISNUMBER(SEARCH("intensive",V10))), NOT(ISNUMBER(SEARCH("biodiverse",V10))), NOT(OR(ISNUMBER(SEARCH("bioswale",V10)),ISNUMBER(SEARCH("suds",V10)))), COUNTA(V21,V23:V24,V26,V28)>0),"N/A", IF(AND(ISNUMBER(SEARCH("mosaic",V10)),COUNTA(V23:V24,V26,V28)>0),"N/A", IF(AND(ISNUMBER(SEARCH("intensive",V10)),COUNTA(V21,V23:V24,V28)>0),"N/A", IF(AND(ISNUMBER(SEARCH("biodiverse",V10)),COUNTA(V21,V23:V24,V26)>0),"N/A", IF(AND(OR(ISNUMBER(SEARCH("bioswale",V10)),ISNUMBER(SEARCH("suds",V10))),COUNTA(V21,V26,V28)>0),"N/A", IF(COUNTA(V17:V19) +IF(ISNUMBER(SEARCH("mosaic",V10)),COUNTA(V21),0) +IF(ISNUMBER(SEARCH("intensive",V10)),COUNTA(V26),0) +IF(ISNUMBER(SEARCH("biodiverse",V10)),COUNTA(V28),0) +IF(OR(ISNUMBER(SEARCH("bioswale",V10)),ISNUMBER(SEARCH("suds",V10))),COUNTA(V23:V24),0) <>3 +IF(OR(ISNUMBER(SEARCH("mosaic",V10)),ISNUMBER(SEARCH("intensive",V10)),ISNUMBER(SEARCH("biodiverse",V10))),1,0) +IF(OR(ISNUMBER(SEARCH("bioswale",V10)),ISNUMBER(SEARCH("suds",V10))),2,0),"", COUNTIF(V17:V19,"Yes") +COUNTIF(V21,"Yes") +COUNTIF(V26,"Yes") +COUNTIF(V28,"Yes") +COUNTIF(V23:V24,"Yes")))))))) | W30: =IF(TRIM(W10)="","", IF(AND(NOT(ISNUMBER(SEARCH("mosaic",W10))), NOT(ISNUMBER(SEARCH("intensive",W10))), NOT(ISNUMBER(SEARCH("biodiverse",W10))), NOT(OR(ISNUMBER(SEARCH("bioswale",W10)),ISNUMBER(SEARCH("suds",W10)))), COUNTA(W21,W23:W24,W26,W28)>0),"N/A", IF(AND(ISNUMBER(SEARCH("mosaic",W10)),COUNTA(W23:W24,W26,W28)>0),"N/A", IF(AND(ISNUMBER(SEARCH("intensive",W10)),COUNTA(W21,W23:W24,W28)>0),"N/A", IF(AND(ISNUMBER(SEARCH("biodiverse",W10)),COUNTA(W21,W23:W24,W26)>0),"N/A", IF(AND(OR(ISNUMBER(SEARCH("bioswale",W10)),ISNUMBER(SEARCH("suds",W10))),COUNTA(W21,W26,W28)>0),"N/A", IF(COUNTA(W17:W19) +IF(ISNUMBER(SEARCH("mosaic",W10)),COUNTA(W21),0) +IF(ISNUMBER(SEARCH("intensive",W10)),COUNTA(W26),0) +IF(ISNUMBER(SEARCH("biodiverse",W10)),COUNTA(W28),0) +IF(OR(ISNUMBER(SEARCH("bioswale",W10)),ISNUMBER(SEARCH("suds",W10))),COUNTA(W23:W24),0) <>3 +IF(OR(ISNUMBER(SEARCH("mosaic",W10)),ISNUMBER(SEARCH("intensive",W10)),ISNUMBER(SEARCH("biodiverse",W10))),1,0) +IF(OR(ISNUMBER(SEARCH("bioswale",W10)),ISNUMBER(SEARCH("suds",W10))),2,0),"", COUNTIF(W17:W19,"Yes") +COUNTIF(W21,"Yes") +COUNTIF(W26,"Yes") +COUNTIF(W28,"Yes") +COUNTIF(W23:W24,"Yes"))))))))
A31: Condition Assessment Result | C31: Condition Assessment Score | D31: Score Achieved ×/✓
A32: Results for habitats requiring assessment of 3 core criteria only (all listed urban habitats except Open mosaic habitat on previously developed land, Bioswale, SuDS and Green roofs):
A33: • Passes all 3 core criteria; AND • Meets the requirements for Good condition within criterion C. | C33: Good (3) | D33: =IF(TRIM(D10)="","", IF(OR( ISNUMBER(SEARCH("mosaic",D10)), ISNUMBER(SEARCH("intensive",D10)), ISNUMBER(SEARCH("biodiverse",D10)), ISNUMBER(SEARCH("bioswale",D10)), ISNUMBER(SEARCH("suds",D10)) ),"N/A", IF(AND(D30>=3,D29="Yes"),"✓",""))) | E33: =IF(TRIM(E10)="","", IF(OR( ISNUMBER(SEARCH("mosaic",E10)), ISNUMBER(SEARCH("intensive",E10)), ISNUMBER(SEARCH("biodiverse",E10)), ISNUMBER(SEARCH("bioswale",E10)), ISNUMBER(SEARCH("suds",E10)) ),"N/A", IF(AND(E30>=3,E29="Yes"),"✓",""))) | F33: =IF(TRIM(F10)="","", IF(OR( ISNUMBER(SEARCH("mosaic",F10)), ISNUMBER(SEARCH("intensive",F10)), ISNUMBER(SEARCH("biodiverse",F10)), ISNUMBER(SEARCH("bioswale",F10)), ISNUMBER(SEARCH("suds",F10)) ),"N/A", IF(AND(F30>=3,F29="Yes"),"✓",""))) | G33: =IF(TRIM(G10)="","", IF(OR( ISNUMBER(SEARCH("mosaic",G10)), ISNUMBER(SEARCH("intensive",G10)), ISNUMBER(SEARCH("biodiverse",G10)), ISNUMBER(SEARCH("bioswale",G10)), ISNUMBER(SEARCH("suds",G10)) ),"N/A", IF(AND(G30>=3,G29="Yes"),"✓",""))) | H33: =IF(TRIM(H10)="","", IF(OR( ISNUMBER(SEARCH("mosaic",H10)), ISNUMBER(SEARCH("intensive",H10)), ISNUMBER(SEARCH("biodiverse",H10)), ISNUMBER(SEARCH("bioswale",H10)), ISNUMBER(SEARCH("suds",H10)) ),"N/A", IF(AND(H30>=3,H29="Yes"),"✓",""))) | I33: =IF(TRIM(I10)="","", IF(OR( ISNUMBER(SEARCH("mosaic",I10)), ISNUMBER(SEARCH("intensive",I10)), ISNUMBER(SEARCH("biodiverse",I10)), ISNUMBER(SEARCH("bioswale",I10)), ISNUMBER(SEARCH("suds",I10)) ),"N/A", IF(AND(I30>=3,I29="Yes"),"✓",""))) | J33: =IF(TRIM(J10)="","", IF(OR( ISNUMBER(SEARCH("mosaic",J10)), ISNUMBER(SEARCH("intensive",J10)), ISNUMBER(SEARCH("biodiverse",J10)), ISNUMBER(SEARCH("bioswale",J10)), ISNUMBER(SEARCH("suds",J10)) ),"N/A", IF(AND(J30>=3,J29="Yes"),"✓",""))) | K33: =IF(TRIM(K10)="","", IF(OR( ISNUMBER(SEARCH("mosaic",K10)), ISNUMBER(SEARCH("intensive",K10)), ISNUMBER(SEARCH("biodiverse",K10)), ISNUMBER(SEARCH("bioswale",K10)), ISNUMBER(SEARCH("suds",K10)) ),"N/A", IF(AND(K30>=3,K29="Yes"),"✓",""))) | ... W33: =IF(TRIM(W10)="","", IF(OR( ISNUMBER(SEARCH("mosaic",W10)), ISNUMBER(SEARCH("intensive",W10)), ISNUMBER(SEARCH("biodiverse",W10)), ISNUMBER(SEARCH("bioswale",W10)), ISNUMBER(SEARCH("suds",W10)) ),"N/A", IF(AND(W30>=3,W29="Yes"),"✓","")))
A34: • Passes 2 of 3 core criteria; OR • Passes 3 of 3 core criteria but does not meet the requirements for Good condition within criterion C. | C34: Moderate (2) | D34: =IF(TRIM(D10)="","", IF(OR( ISNUMBER(SEARCH("mosaic",D10)), ISNUMBER(SEARCH("intensive",D10)), ISNUMBER(SEARCH("biodiverse",D10)), ISNUMBER(SEARCH("bioswale",D10)), ISNUMBER(SEARCH("suds",D10)) ),"N/A", IF(OR(D30=2, AND(D30=3,D29="No")),"✓",""))) | E34: =IF(TRIM(E10)="","", IF(OR( ISNUMBER(SEARCH("mosaic",E10)), ISNUMBER(SEARCH("intensive",E10)), ISNUMBER(SEARCH("biodiverse",E10)), ISNUMBER(SEARCH("bioswale",E10)), ISNUMBER(SEARCH("suds",E10)) ),"N/A", IF(OR(E30=2, AND(E30=3,E29="No")),"✓",""))) | F34: =IF(TRIM(F10)="","", IF(OR( ISNUMBER(SEARCH("mosaic",F10)), ISNUMBER(SEARCH("intensive",F10)), ISNUMBER(SEARCH("biodiverse",F10)), ISNUMBER(SEARCH("bioswale",F10)), ISNUMBER(SEARCH("suds",F10)) ),"N/A", IF(OR(F30=2, AND(F30=3,F29="No")),"✓",""))) | G34: =IF(TRIM(G10)="","", IF(OR( ISNUMBER(SEARCH("mosaic",G10)), ISNUMBER(SEARCH("intensive",G10)), ISNUMBER(SEARCH("biodiverse",G10)), ISNUMBER(SEARCH("bioswale",G10)), ISNUMBER(SEARCH("suds",G10)) ),"N/A", IF(OR(G30=2, AND(G30=3,G29="No")),"✓",""))) | H34: =IF(TRIM(H10)="","", IF(OR( ISNUMBER(SEARCH("mosaic",H10)), ISNUMBER(SEARCH("intensive",H10)), ISNUMBER(SEARCH("biodiverse",H10)), ISNUMBER(SEARCH("bioswale",H10)), ISNUMBER(SEARCH("suds",H10)) ),"N/A", IF(OR(H30=2, AND(H30=3,H29="No")),"✓",""))) | I34: =IF(TRIM(I10)="","", IF(OR( ISNUMBER(SEARCH("mosaic",I10)), ISNUMBER(SEARCH("intensive",I10)), ISNUMBER(SEARCH("biodiverse",I10)), ISNUMBER(SEARCH("bioswale",I10)), ISNUMBER(SEARCH("suds",I10)) ),"N/A", IF(OR(I30=2, AND(I30=3,I29="No")),"✓",""))) | J34: =IF(TRIM(J10)="","", IF(OR( ISNUMBER(SEARCH("mosaic",J10)), ISNUMBER(SEARCH("intensive",J10)), ISNUMBER(SEARCH("biodiverse",J10)), ISNUMBER(SEARCH("bioswale",J10)), ISNUMBER(SEARCH("suds",J10)) ),"N/A", IF(OR(J30=2, AND(J30=3,J29="No")),"✓",""))) | K34: =IF(TRIM(K10)="","", IF(OR( ISNUMBER(SEARCH("mosaic",K10)), ISNUMBER(SEARCH("intensive",K10)), ISNUMBER(SEARCH("biodiverse",K10)), ISNUMBER(SEARCH("bioswale",K10)), ISNUMBER(SEARCH("suds",K10)) ),"N/A", IF(OR(K30=2, AND(K30=3,K29="No")),"✓",""))) | ... W34: =IF(TRIM(W10)="","", IF(OR( ISNUMBER(SEARCH("mosaic",W10)), ISNUMBER(SEARCH("intensive",W10)), ISNUMBER(SEARCH("biodiverse",W10)), ISNUMBER(SEARCH("bioswale",W10)), ISNUMBER(SEARCH("suds",W10)) ),"N/A", IF(OR(W30=2, AND(W30=3,W29="No")),"✓","")))
A35: • Passes 0 or 1 of 3 core criteria. | C35: Poor (1) | D35: =IF(TRIM(D10)="","", IF(OR( ISNUMBER(SEARCH("mosaic",D10)), ISNUMBER(SEARCH("intensive",D10)), ISNUMBER(SEARCH("biodiverse",D10)), ISNUMBER(SEARCH("bioswale",D10)), ISNUMBER(SEARCH("suds",D10)) ),"N/A", IF(AND(D30<=1),"✓",""))) -> ✓ | E35: =IF(TRIM(E10)="","", IF(OR( ISNUMBER(SEARCH("mosaic",E10)), ISNUMBER(SEARCH("intensive",E10)), ISNUMBER(SEARCH("biodiverse",E10)), ISNUMBER(SEARCH("bioswale",E10)), ISNUMBER(SEARCH("suds",E10)) ),"N/A", IF(AND(E30<=1),"✓",""))) -> ✓ | F35: =IF(TRIM(F10)="","", IF(OR( ISNUMBER(SEARCH("mosaic",F10)), ISNUMBER(SEARCH("intensive",F10)), ISNUMBER(SEARCH("biodiverse",F10)), ISNUMBER(SEARCH("bioswale",F10)), ISNUMBER(SEARCH("suds",F10)) ),"N/A", IF(AND(F30<=1),"✓",""))) | G35: =IF(TRIM(G10)="","", IF(OR( ISNUMBER(SEARCH("mosaic",G10)), ISNUMBER(SEARCH("intensive",G10)), ISNUMBER(SEARCH("biodiverse",G10)), ISNUMBER(SEARCH("bioswale",G10)), ISNUMBER(SEARCH("suds",G10)) ),"N/A", IF(AND(G30<=1),"✓",""))) | H35: =IF(TRIM(H10)="","", IF(OR( ISNUMBER(SEARCH("mosaic",H10)), ISNUMBER(SEARCH("intensive",H10)), ISNUMBER(SEARCH("biodiverse",H10)), ISNUMBER(SEARCH("bioswale",H10)), ISNUMBER(SEARCH("suds",H10)) ),"N/A", IF(AND(H30<=1),"✓",""))) | I35: =IF(TRIM(I10)="","", IF(OR( ISNUMBER(SEARCH("mosaic",I10)), ISNUMBER(SEARCH("intensive",I10)), ISNUMBER(SEARCH("biodiverse",I10)), ISNUMBER(SEARCH("bioswale",I10)), ISNUMBER(SEARCH("suds",I10)) ),"N/A", IF(AND(I30<=1),"✓",""))) | J35: =IF(TRIM(J10)="","", IF(OR( ISNUMBER(SEARCH("mosaic",J10)), ISNUMBER(SEARCH("intensive",J10)), ISNUMBER(SEARCH("biodiverse",J10)), ISNUMBER(SEARCH("bioswale",J10)), ISNUMBER(SEARCH("suds",J10)) ),"N/A", IF(AND(J30<=1),"✓",""))) | K35: =IF(TRIM(K10)="","", IF(OR( ISNUMBER(SEARCH("mosaic",K10)), ISNUMBER(SEARCH("intensive",K10)), ISNUMBER(SEARCH("biodiverse",K10)), ISNUMBER(SEARCH("bioswale",K10)), ISNUMBER(SEARCH("suds",K10)) ),"N/A", IF(AND(K30<=1),"✓",""))) | ... W35: =IF(TRIM(W10)="","", IF(OR( ISNUMBER(SEARCH("mosaic",W10)), ISNUMBER(SEARCH("intensive",W10)), ISNUMBER(SEARCH("biodiverse",W10)), ISNUMBER(SEARCH("bioswale",W10)), ISNUMBER(SEARCH("suds",W10)) ),"N/A", IF(AND(W30<=1),"✓","")))
A36: Results for Green roofs and Open mosaic habitat on previously developed land (requiring assessment of 4 criteria only - core criteria plus additional criterion specified for habitat type):
A37: • Passes all 3 core criteria; AND • Meets the requirements for Good condition within criterion C; AND • Passes additional criterion relevant to specific habitat type (D, F or G). | C37: Good (3) | D37: =IF(TRIM(D10)="","", IF(OR( AND(ISNUMBER(SEARCH("mosaic",D10)),COUNTA(D26,D28)>0), AND(ISNUMBER(SEARCH("intensive",D10)),COUNTA(D21,D28)>0), AND(ISNUMBER(SEARCH("biodiverse",D10)),COUNTA(D21,D26)>0), AND(NOT(OR( ISNUMBER(SEARCH("mosaic",D10)), ISNUMBER(SEARCH("intensive",D10)), ISNUMBER(SEARCH("biodiverse",D10)))), COUNTA(D21,D26,D28)=0)), "N/A", IF(AND(D29="Yes",D30=4),"✓",""))) -> N/A | E37: =IF(TRIM(E10)="","", IF(OR( AND(ISNUMBER(SEARCH("mosaic",E10)),COUNTA(E26,E28)>0), AND(ISNUMBER(SEARCH("intensive",E10)),COUNTA(E21,E28)>0), AND(ISNUMBER(SEARCH("biodiverse",E10)),COUNTA(E21,E26)>0), AND(NOT(OR( ISNUMBER(SEARCH("mosaic",E10)), ISNUMBER(SEARCH("intensive",E10)), ISNUMBER(SEARCH("biodiverse",E10)))), COUNTA(E21,E26,E28)=0)), "N/A", IF(AND(E29="Yes",E30=4),"✓",""))) -> N/A | F37: =IF(TRIM(F10)="","", IF(OR( AND(ISNUMBER(SEARCH("mosaic",F10)),COUNTA(F26,F28)>0), AND(ISNUMBER(SEARCH("intensive",F10)),COUNTA(F21,F28)>0), AND(ISNUMBER(SEARCH("biodiverse",F10)),COUNTA(F21,F26)>0), AND(NOT(OR( ISNUMBER(SEARCH("mosaic",F10)), ISNUMBER(SEARCH("intensive",F10)), ISNUMBER(SEARCH("biodiverse",F10)))), COUNTA(F21,F26,F28)=0)), "N/A", IF(AND(F29="Yes",F30=4),"✓",""))) | G37: =IF(TRIM(G10)="","", IF(OR( AND(ISNUMBER(SEARCH("mosaic",G10)),COUNTA(G26,G28)>0), AND(ISNUMBER(SEARCH("intensive",G10)),COUNTA(G21,G28)>0), AND(ISNUMBER(SEARCH("biodiverse",G10)),COUNTA(G21,G26)>0), AND(NOT(OR( ISNUMBER(SEARCH("mosaic",G10)), ISNUMBER(SEARCH("intensive",G10)), ISNUMBER(SEARCH("biodiverse",G10)))), COUNTA(G21,G26,G28)=0)), "N/A", IF(AND(G29="Yes",G30=4),"✓",""))) | H37: =IF(TRIM(H10)="","", IF(OR( AND(ISNUMBER(SEARCH("mosaic",H10)),COUNTA(H26,H28)>0), AND(ISNUMBER(SEARCH("intensive",H10)),COUNTA(H21,H28)>0), AND(ISNUMBER(SEARCH("biodiverse",H10)),COUNTA(H21,H26)>0), AND(NOT(OR( ISNUMBER(SEARCH("mosaic",H10)), ISNUMBER(SEARCH("intensive",H10)), ISNUMBER(SEARCH("biodiverse",H10)))), COUNTA(H21,H26,H28)=0)), "N/A", IF(AND(H29="Yes",H30=4),"✓",""))) | I37: =IF(TRIM(I10)="","", IF(OR( AND(ISNUMBER(SEARCH("mosaic",I10)),COUNTA(I26,I28)>0), AND(ISNUMBER(SEARCH("intensive",I10)),COUNTA(I21,I28)>0), AND(ISNUMBER(SEARCH("biodiverse",I10)),COUNTA(I21,I26)>0), AND(NOT(OR( ISNUMBER(SEARCH("mosaic",I10)), ISNUMBER(SEARCH("intensive",I10)), ISNUMBER(SEARCH("biodiverse",I10)))), COUNTA(I21,I26,I28)=0)), "N/A", IF(AND(I29="Yes",I30=4),"✓",""))) | J37: =IF(TRIM(J10)="","", IF(OR( AND(ISNUMBER(SEARCH("mosaic",J10)),COUNTA(J26,J28)>0), AND(ISNUMBER(SEARCH("intensive",J10)),COUNTA(J21,J28)>0), AND(ISNUMBER(SEARCH("biodiverse",J10)),COUNTA(J21,J26)>0), AND(NOT(OR( ISNUMBER(SEARCH("mosaic",J10)), ISNUMBER(SEARCH("intensive",J10)), ISNUMBER(SEARCH("biodiverse",J10)))), COUNTA(J21,J26,J28)=0)), "N/A", IF(AND(J29="Yes",J30=4),"✓",""))) | K37: =IF(TRIM(K10)="","", IF(OR( AND(ISNUMBER(SEARCH("mosaic",K10)),COUNTA(K26,K28)>0), AND(ISNUMBER(SEARCH("intensive",K10)),COUNTA(K21,K28)>0), AND(ISNUMBER(SEARCH("biodiverse",K10)),COUNTA(K21,K26)>0), AND(NOT(OR( ISNUMBER(SEARCH("mosaic",K10)), ISNUMBER(SEARCH("intensive",K10)), ISNUMBER(SEARCH("biodiverse",K10)))), COUNTA(K21,K26,K28)=0)), "N/A", IF(AND(K29="Yes",K30=4),"✓",""))) | ... W37: =IF(TRIM(W10)="","", IF(OR( AND(ISNUMBER(SEARCH("mosaic",W10)),COUNTA(W26,W28)>0), AND(ISNUMBER(SEARCH("intensive",W10)),COUNTA(W21,W28)>0), AND(ISNUMBER(SEARCH("biodiverse",W10)),COUNTA(W21,W26)>0), AND(NOT(OR( ISNUMBER(SEARCH("mosaic",W10)), ISNUMBER(SEARCH("intensive",W10)), ISNUMBER(SEARCH("biodiverse",W10)))), COUNTA(W21,W26,W28)=0)), "N/A", IF(AND(W29="Yes",W30=4),"✓","")))
A38: • Passes 2 or 3 of 4 criteria; OR • Passes 4 of 4 criteria but does not meet the requirements for Good condition within criterion C. | C38: Moderate (2) | D38: =IF(TRIM(D10)="","", IF(OR( AND(ISNUMBER(SEARCH("mosaic",D10)),COUNTA(D26,D28)>0), AND(ISNUMBER(SEARCH("intensive",D10)),COUNTA(D21,D28)>0), AND(ISNUMBER(SEARCH("biodiverse",D10)),COUNTA(D21,D26)>0), AND( NOT(OR( ISNUMBER(SEARCH("mosaic",D10)), ISNUMBER(SEARCH("intensive",D10)), ISNUMBER(SEARCH("biodiverse",D10)))), COUNTA(D21,D26,D28)=0)), "N/A", IF(OR(D30=2,D30=3,AND(D30>=3,D29="No")),"✓",""))) -> N/A | E38: =IF(TRIM(E10)="","", IF(OR( AND(ISNUMBER(SEARCH("mosaic",E10)),COUNTA(E26,E28)>0), AND(ISNUMBER(SEARCH("intensive",E10)),COUNTA(E21,E28)>0), AND(ISNUMBER(SEARCH("biodiverse",E10)),COUNTA(E21,E26)>0), AND( NOT(OR( ISNUMBER(SEARCH("mosaic",E10)), ISNUMBER(SEARCH("intensive",E10)), ISNUMBER(SEARCH("biodiverse",E10)))), COUNTA(E21,E26,E28)=0)), "N/A", IF(OR(E30=2,E30=3,AND(E30>=3,E29="No")),"✓",""))) -> N/A | F38: =IF(TRIM(F10)="","", IF(OR( AND(ISNUMBER(SEARCH("mosaic",F10)),COUNTA(F26,F28)>0), AND(ISNUMBER(SEARCH("intensive",F10)),COUNTA(F21,F28)>0), AND(ISNUMBER(SEARCH("biodiverse",F10)),COUNTA(F21,F26)>0), AND( NOT(OR( ISNUMBER(SEARCH("mosaic",F10)), ISNUMBER(SEARCH("intensive",F10)), ISNUMBER(SEARCH("biodiverse",F10)))), COUNTA(F21,F26,F28)=0)), "N/A", IF(OR(F30=2,F30=3,AND(F30>=3,F29="No")),"✓",""))) | G38: =IF(TRIM(G10)="","", IF(OR( AND(ISNUMBER(SEARCH("mosaic",G10)),COUNTA(G26,G28)>0), AND(ISNUMBER(SEARCH("intensive",G10)),COUNTA(G21,G28)>0), AND(ISNUMBER(SEARCH("biodiverse",G10)),COUNTA(G21,G26)>0), AND( NOT(OR( ISNUMBER(SEARCH("mosaic",G10)), ISNUMBER(SEARCH("intensive",G10)), ISNUMBER(SEARCH("biodiverse",G10)))), COUNTA(G21,G26,G28)=0)), "N/A", IF(OR(G30=2,G30=3,AND(G30>=3,G29="No")),"✓",""))) | H38: =IF(TRIM(H10)="","", IF(OR( AND(ISNUMBER(SEARCH("mosaic",H10)),COUNTA(H26,H28)>0), AND(ISNUMBER(SEARCH("intensive",H10)),COUNTA(H21,H28)>0), AND(ISNUMBER(SEARCH("biodiverse",H10)),COUNTA(H21,H26)>0), AND( NOT(OR( ISNUMBER(SEARCH("mosaic",H10)), ISNUMBER(SEARCH("intensive",H10)), ISNUMBER(SEARCH("biodiverse",H10)))), COUNTA(H21,H26,H28)=0)), "N/A", IF(OR(H30=2,H30=3,AND(H30>=3,H29="No")),"✓",""))) | I38: =IF(TRIM(I10)="","", IF(OR( AND(ISNUMBER(SEARCH("mosaic",I10)),COUNTA(I26,I28)>0), AND(ISNUMBER(SEARCH("intensive",I10)),COUNTA(I21,I28)>0), AND(ISNUMBER(SEARCH("biodiverse",I10)),COUNTA(I21,I26)>0), AND( NOT(OR( ISNUMBER(SEARCH("mosaic",I10)), ISNUMBER(SEARCH("intensive",I10)), ISNUMBER(SEARCH("biodiverse",I10)))), COUNTA(I21,I26,I28)=0)), "N/A", IF(OR(I30=2,I30=3,AND(I30>=3,I29="No")),"✓",""))) | J38: =IF(TRIM(J10)="","", IF(OR( AND(ISNUMBER(SEARCH("mosaic",J10)),COUNTA(J26,J28)>0), AND(ISNUMBER(SEARCH("intensive",J10)),COUNTA(J21,J28)>0), AND(ISNUMBER(SEARCH("biodiverse",J10)),COUNTA(J21,J26)>0), AND( NOT(OR( ISNUMBER(SEARCH("mosaic",J10)), ISNUMBER(SEARCH("intensive",J10)), ISNUMBER(SEARCH("biodiverse",J10)))), COUNTA(J21,J26,J28)=0)), "N/A", IF(OR(J30=2,J30=3,AND(J30>=3,J29="No")),"✓",""))) | K38: =IF(TRIM(K10)="","", IF(OR( AND(ISNUMBER(SEARCH("mosaic",K10)),COUNTA(K26,K28)>0), AND(ISNUMBER(SEARCH("intensive",K10)),COUNTA(K21,K28)>0), AND(ISNUMBER(SEARCH("biodiverse",K10)),COUNTA(K21,K26)>0), AND( NOT(OR( ISNUMBER(SEARCH("mosaic",K10)), ISNUMBER(SEARCH("intensive",K10)), ISNUMBER(SEARCH("biodiverse",K10)))), COUNTA(K21,K26,K28)=0)), "N/A", IF(OR(K30=2,K30=3,AND(K30>=3,K29="No")),"✓",""))) | ... W38: =IF(TRIM(W10)="","", IF(OR( AND(ISNUMBER(SEARCH("mosaic",W10)),COUNTA(W26,W28)>0), AND(ISNUMBER(SEARCH("intensive",W10)),COUNTA(W21,W28)>0), AND(ISNUMBER(SEARCH("biodiverse",W10)),COUNTA(W21,W26)>0), AND( NOT(OR( ISNUMBER(SEARCH("mosaic",W10)), ISNUMBER(SEARCH("intensive",W10)), ISNUMBER(SEARCH("biodiverse",W10)))), COUNTA(W21,W26,W28)=0)), "N/A", IF(OR(W30=2,W30=3,AND(W30>=3,W29="No")),"✓","")))
A39: • Passes 0 or 1 of 4 criteria. | C39: Poor (1) | D39: =IF(TRIM(D10)="","", IF(OR( AND(ISNUMBER(SEARCH("mosaic",D10)),COUNTA(D26,D28)>0), AND(ISNUMBER(SEARCH("intensive",D10)),COUNTA(D21,D28)>0), AND(ISNUMBER(SEARCH("biodiverse",D10)),COUNTA(D21,D26)>0), AND(NOT(OR( ISNUMBER(SEARCH("mosaic",D10)), ISNUMBER(SEARCH("intensive",D10)), ISNUMBER(SEARCH("biodiverse",D10)))), COUNTA(D21,D26,D28)=0)), "N/A", IF(D30<=1,"✓",""))) -> N/A | E39: =IF(TRIM(E10)="","", IF(OR( AND(ISNUMBER(SEARCH("mosaic",E10)),COUNTA(E26,E28)>0), AND(ISNUMBER(SEARCH("intensive",E10)),COUNTA(E21,E28)>0), AND(ISNUMBER(SEARCH("biodiverse",E10)),COUNTA(E21,E26)>0), AND(NOT(OR( ISNUMBER(SEARCH("mosaic",E10)), ISNUMBER(SEARCH("intensive",E10)), ISNUMBER(SEARCH("biodiverse",E10)))), COUNTA(E21,E26,E28)=0)), "N/A", IF(E30<=1,"✓",""))) -> N/A | F39: =IF(TRIM(F10)="","", IF(OR( AND(ISNUMBER(SEARCH("mosaic",F10)),COUNTA(F26,F28)>0), AND(ISNUMBER(SEARCH("intensive",F10)),COUNTA(F21,F28)>0), AND(ISNUMBER(SEARCH("biodiverse",F10)),COUNTA(F21,F26)>0), AND(NOT(OR( ISNUMBER(SEARCH("mosaic",F10)), ISNUMBER(SEARCH("intensive",F10)), ISNUMBER(SEARCH("biodiverse",F10)))), COUNTA(F21,F26,F28)=0)), "N/A", IF(F30<=1,"✓",""))) | G39: =IF(TRIM(G10)="","", IF(OR( AND(ISNUMBER(SEARCH("mosaic",G10)),COUNTA(G26,G28)>0), AND(ISNUMBER(SEARCH("intensive",G10)),COUNTA(G21,G28)>0), AND(ISNUMBER(SEARCH("biodiverse",G10)),COUNTA(G21,G26)>0), AND(NOT(OR( ISNUMBER(SEARCH("mosaic",G10)), ISNUMBER(SEARCH("intensive",G10)), ISNUMBER(SEARCH("biodiverse",G10)))), COUNTA(G21,G26,G28)=0)), "N/A", IF(G30<=1,"✓",""))) | H39: =IF(TRIM(H10)="","", IF(OR( AND(ISNUMBER(SEARCH("mosaic",H10)),COUNTA(H26,H28)>0), AND(ISNUMBER(SEARCH("intensive",H10)),COUNTA(H21,H28)>0), AND(ISNUMBER(SEARCH("biodiverse",H10)),COUNTA(H21,H26)>0), AND(NOT(OR( ISNUMBER(SEARCH("mosaic",H10)), ISNUMBER(SEARCH("intensive",H10)), ISNUMBER(SEARCH("biodiverse",H10)))), COUNTA(H21,H26,H28)=0)), "N/A", IF(H30<=1,"✓",""))) | I39: =IF(TRIM(I10)="","", IF(OR( AND(ISNUMBER(SEARCH("mosaic",I10)),COUNTA(I26,I28)>0), AND(ISNUMBER(SEARCH("intensive",I10)),COUNTA(I21,I28)>0), AND(ISNUMBER(SEARCH("biodiverse",I10)),COUNTA(I21,I26)>0), AND(NOT(OR( ISNUMBER(SEARCH("mosaic",I10)), ISNUMBER(SEARCH("intensive",I10)), ISNUMBER(SEARCH("biodiverse",I10)))), COUNTA(I21,I26,I28)=0)), "N/A", IF(I30<=1,"✓",""))) | J39: =IF(TRIM(J10)="","", IF(OR( AND(ISNUMBER(SEARCH("mosaic",J10)),COUNTA(J26,J28)>0), AND(ISNUMBER(SEARCH("intensive",J10)),COUNTA(J21,J28)>0), AND(ISNUMBER(SEARCH("biodiverse",J10)),COUNTA(J21,J26)>0), AND(NOT(OR( ISNUMBER(SEARCH("mosaic",J10)), ISNUMBER(SEARCH("intensive",J10)), ISNUMBER(SEARCH("biodiverse",J10)))), COUNTA(J21,J26,J28)=0)), "N/A", IF(J30<=1,"✓",""))) | K39: =IF(TRIM(K10)="","", IF(OR( AND(ISNUMBER(SEARCH("mosaic",K10)),COUNTA(K26,K28)>0), AND(ISNUMBER(SEARCH("intensive",K10)),COUNTA(K21,K28)>0), AND(ISNUMBER(SEARCH("biodiverse",K10)),COUNTA(K21,K26)>0), AND(NOT(OR( ISNUMBER(SEARCH("mosaic",K10)), ISNUMBER(SEARCH("intensive",K10)), ISNUMBER(SEARCH("biodiverse",K10)))), COUNTA(K21,K26,K28)=0)), "N/A", IF(K30<=1,"✓",""))) | ... W39: =IF(TRIM(W10)="","", IF(OR( AND(ISNUMBER(SEARCH("mosaic",W10)),COUNTA(W26,W28)>0), AND(ISNUMBER(SEARCH("intensive",W10)),COUNTA(W21,W28)>0), AND(ISNUMBER(SEARCH("biodiverse",W10)),COUNTA(W21,W26)>0), AND(NOT(OR( ISNUMBER(SEARCH("mosaic",W10)), ISNUMBER(SEARCH("intensive",W10)), ISNUMBER(SEARCH("biodiverse",W10)))), COUNTA(W21,W26,W28)=0)), "N/A", IF(W30<=1,"✓","")))
A40: Results for Bioswale or SuDS (requiring assessment of 5 criteria - core criteria plus additional criteria specified for habitat type):
A41: • Passes all 3 core criteria; AND • Meets the requirements for Good condition within criterion C; AND • Passes all additional criteria relevant to specific habitat type (Group E) | C41: Good (3) | D41: =IF(TRIM(D10)="","", IF(AND(COUNTA(D17:D19),COUNT(D23:D24))<5,"", IF(NOT(OR(ISNUMBER(SEARCH("bioswale",D10)),ISNUMBER(SEARCH("suds",D10)))),"N/A", IF(COUNTA(D21,D26,D28)>0,"N/A", IF(AND(D29="Yes",D30=5),"✓","") )))) -> N/A | E41: =IF(TRIM(E10)="","", IF(AND(COUNTA(E17:E19),COUNT(E23:E24))<5,"", IF(NOT(OR(ISNUMBER(SEARCH("bioswale",E10)),ISNUMBER(SEARCH("suds",E10)))),"N/A", IF(OR(E21<>"",E26<>"",E28<>""),"N/A", IF(AND(E29="Yes",E30=5),"✓","") )))) -> N/A | F41: =IF(TRIM(F10)="","", IF(AND(COUNTA(F17:F19),COUNT(F23:F24))<5,"", IF(NOT(OR(ISNUMBER(SEARCH("bioswale",F10)),ISNUMBER(SEARCH("suds",F10)))),"N/A", IF(OR(F21<>"",F26<>"",F28<>""),"N/A", IF(AND(F29="Yes",F30=5),"✓","") )))) | G41: =IF(TRIM(G10)="","", IF(AND(COUNTA(G17:G19),COUNT(G23:G24))<5,"", IF(NOT(OR(ISNUMBER(SEARCH("bioswale",G10)),ISNUMBER(SEARCH("suds",G10)))),"N/A", IF(OR(G21<>"",G26<>"",G28<>""),"N/A", IF(AND(G29="Yes",G30=5),"✓","") )))) | H41: =IF(TRIM(H10)="","", IF(AND(COUNTA(H17:H19),COUNT(H23:H24))<5,"", IF(NOT(OR(ISNUMBER(SEARCH("bioswale",H10)),ISNUMBER(SEARCH("suds",H10)))),"N/A", IF(OR(H21<>"",H26<>"",H28<>""),"N/A", IF(AND(H29="Yes",H30=5),"✓","") )))) | I41: =IF(TRIM(I10)="","", IF(AND(COUNTA(I17:I19),COUNT(I23:I24))<5,"", IF(NOT(OR(ISNUMBER(SEARCH("bioswale",I10)),ISNUMBER(SEARCH("suds",I10)))),"N/A", IF(OR(I21<>"",I26<>"",I28<>""),"N/A", IF(AND(I29="Yes",I30=5),"✓","") )))) | J41: =IF(TRIM(J10)="","", IF(AND(COUNTA(J17:J19),COUNT(J23:J24))<5,"", IF(NOT(OR(ISNUMBER(SEARCH("bioswale",J10)),ISNUMBER(SEARCH("suds",J10)))),"N/A", IF(OR(J21<>"",J26<>"",J28<>""),"N/A", IF(AND(J29="Yes",J30=5),"✓","") )))) | K41: =IF(TRIM(K10)="","", IF(AND(COUNTA(K17:K19),COUNT(K23:K24))<5,"", IF(NOT(OR(ISNUMBER(SEARCH("bioswale",K10)),ISNUMBER(SEARCH("suds",K10)))),"N/A", IF(OR(K21<>"",K26<>"",K28<>""),"N/A", IF(AND(K29="Yes",K30=5),"✓","") )))) | L41: =IF(TRIM(L10)="","", IF(AND(COUNTA(L17:L19),COUNT(L23:L24))<5,"", IF(NOT(OR(ISNUMBER(SEARCH("bioswale",L10)),ISNUMBER(SEARCH("suds",L10)))),"N/A", IF(OR(L21<>"",L26<>"",L28<>""),"N/A", IF(AND(L29="Yes",L30=5),"✓","") )))) | ... W41: =IF(TRIM(W10)="","", IF(AND(COUNTA(W17:W19),COUNT(W23:W24))<5,"", IF(NOT(OR(ISNUMBER(SEARCH("bioswale",W10)),ISNUMBER(SEARCH("suds",W10)))),"N/A", IF(OR(W21<>"",W26<>"",W28<>""),"N/A", IF(AND(W29="Yes",W30=5),"✓","") ))))
A42: • Passes 3 or 4 of 5 criteria; OR • Passes 5 of 5 criteria but does not meet the requirements for Good condition within criterion C. | C42: Moderate (2) | D42: =IF(TRIM(D10)="","", IF(AND(COUNTA(D17:D19),COUNT(D23:D24))<5,"", IF(NOT(OR(ISNUMBER(SEARCH("bioswale",D10)),ISNUMBER(SEARCH("suds",D10)))),"N/A", IF(COUNTA(D21,D26,D28)>0,"N/A", IF(OR(D30=3,D30=4, AND(D30>=3,D29="No")),"✓",""))))) -> N/A | E42: =IF(TRIM(E10)="","", IF(AND(COUNTA(E17:E19),COUNT(E23:E24))<5,"", IF(NOT(OR(ISNUMBER(SEARCH("bioswale",E10)),ISNUMBER(SEARCH("suds",E10)))),"N/A", IF(OR(E21<>"",E26<>"",E28<>""),"N/A", IF(OR(E30=3,E30=4, AND(E30>=3,E29="No")),"✓",""))))) -> N/A | F42: =IF(TRIM(F10)="","", IF(AND(COUNTA(F17:F19),COUNT(F23:F24))<5,"", IF(NOT(OR(ISNUMBER(SEARCH("bioswale",F10)),ISNUMBER(SEARCH("suds",F10)))),"N/A", IF(OR(F21<>"",F26<>"",F28<>""),"N/A", IF(OR(F30=3,F30=4, AND(F30>=3,F29="No")),"✓",""))))) | G42: =IF(TRIM(G10)="","", IF(AND(COUNTA(G17:G19),COUNT(G23:G24))<5,"", IF(NOT(OR(ISNUMBER(SEARCH("bioswale",G10)),ISNUMBER(SEARCH("suds",G10)))),"N/A", IF(OR(G21<>"",G26<>"",G28<>""),"N/A", IF(OR(G30=3,G30=4, AND(G30>=3,G29="No")),"✓",""))))) | H42: =IF(TRIM(H10)="","", IF(AND(COUNTA(H17:H19),COUNT(H23:H24))<5,"", IF(NOT(OR(ISNUMBER(SEARCH("bioswale",H10)),ISNUMBER(SEARCH("suds",H10)))),"N/A", IF(OR(H21<>"",H26<>"",H28<>""),"N/A", IF(OR(H30=3,H30=4, AND(H30>=3,H29="No")),"✓",""))))) | I42: =IF(TRIM(I10)="","", IF(AND(COUNTA(I17:I19),COUNT(I23:I24))<5,"", IF(NOT(OR(ISNUMBER(SEARCH("bioswale",I10)),ISNUMBER(SEARCH("suds",I10)))),"N/A", IF(OR(I21<>"",I26<>"",I28<>""),"N/A", IF(OR(I30=3,I30=4, AND(I30>=3,I29="No")),"✓",""))))) | J42: =IF(TRIM(J10)="","", IF(AND(COUNTA(J17:J19),COUNT(J23:J24))<5,"", IF(NOT(OR(ISNUMBER(SEARCH("bioswale",J10)),ISNUMBER(SEARCH("suds",J10)))),"N/A", IF(OR(J21<>"",J26<>"",J28<>""),"N/A", IF(OR(J30=3,J30=4, AND(J30>=3,J29="No")),"✓",""))))) | K42: =IF(TRIM(K10)="","", IF(AND(COUNTA(K17:K19),COUNT(K23:K24))<5,"", IF(NOT(OR(ISNUMBER(SEARCH("bioswale",K10)),ISNUMBER(SEARCH("suds",K10)))),"N/A", IF(OR(K21<>"",K26<>"",K28<>""),"N/A", IF(OR(K30=3,K30=4, AND(K30>=3,K29="No")),"✓",""))))) | L42: =IF(TRIM(L10)="","", IF(AND(COUNTA(L17:L19),COUNT(L23:L24))<5,"", IF(NOT(OR(ISNUMBER(SEARCH("bioswale",L10)),ISNUMBER(SEARCH("suds",L10)))),"N/A", IF(OR(L21<>"",L26<>"",L28<>""),"N/A", IF(OR(L30=3,L30=4, AND(L30>=3,L29="No")),"✓",""))))) | ... W42: =IF(TRIM(W10)="","", IF(AND(COUNTA(W17:W19),COUNT(W23:W24))<5,"", IF(NOT(OR(ISNUMBER(SEARCH("bioswale",W10)),ISNUMBER(SEARCH("suds",W10)))),"N/A", IF(OR(W21<>"",W26<>"",W28<>""),"N/A", IF(OR(W30=3,W30=4, AND(W30>=3,W29="No")),"✓","")))))
A43: • Passes 2 or fewer of 5 criteria. | C43: Poor (1) | D43: =IF(TRIM(D10)="","", IF(AND(COUNTA(D17:D19),COUNT(D23:D24))<5,"", IF(NOT(OR(ISNUMBER(SEARCH("bioswale",D10)),ISNUMBER(SEARCH("suds",D10)))),"N/A", IF(COUNTA(D21,D26,D28)>0,"N/A", IF((D30<=2),"✓",""))))) -> N/A | E43: =IF(TRIM(E10)="","", IF(AND(COUNTA(E17:E19),COUNT(E23:E24))<5,"", IF(NOT(OR(ISNUMBER(SEARCH("bioswale",E10)),ISNUMBER(SEARCH("suds",E10)))),"N/A", IF(OR(E21<>"",E26<>"",E28<>""),"N/A", IF((E30<=2),"✓",""))))) -> N/A | F43: =IF(TRIM(F10)="","", IF(AND(COUNTA(F17:F19),COUNT(F23:F24))<5,"", IF(NOT(OR(ISNUMBER(SEARCH("bioswale",F10)),ISNUMBER(SEARCH("suds",F10)))),"N/A", IF(OR(F21<>"",F26<>"",F28<>""),"N/A", IF((F30<=2),"✓",""))))) | G43: =IF(TRIM(G10)="","", IF(AND(COUNTA(G17:G19),COUNT(G23:G24))<5,"", IF(NOT(OR(ISNUMBER(SEARCH("bioswale",G10)),ISNUMBER(SEARCH("suds",G10)))),"N/A", IF(OR(G21<>"",G26<>"",G28<>""),"N/A", IF((G30<=2),"✓",""))))) | H43: =IF(TRIM(H10)="","", IF(AND(COUNTA(H17:H19),COUNT(H23:H24))<5,"", IF(NOT(OR(ISNUMBER(SEARCH("bioswale",H10)),ISNUMBER(SEARCH("suds",H10)))),"N/A", IF(OR(H21<>"",H26<>"",H28<>""),"N/A", IF((H30<=2),"✓",""))))) | I43: =IF(TRIM(I10)="","", IF(AND(COUNTA(I17:I19),COUNT(I23:I24))<5,"", IF(NOT(OR(ISNUMBER(SEARCH("bioswale",I10)),ISNUMBER(SEARCH("suds",I10)))),"N/A", IF(OR(I21<>"",I26<>"",I28<>""),"N/A", IF((I30<=2),"✓",""))))) | J43: =IF(TRIM(J10)="","", IF(AND(COUNTA(J17:J19),COUNT(J23:J24))<5,"", IF(NOT(OR(ISNUMBER(SEARCH("bioswale",J10)),ISNUMBER(SEARCH("suds",J10)))),"N/A", IF(OR(J21<>"",J26<>"",J28<>""),"N/A", IF((J30<=2),"✓",""))))) | K43: =IF(TRIM(K10)="","", IF(AND(COUNTA(K17:K19),COUNT(K23:K24))<5,"", IF(NOT(OR(ISNUMBER(SEARCH("bioswale",K10)),ISNUMBER(SEARCH("suds",K10)))),"N/A", IF(OR(K21<>"",K26<>"",K28<>""),"N/A", IF((K30<=2),"✓",""))))) | L43: =IF(TRIM(L10)="","", IF(AND(COUNTA(L17:L19),COUNT(L23:L24))<5,"", IF(NOT(OR(ISNUMBER(SEARCH("bioswale",L10)),ISNUMBER(SEARCH("suds",L10)))),"N/A", IF(OR(L21<>"",L26<>"",L28<>""),"N/A", IF((L30<=2),"✓",""))))) | ... W43: =IF(TRIM(W10)="","", IF(AND(COUNTA(W17:W19),COUNT(W23:W24))<5,"", IF(NOT(OR(ISNUMBER(SEARCH("bioswale",W10)),ISNUMBER(SEARCH("suds",W10)))),"N/A", IF(OR(W21<>"",W26<>"",W28<>""),"N/A", IF((W30<=2),"✓","")))))
A44: Suggested enhancement interventions to improve condition score
A46: Footnotes
A47: Footnote 1 – Wildlife and Countryside Act 1981 (as amended). Footnote 2 – Sources of information about detrimental non-native species can be found on the GB Non-native Species Secretariat (GBNNSS) website:
A48: Home » NNSS (nonnativespecies.org)
A49: and Natural England Access to Evidence page should also be checked for up-to-date information:
A50: Horizon-scanning for invasive non-native plants in Great Britain - NECR053 (naturalengland.org.uk)
A51: For criterion C – For green roof habitat types only – buddleia Buddleja davidii should be assessed alongside Schedule 9 species. This species impairs the health of the local ecosystem and reduces the biodiversity potential of the roof. It is also a sign that a roof has not been planted and seeded correctly in subsequent years. Footnote 3 – Assess this for each distinct habitat parcel. If the distribution of invasive non-native species varies across the habitat, split into parcels accordingly, applying a buffer zone around the invasive non-native species with a size relative to its risk of spread into adjacent habitat, using professional judgement. Footnote 4 – Use professional judgement. Sources of information about non-native species that are not detrimental to native wildlife can be found on the GBNNSS website:

Sheet 23.WETLAND
A1: Condition Sheet: WETLAND Habitat Type
A2: Habitat Types
A3: Grassland - Floodplain wetland mosaic and CFGM - See the Statutory Biodiversity Metric User Guide. Wetland - Blanket bog Wetland - Depression on peat substrates (H7150) Wetland - Fens (upland and lowland) Wetland - Lowland raised bog Wetland - Oceanic valley mire [1] (D2.1) Wetland - Purple moor grass and rush pastures Wetland - Reedbeds Wetland - Transition mires and quaking bogs (H7140)
A4: Habitat Description
A6: For Oceanic valley mires - see EUNIS
A7: See the Statutory Biodiversity Metric User Guide for Floodplain wetland mosaic (FWM) and coastal and floodplain grazing marsh (CFGM). For CFGM also see the below:
A8: Coastal and floodplain grazing marsh UK BAP Priority Habitat description
A9: Priority Habitat Inventory (England) - data.gov.uk
A10: All other wetland habitats - see UK Habitat Classification (UKHab):
A11: UKHab
A12: On-site or off-site, site name and location | C12: ='SURVEY COVER SHEET '!D4&" - "&'SURVEY COVER SHEET '!D2 -> On-site - Reading Gateway | D12: Survey date and Surveyor name | O12: =TEXT('SURVEY COVER SHEET '!$B$2,"dd/mm/yyyy")&" - "&'SURVEY COVER SHEET '!$B$4 -> 19/03/2026 - Ben Wagstffe
D13: Survey reference (if relating to a wider survey)
A14: Limitations (if applicable) | D14: Habitat type
D16: Habitat parcel reference
D18: Grid reference
A19: Condition Assessment Criteria
D20: Criterion passed (Yes or No) | X20: Notes (such as justification)
A21: Core Criteria - must be assessed for all wetland habitat types:
A22: A | B22: The water table is at, or near the surface throughout the year - this could be open water or saturation of soil at the surface. There is no artificial drainage, unless specifically to maintain water levels as specified above. Note - this criterion is essential for achieving Good condition.
A23: B | B23: The parcel represents a good example of its specific habitat type - the appearance and composition of the vegetation closely matches its UKHab description, with vascular and non-vascular characteristic indicator species consistently present.1
A24: C | B24: The water supplies (groundwater, surface water and or rainwater) to the wetland are of good water quality, with clear water (low turbidity) indicating no obvious signs of pollution.
A25: D | B25: Cover of scrub and scattered trees are less than 10%.
A26: E | B26: Cover of bare ground is less than 5%.
A27: F | B27: There is an absence of invasive non-native plant species2 (as listed on Schedule 9 of WCA3) and species indicative of suboptimal condition4 make up less than 5% of ground cover.
A28: Additional Criterion - must be assessed for Fen and Purple moor grass and rush pasture habitats only:
A29: G | B29: No more than 25% of the habitat area has a continuous cover of litter (such as dead vegetation) preventing regeneration.
A30: Additional Criterion - must be assessed for Bog habitats only:
A31: H | B31: Sphagnum moss Sphagnum spp. and cottongrasses Eriophorum spp. are at least Frequent5. Cover of ericaceous dwarf shrubs6 is less than 75%.
A32: Additional Criterion - must be assessed for Reedbed habitats only:
A33: I | B33: The reedbed has a diverse structure with between 60% and 80% reeds Phragmites australis. Other areas may include open water (at least 10%), species-rich fen and or wet woodland.
A34: Additional Criterion - must be assessed for Floodplain wetland mosaic and CFGM only:
A35: J | B35: All ditches recorded within the habitat achieve Good condition as assessed using the Ditch condition sheet.
