Workbook

Sheet Overheating summary
C2: CIBSE TM59: Design methodology for the assessment of overheating risk in homes
C3: Results file name: | D3: Iteration 7 260515.aps
C4: Summer Elevated Air Speed: | D4: 0.1m/s
C5: Occupant category: | D5: Category II (normal)
A7: CIBSE TM59 overheating methodology for predominately nat vent rooms assesses against two criteria, (a) and (b) (for Category 1 occupancy criterion A Tmax is reduced by 1 ⁰K):
A8: - Criterion (a) states that for living rooms, kitchens and bedrooms, the number of hours during which ΔT is greater than or equal to 1⁰K from May to September (or November to March for southern hemisphere locations) shall not exceed 3% of occupied hours.
A9: - Criterion (b) states that the operative temperature of the bedrooms from 22:00-07:00 shall not exceed 26⁰C for more than 1% of annual hours (33 hours is therefore recorded as a fail).
A10: CIBSE TM59 overheating methodology for predominately mech vent rooms states the operative temperature of all rooms shall not exceed 26⁰C for more than 3% of annual occupied hours.
A11: TM59 also states that the inclusion of corridors in the overheating analysis is mandatory where community heating pipework runs through them.
A12: While there is no mandatory target for communal corridors, if an operative temperature of 28⁰C is exceeded for more than 3% of the total annual hours this should be identified as a significant risk.
A14: Natvent room name | B14: Natvent criterion (a) result | C14: Natvent criterion (b) result | D14: Pass/Fail | F14: Mechvent room name | G14: Pass/Fail | I14: Corridor name | J14: Significant overheating risk?
A15: ='Natvent rooms criterion (a)'!A13 -> Block A 301 LKD | B15: ='Natvent rooms criterion (a)'!E13 -> Pass | C15: ='Natvent rooms criterion (b)'!E13 -> NA | D15: =IF(OR(AND(C15="Pass",B15="Pass"),(AND(C15="NA",B15="Pass"))),"Pass","Fail") -> Pass | F15: No mech vent rooms to be analysed | G15: NA | I15: ='Communal corridors'!A13 -> Block A L3 Corridor 1 | J15: ='Communal corridors'!D13 -> Yes
A16: ='Natvent rooms criterion (a)'!A14 -> Block A 301 Bedroom 1 | B16: ='Natvent rooms criterion (a)'!E14 -> Pass | C16: ='Natvent rooms criterion (b)'!E14 -> Pass | D16: =IF(OR(AND(C16="Pass",B16="Pass"),(AND(C16="NA",B16="Pass"))),"Pass","Fail") -> Pass | I16: ='Communal corridors'!A14 -> Block A L3 Lobby 1 | J16: ='Communal corridors'!D14 -> Yes
A17: ='Natvent rooms criterion (a)'!A15 -> Block A 301 Bedroom 2 | B17: ='Natvent rooms criterion (a)'!E15 -> Pass | C17: ='Natvent rooms criterion (b)'!E15 -> Pass | D17: =IF(OR(AND(C17="Pass",B17="Pass"),(AND(C17="NA",B17="Pass"))),"Pass","Fail") -> Pass | I17: ='Communal corridors'!A15 -> Block A L3 Lobby 2 | J17: ='Communal corridors'!D15 -> Yes
A18: ='Natvent rooms criterion (a)'!A16 -> Block A 302 LKD | B18: ='Natvent rooms criterion (a)'!E16 -> Pass | C18: ='Natvent rooms criterion (b)'!E16 -> NA | D18: =IF(OR(AND(C18="Pass",B18="Pass"),(AND(C18="NA",B18="Pass"))),"Pass","Fail") -> Pass | I18: ='Communal corridors'!A16 -> Block A L3 Lobby 3 | J18: ='Communal corridors'!D16 -> Yes
A19: ='Natvent rooms criterion (a)'!A17 -> Block A 302 Bedroom 1 | B19: ='Natvent rooms criterion (a)'!E17 -> Pass | C19: ='Natvent rooms criterion (b)'!E17 -> Pass | D19: =IF(OR(AND(C19="Pass",B19="Pass"),(AND(C19="NA",B19="Pass"))),"Pass","Fail") -> Pass | I19: ='Communal corridors'!A17 -> Block A L3 Corridor 3 | J19: ='Communal corridors'!D17 -> Yes
A20: ='Natvent rooms criterion (a)'!A18 -> Block A 302 Bedroom 2 | B20: ='Natvent rooms criterion (a)'!E18 -> Pass | C20: ='Natvent rooms criterion (b)'!E18 -> Pass | D20: =IF(OR(AND(C20="Pass",B20="Pass"),(AND(C20="NA",B20="Pass"))),"Pass","Fail") -> Pass | I20: ='Communal corridors'!A18 -> Block A L3 Corridor 5 | J20: ='Communal corridors'!D18 -> Yes
A21: ='Natvent rooms criterion (a)'!A19 -> Block A 303 Bedroom | B21: ='Natvent rooms criterion (a)'!E19 -> Pass | C21: ='Natvent rooms criterion (b)'!E19 -> Pass | D21: =IF(OR(AND(C21="Pass",B21="Pass"),(AND(C21="NA",B21="Pass"))),"Pass","Fail") -> Pass | I21: ='Communal corridors'!A19 -> Block A L3 Lobby 4 | J21: ='Communal corridors'!D19 -> Yes
A22: ='Natvent rooms criterion (a)'!A20 -> Block A 303 LKD | B22: ='Natvent rooms criterion (a)'!E20 -> Pass | C22: ='Natvent rooms criterion (b)'!E20 -> NA | D22: =IF(OR(AND(C22="Pass",B22="Pass"),(AND(C22="NA",B22="Pass"))),"Pass","Fail") -> Pass | I22: ='Communal corridors'!A20 -> Block A L3 Lobby 5 | J22: ='Communal corridors'!D20 -> Yes
A23: ='Natvent rooms criterion (a)'!A21 -> Block A 305 LKD | B23: ='Natvent rooms criterion (a)'!E21 -> Pass | C23: ='Natvent rooms criterion (b)'!E21 -> NA | D23: =IF(OR(AND(C23="Pass",B23="Pass"),(AND(C23="NA",B23="Pass"))),"Pass","Fail") -> Pass | I23: ='Communal corridors'!A21 -> Block B L3 Lobby 1 | J23: ='Communal corridors'!D21 -> Yes
A24: ='Natvent rooms criterion (a)'!A22 -> Block A 305 Bedroom 1 | B24: ='Natvent rooms criterion (a)'!E22 -> Pass | C24: ='Natvent rooms criterion (b)'!E22 -> Pass | D24: =IF(OR(AND(C24="Pass",B24="Pass"),(AND(C24="NA",B24="Pass"))),"Pass","Fail") -> Pass | I24: ='Communal corridors'!A22 -> Block B L3 Lobby 2 | J24: ='Communal corridors'!D22 -> Yes
A25: ='Natvent rooms criterion (a)'!A23 -> Block A 305 Bedroom 2 | B25: ='Natvent rooms criterion (a)'!E23 -> Pass | C25: ='Natvent rooms criterion (b)'!E23 -> Pass | D25: =IF(OR(AND(C25="Pass",B25="Pass"),(AND(C25="NA",B25="Pass"))),"Pass","Fail") -> Pass | I25: ='Communal corridors'!A23 -> Block B L3 Corridor 2 | J25: ='Communal corridors'!D23 -> Yes
A26: ='Natvent rooms criterion (a)'!A24 -> Block A 305 Bedroom 3 | B26: ='Natvent rooms criterion (a)'!E24 -> Pass | C26: ='Natvent rooms criterion (b)'!E24 -> Pass | D26: =IF(OR(AND(C26="Pass",B26="Pass"),(AND(C26="NA",B26="Pass"))),"Pass","Fail") -> Pass | I26: ='Communal corridors'!A24 -> Block B L3 Corridor 1 | J26: ='Communal corridors'!D24 -> Yes
A27: ='Natvent rooms criterion (a)'!A25 -> Block A 306 Bedroom | B27: ='Natvent rooms criterion (a)'!E25 -> Pass | C27: ='Natvent rooms criterion (b)'!E25 -> Pass | D27: =IF(OR(AND(C27="Pass",B27="Pass"),(AND(C27="NA",B27="Pass"))),"Pass","Fail") -> Pass | I27: ='Communal corridors'!A25 -> Block A L5 Corridor 1 | J27: ='Communal corridors'!D25 -> Yes
... A41: ='Natvent rooms criterion (a)'!A39 -> Block A 312 LKD | B41: ='Natvent rooms criterion (a)'!E39 -> Pass | C41: ='Natvent rooms criterion (b)'!E39 -> NA | D41: =IF(OR(AND(C41="Pass",B41="Pass"),(AND(C41="NA",B41="Pass"))),"Pass","Fail") -> Pass | I41: ='Communal corridors'!A39 -> Block A L3 Corridor 2 | J41: ='Communal corridors'!D39 -> Yes
A42: ='Natvent rooms criterion (a)'!A40 -> Block A 312 Bedroom 2 | B42: ='Natvent rooms criterion (a)'!E40 -> Pass | C42: ='Natvent rooms criterion (b)'!E40 -> Pass | D42: =IF(OR(AND(C42="Pass",B42="Pass"),(AND(C42="NA",B42="Pass"))),"Pass","Fail") -> Pass
A43: ='Natvent rooms criterion (a)'!A41 -> Block A 313 LKD | B43: ='Natvent rooms criterion (a)'!E41 -> Pass | C43: ='Natvent rooms criterion (b)'!E41 -> NA | D43: =IF(OR(AND(C43="Pass",B43="Pass"),(AND(C43="NA",B43="Pass"))),"Pass","Fail") -> Pass
A44: ='Natvent rooms criterion (a)'!A42 -> Block A 313 Bedroom | B44: ='Natvent rooms criterion (a)'!E42 -> Pass | C44: ='Natvent rooms criterion (b)'!E42 -> Pass | D44: =IF(OR(AND(C44="Pass",B44="Pass"),(AND(C44="NA",B44="Pass"))),"Pass","Fail") -> Pass
A45: ='Natvent rooms criterion (a)'!A43 -> Block A 315 Bedroom 1 | B45: ='Natvent rooms criterion (a)'!E43 -> Pass | C45: ='Natvent rooms criterion (b)'!E43 -> Pass | D45: =IF(OR(AND(C45="Pass",B45="Pass"),(AND(C45="NA",B45="Pass"))),"Pass","Fail") -> Pass
A46: ='Natvent rooms criterion (a)'!A44 -> Block A 315 Bedroom 2 | B46: ='Natvent rooms criterion (a)'!E44 -> Pass | C46: ='Natvent rooms criterion (b)'!E44 -> Pass | D46: =IF(OR(AND(C46="Pass",B46="Pass"),(AND(C46="NA",B46="Pass"))),"Pass","Fail") -> Pass
A47: ='Natvent rooms criterion (a)'!A45 -> Block A 315 LKD | B47: ='Natvent rooms criterion (a)'!E45 -> Pass | C47: ='Natvent rooms criterion (b)'!E45 -> NA | D47: =IF(OR(AND(C47="Pass",B47="Pass"),(AND(C47="NA",B47="Pass"))),"Pass","Fail") -> Pass
A48: ='Natvent rooms criterion (a)'!A46 -> Block A 316 LKD | B48: ='Natvent rooms criterion (a)'!E46 -> Pass | C48: ='Natvent rooms criterion (b)'!E46 -> NA | D48: =IF(OR(AND(C48="Pass",B48="Pass"),(AND(C48="NA",B48="Pass"))),"Pass","Fail") -> Pass
A49: ='Natvent rooms criterion (a)'!A47 -> Block A 316 Bedroom | B49: ='Natvent rooms criterion (a)'!E47 -> Pass | C49: ='Natvent rooms criterion (b)'!E47 -> Pass | D49: =IF(OR(AND(C49="Pass",B49="Pass"),(AND(C49="NA",B49="Pass"))),"Pass","Fail") -> Pass
A50: ='Natvent rooms criterion (a)'!A48 -> Block A 317 LKD | B50: ='Natvent rooms criterion (a)'!E48 -> Pass | C50: ='Natvent rooms criterion (b)'!E48 -> NA | D50: =IF(OR(AND(C50="Pass",B50="Pass"),(AND(C50="NA",B50="Pass"))),"Pass","Fail") -> Pass
A51: ='Natvent rooms criterion (a)'!A49 -> Block A 317 Bedroom | B51: ='Natvent rooms criterion (a)'!E49 -> Pass | C51: ='Natvent rooms criterion (b)'!E49 -> Pass | D51: =IF(OR(AND(C51="Pass",B51="Pass"),(AND(C51="NA",B51="Pass"))),"Pass","Fail") -> Pass
A52: ='Natvent rooms criterion (a)'!A50 -> Block A 318 Bedroom 1 | B52: ='Natvent rooms criterion (a)'!E50 -> Pass | C52: ='Natvent rooms criterion (b)'!E50 -> Pass | D52: =IF(OR(AND(C52="Pass",B52="Pass"),(AND(C52="NA",B52="Pass"))),"Pass","Fail") -> Pass
A53: ='Natvent rooms criterion (a)'!A51 -> Block A 318 Bedroom 2 | B53: ='Natvent rooms criterion (a)'!E51 -> Pass | C53: ='Natvent rooms criterion (b)'!E51 -> Pass | D53: =IF(OR(AND(C53="Pass",B53="Pass"),(AND(C53="NA",B53="Pass"))),"Pass","Fail") -> Pass
... A154: ='Natvent rooms criterion (a)'!A152 -> Block A 509 Bedroom 2 | B154: ='Natvent rooms criterion (a)'!E152 -> Pass | C154: ='Natvent rooms criterion (b)'!E152 -> Pass | D154: =IF(OR(AND(C154="Pass",B154="Pass"),(AND(C154="NA",B154="Pass"))),"Pass","Fail") -> Pass

Sheet Natvent rooms criterion (a)
C2: CIBSE TM59 Overheating assessment - Predominately nat vent rooms criterion (a)
A6: Criterion (a) states that for living rooms, kitchens and bedrooms, the number of hours during which ΔT is greater than or equal to 1⁰K from May to September (or November to March for southern hemisphere locations) shall not exceed 3% of occupied hours.
A12: Room Name | B12: Occupied hours | C12: No. hours ΔT ≥ 1⁰K | D12: % Occupied hours ΔT ≥ 1⁰K | E12: Pass/Fail
A13: Block A 301 LKD | B13: 1989 | C13: 43 | D13: 2.2 | E13: =IF(D13>3,"Fail", "Pass") -> Pass
A14: Block A 301 Bedroom 1 | B14: 3672 | C14: 31 | D14: 0.8 | E14: =IF(D14>3,"Fail", "Pass") -> Pass
A15: Block A 301 Bedroom 2 | B15: 3672 | C15: 34 | D15: 0.9 | E15: =IF(D15>3,"Fail", "Pass") -> Pass
A16: Block A 302 LKD | B16: 1989 | C16: 39 | D16: 2 | E16: =IF(D16>3,"Fail", "Pass") -> Pass
A17: Block A 302 Bedroom 1 | B17: 3672 | C17: 29 | D17: 0.8 | E17: =IF(D17>3,"Fail", "Pass") -> Pass
A18: Block A 302 Bedroom 2 | B18: 3672 | C18: 28 | D18: 0.8 | E18: =IF(D18>3,"Fail", "Pass") -> Pass
A19: Block A 303 Bedroom | B19: 3672 | C19: 25 | D19: 0.7 | E19: =IF(D19>3,"Fail", "Pass") -> Pass
A20: Block A 303 LKD | B20: 1989 | C20: 25 | D20: 1.3 | E20: =IF(D20>3,"Fail", "Pass") -> Pass
A21: Block A 305 LKD | B21: 1989 | C21: 36 | D21: 1.8 | E21: =IF(D21>3,"Fail", "Pass") -> Pass
A22: Block A 305 Bedroom 1 | B22: 3672 | C22: 35 | D22: 1 | E22: =IF(D22>3,"Fail", "Pass") -> Pass
A23: Block A 305 Bedroom 2 | B23: 3672 | C23: 29 | D23: 0.8 | E23: =IF(D23>3,"Fail", "Pass") -> Pass
A24: Block A 305 Bedroom 3 | B24: 3672 | C24: 26 | D24: 0.7 | E24: =IF(D24>3,"Fail", "Pass") -> Pass
... A152: Block A 509 Bedroom 2 | B152: 3672 | C152: 28 | D152: 0.8 | E152: =IF(D152>3,"Fail", "Pass") -> Pass

Sheet Natvent rooms criterion (b)
C2: CIBSE TM59 Overheating assessment - Predominately nat vent rooms criterion (b)
A6: Criterion (b) states that the operative temperature of the bedrooms from 22:00-07:00 shall not exceed 26⁰C for more than 1% of annual hours (33 hours is therefore recorded as a fail).
A7: Any rooms that are not bedrooms are therefore not assessed, hence the corresponding NA values.
A12: Room Name | B12: No. hours > 26⁰C 22:00-24:00 | C12: No. hours > 26⁰C 00:00-07:00 | D12: Total hours > 26⁰C | E12: Pass/Fail
A13: Block A 301 LKD | B13: NA | C13: NA | D13: =IF(B13="NA","NA",SUM(B13:C13)) -> NA | E13: =IF(D13="NA","NA",IF(D13>32,"Fail","Pass")) -> NA
A14: Block A 301 Bedroom 1 | B14: 8 | C14: 3 | D14: =IF(B14="NA","NA",SUM(B14:C14)) -> 11 | E14: =IF(D14="NA","NA",IF(D14>32,"Fail","Pass")) -> Pass
A15: Block A 301 Bedroom 2 | B15: 7 | C15: 2 | D15: =IF(B15="NA","NA",SUM(B15:C15)) -> 9 | E15: =IF(D15="NA","NA",IF(D15>32,"Fail","Pass")) -> Pass
A16: Block A 302 LKD | B16: NA | C16: NA | D16: =IF(B16="NA","NA",SUM(B16:C16)) -> NA | E16: =IF(D16="NA","NA",IF(D16>32,"Fail","Pass")) -> NA
A17: Block A 302 Bedroom 1 | B17: 7 | C17: 2 | D17: =IF(B17="NA","NA",SUM(B17:C17)) -> 9 | E17: =IF(D17="NA","NA",IF(D17>32,"Fail","Pass")) -> Pass
A18: Block A 302 Bedroom 2 | B18: 12 | C18: 5 | D18: =IF(B18="NA","NA",SUM(B18:C18)) -> 17 | E18: =IF(D18="NA","NA",IF(D18>32,"Fail","Pass")) -> Pass
A19: Block A 303 Bedroom | B19: 4 | C19: 1 | D19: =IF(B19="NA","NA",SUM(B19:C19)) -> 5 | E19: =IF(D19="NA","NA",IF(D19>32,"Fail","Pass")) -> Pass
A20: Block A 303 LKD | B20: NA | C20: NA | D20: =IF(B20="NA","NA",SUM(B20:C20)) -> NA | E20: =IF(D20="NA","NA",IF(D20>32,"Fail","Pass")) -> NA
A21: Block A 305 LKD | B21: NA | C21: NA | D21: =IF(B21="NA","NA",SUM(B21:C21)) -> NA | E21: =IF(D21="NA","NA",IF(D21>32,"Fail","Pass")) -> NA
A22: Block A 305 Bedroom 1 | B22: 15 | C22: 15 | D22: =IF(B22="NA","NA",SUM(B22:C22)) -> 30 | E22: =IF(D22="NA","NA",IF(D22>32,"Fail","Pass")) -> Pass
A23: Block A 305 Bedroom 2 | B23: 7 | C23: 2 | D23: =IF(B23="NA","NA",SUM(B23:C23)) -> 9 | E23: =IF(D23="NA","NA",IF(D23>32,"Fail","Pass")) -> Pass
A24: Block A 305 Bedroom 3 | B24: 4 | C24: 1 | D24: =IF(B24="NA","NA",SUM(B24:C24)) -> 5 | E24: =IF(D24="NA","NA",IF(D24>32,"Fail","Pass")) -> Pass
A25: Block A 306 Bedroom | B25: 3 | C25: 0 | D25: =IF(B25="NA","NA",SUM(B25:C25)) -> 3 | E25: =IF(D25="NA","NA",IF(D25>32,"Fail","Pass")) -> Pass
A26: Block A 306 LKD | B26: NA | C26: NA | D26: =IF(B26="NA","NA",SUM(B26:C26)) -> NA | E26: =IF(D26="NA","NA",IF(D26>32,"Fail","Pass")) -> NA
A27: Block A 307 Bedroom | B27: 3 | C27: 0 | D27: =IF(B27="NA","NA",SUM(B27:C27)) -> 3 | E27: =IF(D27="NA","NA",IF(D27>32,"Fail","Pass")) -> Pass
A28: Block A 307 LKD | B28: NA | C28: NA | D28: =IF(B28="NA","NA",SUM(B28:C28)) -> NA | E28: =IF(D28="NA","NA",IF(D28>32,"Fail","Pass")) -> NA
A29: Block A 308 LKD | B29: NA | C29: NA | D29: =IF(B29="NA","NA",SUM(B29:C29)) -> NA | E29: =IF(D29="NA","NA",IF(D29>32,"Fail","Pass")) -> NA
A30: Block A 308 Bedroom | B30: 3 | C30: 0 | D30: =IF(B30="NA","NA",SUM(B30:C30)) -> 3 | E30: =IF(D30="NA","NA",IF(D30>32,"Fail","Pass")) -> Pass
A31: Block A 310 Bedroom 1 | B31: 4 | C31: 0 | D31: =IF(B31="NA","NA",SUM(B31:C31)) -> 4 | E31: =IF(D31="NA","NA",IF(D31>32,"Fail","Pass")) -> Pass
A32: Block A 310 Bedroom 2 | B32: 4 | C32: 1 | D32: =IF(B32="NA","NA",SUM(B32:C32)) -> 5 | E32: =IF(D32="NA","NA",IF(D32>32,"Fail","Pass")) -> Pass
A33: Block A 310 LKD | B33: NA | C33: NA | D33: =IF(B33="NA","NA",SUM(B33:C33)) -> NA | E33: =IF(D33="NA","NA",IF(D33>32,"Fail","Pass")) -> NA
A34: Block A 311 LKD | B34: NA | C34: NA | D34: =IF(B34="NA","NA",SUM(B34:C34)) -> NA | E34: =IF(D34="NA","NA",IF(D34>32,"Fail","Pass")) -> NA
A35: Block A 311 Bedroom | B35: 4 | C35: 0 | D35: =IF(B35="NA","NA",SUM(B35:C35)) -> 4 | E35: =IF(D35="NA","NA",IF(D35>32,"Fail","Pass")) -> Pass
A36: Block A 320 Bedroom | B36: 4 | C36: 0 | D36: =IF(B36="NA","NA",SUM(B36:C36)) -> 4 | E36: =IF(D36="NA","NA",IF(D36>32,"Fail","Pass")) -> Pass
A37: Block A 320 LKD | B37: NA | C37: NA | D37: =IF(B37="NA","NA",SUM(B37:C37)) -> NA | E37: =IF(D37="NA","NA",IF(D37>32,"Fail","Pass")) -> NA
A38: Block A 312 Bedroom 1 | B38: 7 | C38: 6 | D38: =IF(B38="NA","NA",SUM(B38:C38)) -> 13 | E38: =IF(D38="NA","NA",IF(D38>32,"Fail","Pass")) -> Pass
A39: Block A 312 LKD | B39: NA | C39: NA | D39: =IF(B39="NA","NA",SUM(B39:C39)) -> NA | E39: =IF(D39="NA","NA",IF(D39>32,"Fail","Pass")) -> NA
A40: Block A 312 Bedroom 2 | B40: 4 | C40: 0 | D40: =IF(B40="NA","NA",SUM(B40:C40)) -> 4 | E40: =IF(D40="NA","NA",IF(D40>32,"Fail","Pass")) -> Pass
A41: Block A 313 LKD | B41: NA | C41: NA | D41: =IF(B41="NA","NA",SUM(B41:C41)) -> NA | E41: =IF(D41="NA","NA",IF(D41>32,"Fail","Pass")) -> NA
A42: Block A 313 Bedroom | B42: 4 | C42: 0 | D42: =IF(B42="NA","NA",SUM(B42:C42)) -> 4 | E42: =IF(D42="NA","NA",IF(D42>32,"Fail","Pass")) -> Pass
A43: Block A 315 Bedroom 1 | B43: 12 | C43: 8 | D43: =IF(B43="NA","NA",SUM(B43:C43)) -> 20 | E43: =IF(D43="NA","NA",IF(D43>32,"Fail","Pass")) -> Pass
A44: Block A 315 Bedroom 2 | B44: 5 | C44: 1 | D44: =IF(B44="NA","NA",SUM(B44:C44)) -> 6 | E44: =IF(D44="NA","NA",IF(D44>32,"Fail","Pass")) -> Pass
A45: Block A 315 LKD | B45: NA | C45: NA | D45: =IF(B45="NA","NA",SUM(B45:C45)) -> NA | E45: =IF(D45="NA","NA",IF(D45>32,"Fail","Pass")) -> NA
A46: Block A 316 LKD | B46: NA | C46: NA | D46: =IF(B46="NA","NA",SUM(B46:C46)) -> NA | E46: =IF(D46="NA","NA",IF(D46>32,"Fail","Pass")) -> NA
A47: Block A 316 Bedroom | B47: 4 | C47: 0 | D47: =IF(B47="NA","NA",SUM(B47:C47)) -> 4 | E47: =IF(D47="NA","NA",IF(D47>32,"Fail","Pass")) -> Pass
A48: Block A 317 LKD | B48: NA | C48: NA | D48: =IF(B48="NA","NA",SUM(B48:C48)) -> NA | E48: =IF(D48="NA","NA",IF(D48>32,"Fail","Pass")) -> NA
A49: Block A 317 Bedroom | B49: 4 | C49: 0 | D49: =IF(B49="NA","NA",SUM(B49:C49)) -> 4 | E49: =IF(D49="NA","NA",IF(D49>32,"Fail","Pass")) -> Pass
A50: Block A 318 Bedroom 1 | B50: 4 | C50: 0 | D50: =IF(B50="NA","NA",SUM(B50:C50)) -> 4 | E50: =IF(D50="NA","NA",IF(D50>32,"Fail","Pass")) -> Pass
A51: Block A 318 Bedroom 2 | B51: 4 | C51: 0 | D51: =IF(B51="NA","NA",SUM(B51:C51)) -> 4 | E51: =IF(D51="NA","NA",IF(D51>32,"Fail","Pass")) -> Pass
A52: Block A 318 LKD | B52: NA | C52: NA | D52: =IF(B52="NA","NA",SUM(B52:C52)) -> NA | E52: =IF(D52="NA","NA",IF(D52>32,"Fail","Pass")) -> NA
A53: Block A 319 Bedroom 1 | B53: 4 | C53: 1 | D53: =IF(B53="NA","NA",SUM(B53:C53)) -> 5 | E53: =IF(D53="NA","NA",IF(D53>32,"Fail","Pass")) -> Pass
A54: Block A 319 Bedroom 2 | B54: 4 | C54: 0 | D54: =IF(B54="NA","NA",SUM(B54:C54)) -> 4 | E54: =IF(D54="NA","NA",IF(D54>32,"Fail","Pass")) -> Pass
A55: Block A 319 LKD | B55: NA | C55: NA | D55: =IF(B55="NA","NA",SUM(B55:C55)) -> NA | E55: =IF(D55="NA","NA",IF(D55>32,"Fail","Pass")) -> NA
A56: Block B 301 LKD | B56: NA | C56: NA | D56: =IF(B56="NA","NA",SUM(B56:C56)) -> NA | E56: =IF(D56="NA","NA",IF(D56>32,"Fail","Pass")) -> NA
A57: Block B 301 Bedroom | B57: 4 | C57: 0 | D57: =IF(B57="NA","NA",SUM(B57:C57)) -> 4 | E57: =IF(D57="NA","NA",IF(D57>32,"Fail","Pass")) -> Pass
A58: Block B 302 LKD | B58: NA | C58: NA | D58: =IF(B58="NA","NA",SUM(B58:C58)) -> NA | E58: =IF(D58="NA","NA",IF(D58>32,"Fail","Pass")) -> NA
A59: Block B 302 Bedroom 1 | B59: 4 | C59: 1 | D59: =IF(B59="NA","NA",SUM(B59:C59)) -> 5 | E59: =IF(D59="NA","NA",IF(D59>32,"Fail","Pass")) -> Pass
A60: Block B 302 Bedroom 2 | B60: 4 | C60: 1 | D60: =IF(B60="NA","NA",SUM(B60:C60)) -> 5 | E60: =IF(D60="NA","NA",IF(D60>32,"Fail","Pass")) -> Pass
A61: Block B 303 LKD | B61: NA | C61: NA | D61: =IF(B61="NA","NA",SUM(B61:C61)) -> NA | E61: =IF(D61="NA","NA",IF(D61>32,"Fail","Pass")) -> NA
A62: Block B 303 Bedroom 1 | B62: 4 | C62: 1 | D62: =IF(B62="NA","NA",SUM(B62:C62)) -> 5 | E62: =IF(D62="NA","NA",IF(D62>32,"Fail","Pass")) -> Pass
A63: Block B 303 Bedroom 2 | B63: 4 | C63: 1 | D63: =IF(B63="NA","NA",SUM(B63:C63)) -> 5 | E63: =IF(D63="NA","NA",IF(D63>32,"Fail","Pass")) -> Pass
A64: Block B 304 Bedroom | B64: 3 | C64: 0 | D64: =IF(B64="NA","NA",SUM(B64:C64)) -> 3 | E64: =IF(D64="NA","NA",IF(D64>32,"Fail","Pass")) -> Pass
A65: Block B 306 Bedroom 1 | B65: 16 | C65: 12 | D65: =IF(B65="NA","NA",SUM(B65:C65)) -> 28 | E65: =IF(D65="NA","NA",IF(D65>32,"Fail","Pass")) -> Pass
A66: Block B 306 Bedroom 2 | B66: 4 | C66: 0 | D66: =IF(B66="NA","NA",SUM(B66:C66)) -> 4 | E66: =IF(D66="NA","NA",IF(D66>32,"Fail","Pass")) -> Pass
A67: Block B 306 LKD | B67: NA | C67: NA | D67: =IF(B67="NA","NA",SUM(B67:C67)) -> NA | E67: =IF(D67="NA","NA",IF(D67>32,"Fail","Pass")) -> NA
A68: Block B 304 LKD | B68: NA | C68: NA | D68: =IF(B68="NA","NA",SUM(B68:C68)) -> NA | E68: =IF(D68="NA","NA",IF(D68>32,"Fail","Pass")) -> NA
A69: Block B 305 Studio | B69: 4 | C69: 0 | D69: =IF(B69="NA","NA",SUM(B69:C69)) -> 4 | E69: =IF(D69="NA","NA",IF(D69>32,"Fail","Pass")) -> Pass
A70: Block B 307 Bedroom | B70: 4 | C70: 0 | D70: =IF(B70="NA","NA",SUM(B70:C70)) -> 4 | E70: =IF(D70="NA","NA",IF(D70>32,"Fail","Pass")) -> Pass
A71: Block B 307 LKD | B71: NA | C71: NA | D71: =IF(B71="NA","NA",SUM(B71:C71)) -> NA | E71: =IF(D71="NA","NA",IF(D71>32,"Fail","Pass")) -> NA
A72: Block A 501 LKD | B72: NA | C72: NA | D72: =IF(B72="NA","NA",SUM(B72:C72)) -> NA | E72: =IF(D72="NA","NA",IF(D72>32,"Fail","Pass")) -> NA
A73: Block A 501 Bedroom 1 | B73: 8 | C73: 4 | D73: =IF(B73="NA","NA",SUM(B73:C73)) -> 12 | E73: =IF(D73="NA","NA",IF(D73>32,"Fail","Pass")) -> Pass
A74: Block A 501 Bedroom 2 | B74: 7 | C74: 2 | D74: =IF(B74="NA","NA",SUM(B74:C74)) -> 9 | E74: =IF(D74="NA","NA",IF(D74>32,"Fail","Pass")) -> Pass
A75: Block A 502 LKD | B75: NA | C75: NA | D75: =IF(B75="NA","NA",SUM(B75:C75)) -> NA | E75: =IF(D75="NA","NA",IF(D75>32,"Fail","Pass")) -> NA
A76: Block A 502 Bedroom 1 | B76: 7 | C76: 2 | D76: =IF(B76="NA","NA",SUM(B76:C76)) -> 9 | E76: =IF(D76="NA","NA",IF(D76>32,"Fail","Pass")) -> Pass
A77: Block A 502 Bedroom 2 | B77: 12 | C77: 5 | D77: =IF(B77="NA","NA",SUM(B77:C77)) -> 17 | E77: =IF(D77="NA","NA",IF(D77>32,"Fail","Pass")) -> Pass
A78: Block A 503 Bedroom | B78: 4 | C78: 1 | D78: =IF(B78="NA","NA",SUM(B78:C78)) -> 5 | E78: =IF(D78="NA","NA",IF(D78>32,"Fail","Pass")) -> Pass
A79: Block A 503 LKD | B79: NA | C79: NA | D79: =IF(B79="NA","NA",SUM(B79:C79)) -> NA | E79: =IF(D79="NA","NA",IF(D79>32,"Fail","Pass")) -> NA
A80: Block A 505 LKD | B80: NA | C80: NA | D80: =IF(B80="NA","NA",SUM(B80:C80)) -> NA | E80: =IF(D80="NA","NA",IF(D80>32,"Fail","Pass")) -> NA
A81: Block A 505 Bedroom 1 | B81: 15 | C81: 15 | D81: =IF(B81="NA","NA",SUM(B81:C81)) -> 30 | E81: =IF(D81="NA","NA",IF(D81>32,"Fail","Pass")) -> Pass
A82: Block A 505 Bedroom 2 | B82: 7 | C82: 2 | D82: =IF(B82="NA","NA",SUM(B82:C82)) -> 9 | E82: =IF(D82="NA","NA",IF(D82>32,"Fail","Pass")) -> Pass
A83: Block A 505 Bedroom 3 | B83: 4 | C83: 1 | D83: =IF(B83="NA","NA",SUM(B83:C83)) -> 5 | E83: =IF(D83="NA","NA",IF(D83>32,"Fail","Pass")) -> Pass
A84: Block A 506 Bedroom | B84: 4 | C84: 0 | D84: =IF(B84="NA","NA",SUM(B84:C84)) -> 4 | E84: =IF(D84="NA","NA",IF(D84>32,"Fail","Pass")) -> Pass
A85: Block A 506 LKD | B85: NA | C85: NA | D85: =IF(B85="NA","NA",SUM(B85:C85)) -> NA | E85: =IF(D85="NA","NA",IF(D85>32,"Fail","Pass")) -> NA
A86: Block A 507 Bedroom | B86: 3 | C86: 0 | D86: =IF(B86="NA","NA",SUM(B86:C86)) -> 3 | E86: =IF(D86="NA","NA",IF(D86>32,"Fail","Pass")) -> Pass
A87: Block A 507 LKD | B87: NA | C87: NA | D87: =IF(B87="NA","NA",SUM(B87:C87)) -> NA | E87: =IF(D87="NA","NA",IF(D87>32,"Fail","Pass")) -> NA
A88: Block A 508 LKD | B88: NA | C88: NA | D88: =IF(B88="NA","NA",SUM(B88:C88)) -> NA | E88: =IF(D88="NA","NA",IF(D88>32,"Fail","Pass")) -> NA
A89: Block A 508 Bedroom | B89: 4 | C89: 1 | D89: =IF(B89="NA","NA",SUM(B89:C89)) -> 5 | E89: =IF(D89="NA","NA",IF(D89>32,"Fail","Pass")) -> Pass
A90: Block A 515 Bedroom 1 | B90: 12 | C90: 9 | D90: =IF(B90="NA","NA",SUM(B90:C90)) -> 21 | E90: =IF(D90="NA","NA",IF(D90>32,"Fail","Pass")) -> Pass
A91: Block A 515 Bedroom 2 | B91: 5 | C91: 1 | D91: =IF(B91="NA","NA",SUM(B91:C91)) -> 6 | E91: =IF(D91="NA","NA",IF(D91>32,"Fail","Pass")) -> Pass
A92: Block A 516 LKD | B92: NA | C92: NA | D92: =IF(B92="NA","NA",SUM(B92:C92)) -> NA | E92: =IF(D92="NA","NA",IF(D92>32,"Fail","Pass")) -> NA
A93: Block A 516 Bedroom | B93: 4 | C93: 0 | D93: =IF(B93="NA","NA",SUM(B93:C93)) -> 4 | E93: =IF(D93="NA","NA",IF(D93>32,"Fail","Pass")) -> Pass
A94: Block A 517 LKD | B94: NA | C94: NA | D94: =IF(B94="NA","NA",SUM(B94:C94)) -> NA | E94: =IF(D94="NA","NA",IF(D94>32,"Fail","Pass")) -> NA
A95: Block A 517 Bedroom | B95: 4 | C95: 0 | D95: =IF(B95="NA","NA",SUM(B95:C95)) -> 4 | E95: =IF(D95="NA","NA",IF(D95>32,"Fail","Pass")) -> Pass
A96: Block A 518 Bedroom 1 | B96: 4 | C96: 0 | D96: =IF(B96="NA","NA",SUM(B96:C96)) -> 4 | E96: =IF(D96="NA","NA",IF(D96>32,"Fail","Pass")) -> Pass
A97: Block A 518 Bedroom 2 | B97: 4 | C97: 0 | D97: =IF(B97="NA","NA",SUM(B97:C97)) -> 4 | E97: =IF(D97="NA","NA",IF(D97>32,"Fail","Pass")) -> Pass
A98: Block A 518 LKD | B98: NA | C98: NA | D98: =IF(B98="NA","NA",SUM(B98:C98)) -> NA | E98: =IF(D98="NA","NA",IF(D98>32,"Fail","Pass")) -> NA
A99: Block A 519 Bedroom 1 | B99: 4 | C99: 0 | D99: =IF(B99="NA","NA",SUM(B99:C99)) -> 4 | E99: =IF(D99="NA","NA",IF(D99>32,"Fail","Pass")) -> Pass
A100: Block A 519 Bedroom 2 | B100: 4 | C100: 0 | D100: =IF(B100="NA","NA",SUM(B100:C100)) -> 4 | E100: =IF(D100="NA","NA",IF(D100>32,"Fail","Pass")) -> Pass
A101: Block A 519 LKD | B101: NA | C101: NA | D101: =IF(B101="NA","NA",SUM(B101:C101)) -> NA | E101: =IF(D101="NA","NA",IF(D101>32,"Fail","Pass")) -> NA
A102: Block B 501 LKD | B102: NA | C102: NA | D102: =IF(B102="NA","NA",SUM(B102:C102)) -> NA | E102: =IF(D102="NA","NA",IF(D102>32,"Fail","Pass")) -> NA
A103: Block B 501 Bedroom | B103: 4 | C103: 0 | D103: =IF(B103="NA","NA",SUM(B103:C103)) -> 4 | E103: =IF(D103="NA","NA",IF(D103>32,"Fail","Pass")) -> Pass
A104: Block B 502 LKD | B104: NA | C104: NA | D104: =IF(B104="NA","NA",SUM(B104:C104)) -> NA | E104: =IF(D104="NA","NA",IF(D104>32,"Fail","Pass")) -> NA
A105: Block B 502 Bedroom 1 | B105: 4 | C105: 1 | D105: =IF(B105="NA","NA",SUM(B105:C105)) -> 5 | E105: =IF(D105="NA","NA",IF(D105>32,"Fail","Pass")) -> Pass
A106: Block B 502 Bedroom 2 | B106: 4 | C106: 1 | D106: =IF(B106="NA","NA",SUM(B106:C106)) -> 5 | E106: =IF(D106="NA","NA",IF(D106>32,"Fail","Pass")) -> Pass
A107: Block B 503 LKD | B107: NA | C107: NA | D107: =IF(B107="NA","NA",SUM(B107:C107)) -> NA | E107: =IF(D107="NA","NA",IF(D107>32,"Fail","Pass")) -> NA
A108: Block B 503 Bedroom 1 | B108: 4 | C108: 1 | D108: =IF(B108="NA","NA",SUM(B108:C108)) -> 5 | E108: =IF(D108="NA","NA",IF(D108>32,"Fail","Pass")) -> Pass
...

Sheet Mechvent rooms
C2: CIBSE TM59 Overheating assessment - Predominately mech vent rooms
A6: CIBSE TM59 overheating methodology for predominately mech vent rooms states the operative temperature of all rooms shall not exceed 26⁰C for more than 3% of annual occupied hours.
A12: Room name | B12: No. hours > 26⁰C | C12: % Annual hours > 26⁰C | D12: Pass/Fail
A13: No mech vent rooms to be analysed | B13: NA | C13: NA | D13: NA

Sheet Communal corridors
C2: CIBSE TM59 Overheating assessment - Communal corridors
A6: TM59 states that whilst there is no mandatory target for communal corridors, if an operative temperature of 28⁰C is exceeded for more than 3% of the total annual hours,
A7: then this should be identified as a significant risk within the TM59 overheating report.
A12: Corridor name | B12: No. hours > 28⁰C | C12: % Annual hours > 28⁰C | D12: Significant overheating risk?
A13: Block A L3 Corridor 1 | B13: 3659 | C13: 41.8 | D13: =IF(C13>3,"Yes", "No") -> Yes
A14: Block A L3 Lobby 1 | B14: 8760 | C14: 100 | D14: =IF(C14>3,"Yes", "No") -> Yes
A15: Block A L3 Lobby 2 | B15: 8760 | C15: 100 | D15: =IF(C15>3,"Yes", "No") -> Yes
A16: Block A L3 Lobby 3 | B16: 4334 | C16: 49.5 | D16: =IF(C16>3,"Yes", "No") -> Yes
A17: Block A L3 Corridor 3 | B17: 406 | C17: 4.6 | D17: =IF(C17>3,"Yes", "No") -> Yes
A18: Block A L3 Corridor 5 | B18: 2863 | C18: 32.7 | D18: =IF(C18>3,"Yes", "No") -> Yes
A19: Block A L3 Lobby 4 | B19: 8607 | C19: 98.3 | D19: =IF(C19>3,"Yes", "No") -> Yes
A20: Block A L3 Lobby 5 | B20: 8760 | C20: 100 | D20: =IF(C20>3,"Yes", "No") -> Yes
A21: Block B L3 Lobby 1 | B21: 8760 | C21: 100 | D21: =IF(C21>3,"Yes", "No") -> Yes
A22: Block B L3 Lobby 2 | B22: 8760 | C22: 100 | D22: =IF(C22>3,"Yes", "No") -> Yes
A23: Block B L3 Corridor 2 | B23: 8291 | C23: 94.6 | D23: =IF(C23>3,"Yes", "No") -> Yes
A24: Block B L3 Corridor 1 | B24: 4691 | C24: 53.6 | D24: =IF(C24>3,"Yes", "No") -> Yes
... A39: Block A L3 Corridor 2 | B39: 2235 | C39: 25.5 | D39: =IF(C39>3,"Yes", "No") -> Yes
