Workbook
Name a: '3 SofW'!$1:$1048576

Sheet Cover Sheet
I1: GS Property
I2: Developments Limited
A14: QUOTATION (Rev D) -referred in the Contract as the Contractor' Priced Schedule of work
A16: CONVERSION OF YEOMANRY HOUSE, 131 CATSLE HILL, READING
A18: INTO
A20: THREE TERRACE HOUSES AND FIVE ONE BEDROOM APARTMENTS
A25: 46097
A35: G S Property Developments Ltd
A36: 29 Little Heath Road
A37: Tilehurst
A38: Reading
A39: RG31 5TY
A41: Contact: | B41: Paul Spokes
A42: Tel: | B42: 0118 9412227 & 07793 444084
A44: Email: | B44: paul@gs-property.co.uk

Sheet Contents
A1: CONTENTS
A3: 1.0 | B3: QUOTATION SUMMARY
A6: 2.0 | B6: BASIS OF QUOTATION
A9: 3.0 | B9: SCHEDULE OF WORKS
B12: APPENDIX A
B14: Drawings and specifications used to prepare this quotation.

Sheet 1 Exec Summary
A1: 1.0 | B1: QUOTATION SUMMARY
A3: Ref. | B3: Element | G3: Total
A4: .01 | B4: Demolitions & Alterations | G4: =+'3 SofW'!F38 -> 203402
A5: .02 | B5: Excavation and earthwork | G5: =+'3 SofW'!F45 -> 74250
A6: .03 | B6: In Situ Concrete | G6: =+'3 SofW'!F52 -> 0
A7: .04 | B7: Pre Cast Concrete | G7: =+'3 SofW'!F59 -> 0
A8: .05 | B8: Brickwork and Blockwork | G8: =+'3 SofW'!F71 -> 33995
A9: .06 | B9: Roofing | G9: =+'3 SofW'!F93 -> 39175
A10: .07 | B10: Woodwork | G10: =+'3 SofW'!F137 -> 143914
A11: .08 | B11: Windows and external doors | G11: =+'3 SofW'!F151 -> 130625
A12: .09 | B12: Steelwork | G12: =+'3 SofW'!F159 -> 5000
A13: .10 | B13: Metalwork | G13: =+'3 SofW'!F166 -> 0
A14: .11 | B14: Plumbing & Mechanical Engineering Installations | G14: =+'3 SofW'!F200 -> 267245
A15: .12 | B15: Electrical Installations | G15: =+'3 SofW'!F248 -> 90000
A16: .13 | B16: Floor Finishes | G16: =+'3 SofW'!F267 -> 29500
A17: .14 | B17: Wall Finishes | G17: =+'3 SofW'!F287 -> 81655
A18: .15 | B18: Ceiling Finishes | G18: =+'3 SofW'!F301 -> 42540
A19: .16 | B19: Furniture & Fittings | G19: =+'3 SofW'!F318 -> 121500
A20: .17 | B20: Painting & Decorating | G20: =+'3 SofW'!F330 -> 58645
A21: .18 | B21: External works | G21: =+'3 SofW'!F389 -> 232590.05
A22: .19 | B22: Preliminaries | G22: =+'3 SofW'!F436 -> 160310
B25: TOTAL | C25: (Excluding VAT, Design Fees & CIL charges - see section 2 for further information) | G25: =SUM(G4:G24) -> 1714346.1
D27: COST PER Sq/ft (Exc VAT) | G27: =+G25/D39 -> 219.23436 | H27: sq/ft
D29: COST PER Sq/ft (ExcL EXTERNAL WORKS & VAT) | G29: =(+G25-G21)/D39 -> 189.49023 | H29: sq/ft
A32: FOR INFORMATION ONLY
A34: Gross Floor Area | C34: m2 | D34: ft2
A35: Basement
A36: Ground floor
A37: First floor
A38: Second floor
A39: Total | C39: 726.4 | D39: =+C39*10.765 -> 7819.696

Sheet 2 Basis
A1: 2.0 | B1: BASIS OF QUOTATION
A3: 2.1 | B3: Brief description of the Works
B5: Conversion of Yeomanry House into three terrace houses and five one bed apartments
B7: Architect: | E7: Colony Architects
B9: Structural Engineer: | E9: TBS
B11: Warranties & Insurances: | E11: TBA
A13: 2.2 | B13: Assumptions
A16: 2.2.1 | B16: The works will not be phased
A18: 2.2.2 | B18: The foul water drainage will fall by gravity into a the existing mains system on site. All licenses permissions etc. for these works to be arranged and paid for by others.
A20: 2.2.3 | B20: Temporary electricity (100 amp supply) and water supplies/services will be provided free of charge by the Employer.
A22: 2.2.4 | B22: Electricity & water supplies are readily available on site. G S Property Developments Ltd has included provisional quantities for service trenches and ducts within the site up to the site boundary. The Employer shall arrange and pay for electricity, water (including drainage), gas, telecom supplies, services, connection and infrastructure fees/charges.
A24: 2.2.5 | B24: The Employer shall discharge all necessary planning conditions and Building Control conditions. The Employer's designers shall advise the Employer on all design matters including planning and building control implications as a result of changes from the approved planning drawings. G S Property Developments Ltd will call out the Building Control Surveyor for any necessary key stage inspections.
A26: 2.2.6 | B26: Fortnightly interim payments with 3% retention. Half the retention fund released on Practical Completion, issue of the Building Control Completion Certificate or occupation (whichever is the earliest) of the works and final payment including release of retention monies 6 months later.
A28: 2.2.7 | B28: We have assumed we will not be excavating below the ground water level as no allowance has been made for dewatering
A30: 2.2.8 | B30: A structural warranty is to be obtained and paid for by the client.
A32: 2.2.9 | B32: Asbestos survey will be arranged and paid for pay the client - Now included
A34: 2.2.10 | B34: Heating and hot water served by suitably sized gas boilers with electric heating to the common areas
A36: 2.3 | B36: Exclusions
A38: 2.3.1 | B38: Gas, water (including drainage), telecoms and electricity supplies, services, connections, service alteration and infrastructure fees/charges - to be paid by the client. - Provisional sum now included for these works
A40: 2.3.2 | B40: Planning fees and charges including and contributions due under Section 106 and/or 278 agreements and the Community Infrastructure Levy.
A42: 2.3.3 | B42: Building Regulation fees and charges.
A44: 2.3.4 | B44: Party wall awards, notices, fees and charges under the Party Wall etc. Act 1996.
A46: 2.3.5 | B46: Building Warranty & Insurance fees and charges e.g. Zurich, NHBC Buildmark or NHBC Solo, etc.
A48: 2.3.6 | B48: Value Added Tax
A50: 2.3.7 | B50: All design fees and charges including building regulations drawings, working drawings, structural calculations, as built drawings, survey drawings, ground investigations, hydrological reports, contamination reports, ground stability reports, environmental reports, SAP calculations, Energy Performance Certificate, and the code for sustainable homes report.
A52: 2.3.8 | B52: Drainage build over notices.
A54: 2.3.9 | B54: Rediverting any mains services.
A56: 2.3.10 | B56: Removing any asbestos or other contaminated or deleterious materials - Asbestos removal now included
A58: 2.3.11 | B58: Carpets, curtains, blind and other soft furnishings - to be supplied and fitted by the client.
A60: 2.3.12 | B60: Soft landscaping, seeding, planting etc. - Provisional sum now included
... A84: 2.2.28 | B84: Foundations deeper than 1m below existing ground fevel
A87: 2.4 | B87: Drawings used to prepare quotation
B89: 2.4.1 | C89: This quotation is based on the specification and drawings set out in Appendix A.
B91: 2.4.2 | C91: Please note we have relied on the accuracy and sufficiency of the information in the designs and drawings produced by the Employer's designers.
A93: 2.5 | B93: Provisional Sums (PS) and Prime Cost Sums (PC sums)
A95: 2.5.1 | B95: Various provisional sums and prime cost sums have been included in this quotation. These will be adjusted accordingly when the actual costs are known with a 20% addition to cover our head office overheads and profit.
A97: 2.6 | B97: Provisional Quantities
A99: 2.6.1 | B99: Various provisional quantities have been included in this quotation. These provisional quantities will be adjusted accordingly when the actual quantities are known.

Sheet 3 SofW
A1: 3.0 | B1: SCHEDULE OF WORKS
C2: Quant. | D2: Unit | E2: Rate | F2: Total | G2: LABOUR | H2: MATERIALS | I2: PLANT | J2: SUB CONTRACT | K2: TOTAL | L2: Check Sum
A3: 3.01 | B3: DEMOLITIONS & ALTERATIONS
A5: - | B5: Asbestos refurbishment and development survey | C5: 1 | D5: Itm | E5: 1400 | F5: =+C5*E5 -> 1400
A7: - | B7: Remove asbestos found - quotation received from Stacey's £44,000 + Vat + OHP. This excludes scaffolding. Most of these costs doe to asbestos found in the external paint so all needs to be removed | C7: 1 | D7: Itm] | E7: 52800 | F7: =+C7*E7 -> 52800
A9: - | B9: Extra over for encapsulated scaffolding and additional hire | C9: 1 | D9: Itm | E9: 5000 | F9: =+C9*E9 -> 5000
A11: - | B11: Disconnection of redundant electrical services | C11: 1 | D11: Itm | E11: 2745 | F11: =+C11*E11 -> 2745
A13: - | B13: Ditto mechanical services | C13: 1 | D13: Itm | E13: 2745 | F13: =+C13*E13 -> 2745
A15: - | B15: Removal of redundant fixtures and fittings | C15: 1 | D15: Itm | E15: 4950 | F15: =+C15*E15 -> 4950
A17: - | B17: Internal demolition and alterations to unit 6 - Inc new window opening | C17: 1 | D17: Itm | E17: 25950 | F17: =+C17*E17 -> 25950
A19: - | B19: Extra over to remove staircase and make floor structure; staircase moved to all floors | C19: 1 | D19: Itm | E19: 2000 | F19: =+C19*E19 -> 2000
A21: - | B21: Ditto unit 7 | C21: 1 | D21: Itm | E21: 22450 | F21: =+C21*E21 -> 22450
A23: - | B23: Extra over to remove staircase and make floor structure; staircase moved to all floors | C23: 1 | D23: Itm | E23: 3500 | F23: =+C23*E23 -> 3500
A25: - | B25: Ditto units 1,2,3,4 & 5 | C25: 1 | D25: Itm | E25: 47872 | F25: =+C25*E25 -> 47872
A27: - | B27: Ditto Unit 8 | C27: 1 | D27: Itm | E27: 24950 | F27: =+C27*E27 -> 24950
... A33: - | B33: Removal and disposal of external staircase | C33: 1 | D33: Itm | E33: 1245 | F33: =+C33*E33 -> 1245
A35: - | B35: Allowance to remove redundant external fixtures, fittings, paving's, landscaping etc | C35: 1 | D35: Itm | F35: Included in External works provisional sum
F38: =SUM(F3:F36) -> 203402
A40: 3.02 | B40: NEW SIDE EXTENSION
A42: - | B42: New two storey side extension (PROVISIONAL SUM) | C42: 27 | D42: m2 | E42: 2750 | F42: =+C42*E42 -> 74250
B45: Section total | F45: =SUM(F42:F44) -> 74250
A48: 3.03 | B48: IN SITU CONCRETE
B52: Section total | F52: =SUM(F48:F51) -> 0
A55: 3.04 | B55: PRE CAST CONCRETE
B59: Section total | F59: =SUM(F55:F58) -> 0
A62: 3.05 | B62: BRICKWORK & BLOCKWORK \ MASONRY
A64: - | B64: Allowance for render and external wall repairs including repointing (PROVISIONAL SUM) | C64: 1 | D64: PS | E64: 10000 | F64: =+C64*E64 -> 10000
A66: - | B66: Redecorate externally - render, window, doors, fascia and soffit | C66: 1 | D66: Itm | E66: 21995 | F66: =+C66*E66 -> 21995
A68: - | B68: Extra coat of paint on render as existing paint needs to be totally removed due to asbestos presence. | C68: 1 | D68: Itm | E68: 2000 | F68: =+C68*E68 -> 2000
B71: Section total | F71: =SUM(F64:F70) -> 33995
A74: 3.06 | B74: ROOFING
A76: - | B76: Allowance for roofing repairs including works to slates, battens, etc including parapet repairs (PROVISIONAL SUM) | C76: 1 | D76: PS | E76: 7500 | F76: =+C76*E76 -> 7500 | G76: =+F76*0.35 -> 2625 | H76: =+F76*0.65 -> 4875 | I76: 0 | J76: 0 | K76: =SUM(G76:J76) -> 7500 | L76: =+K76-F76 -> 0
A78: - | B78: Allowance for general leadwork; soakers, flashings etc repairs (PROPVISIONAL SUM) | C78: 1 | D78: Itm | F78: Included in Prov sum above | G78: =+F78*0.5 -> #VALUE! | H78: =+F78*0.5 -> #VALUE! | I78: 0 | J78: 0 | K78: =SUM(G78:J78) -> #VALUE! | L78: =+K78-F78 -> #VALUE!
A80: - | B80: Allowance for lead roof repairs following lead being stolen | C80: 1 | D80: Itm | E80: 5000 | F80: =+C80*E80 -> 5000
A82: - | B82: Thermal Rockwool type insulation between and over joists | C82: 269 | D82: m2 | E82: 25 | F82: =+C82*E82 -> 6725
A84: - | B84: Extra over for PIR insulation to units 3, 6 & 7 | C84: 170 | D84: m2 | E84: 25 | F84: =+C84*E84 -> 4250
A86: - | B86: Repair and repaint cast iron guttering (PROVISIONAL SUM) | C86: 1 | D86: Itm | E86: 2500 | F86: =+C86*E86 -> 2500
A88: - | B88: Conservation roof lights | C88: 6 | D88: nr | E88: 1500 | F88: =+C88*E88 -> 9000
A90: - | B90: Extra over to trim openings | C90: 6 | D90: nr | E90: 700 | F90: =+C90*E90 -> 4200
B93: Section total | F93: =SUM(F75:F91) -> 39175
...

Sheet Appendix A
B1: `
A9: APPENDIX A DRAWINGS USED FOR PREPERATION OF QUOTATION - CONTRACT DRAWINGS
A13: Content of appendix A
A15: Colony Architects drawings
A17: Planning application drawinsg prepared by Colony - 16_03_26
A19: G S Property Developments Ltd
A20: 29 Little Heath Road
A21: Tilehurst
A22: Reading
A23: RG31 5TY
A25: Contact: Paul Spokes
A26: Tel/Fax: 0118 9412227
A27: Mobile: 07793 444084
A28: Email: paul@gs-property.co.uk
D66: .

Sheet Sheet11

Sheet Sheet12

Sheet Sheet14

Sheet Sheet15

Sheet Sheet16

Sheet Sheet1
