Workbook
Name _ene01: 'Assessment Issue Scoring'!$S$1560
Name _Man01: 'Assessment Issue Scoring'!$AA$1435
Name _Pol02: 'Assessment Issue Scoring'!$AA$1288
Name AA28AD_BREEAM_stage: 'Assessment Rating & KPIs'!$AA$28
Name AD_AD: 'Assessment Details'!#REF!
Name AD_Add01: 'Assessment Details'!$J$22
Name AD_Add02: 'Assessment Details'!$J$24
Name AD_Add03: 'Assessment Details'!$J$26
Name AD_Add04: 'Assessment Details'!$J$28
Name AD_Air: 'Assessment Details'!$Z$147
Name AD_Air_con: 'Assessment Details'!$Z$151
Name AD_Aircon_list: 'Assessment Details'!$Z$151:$Z$154
Name AD_Architect: 'Assessment Details'!$J$92
Name AD_assessor: 'Assessment Details'!$J$13
Name AD_Assessor_org: 'Assessment Details'!$J$17
Name AD_Banner: 'Assessment Details'!$B$2
Name AD_BREEAM_stage: 'Assessment Details'!$Z$179:$Z$180
Name AD_BREEAM_version: 'Assessment Details'!$AB$149
Name AD_BREEAMAP: 'Assessment Details'!$J$98
Name AD_Buildserve: 'Assessment Details'!$J$96
Name AD_Builduser: 'Assessment Details'!$J$11
Name AD_catlevel: 'Assessment Details'!$J$72
Name AD_catlevel01: 'Assessment Details'!$Z$174
Name AD_catlevel02: 'Assessment Details'!$Z$175
Name AD_catlevel03: 'Assessment Details'!$Z$176
Name AD_catlevel1: 'Assessment Details'!$J$72
Name AD_client: 'Assessment Details'!$J$9
Name AD_climate: 'Assessment Details'!#REF!
Name AD_comfort_cool: 'Assessment Details'!$Z$152
Name AD_Contractor: 'Assessment Details'!$J$90
Name AD_control_none: 'Assessment Details'!$Z$163
Name AD_control_other: 'Assessment Details'!$Z$162
Name AD_control_standard: 'Assessment Details'!$Z$161
Name AD_controls: 'Assessment Details'!#REF!
Name AD_controls_list: 'Assessment Details'!$Z$161:$Z$163
Name AD_cool: 'Assessment Details'!$J$62
Name AD_Cool_other: 'Assessment Details'!$Z$153
Name AD_Country: 'Assessment Details'!$J$34
Name AD_country_list: 'Assessment Details'!$Z$141:$Z$144
Name AD_County: 'Assessment Details'!$J$30
Name AD_Developer: 'Assessment Details'!$J$88
Name AD_DHWS: 'Assessment Details'!#REF!
Name AD_England: 'Assessment Details'!$Z$141
Name AD_ExternalLighting: 'Assessment Details'!#REF!
Name AD_GIA: 'Assessment Details'!$J$54
Name AD_HCoption_YesNo_list: 'Assessment Details'!$Z$193:$Z$194
Name AD_Hea_In: 'Assessment Details'!$J$48
Name AD_heat: 'Assessment Details'!$J$60
Name AD_Heat_None: 'Assessment Details'!$Z$149
Name AD_Heat_other: 'Assessment Details'!$Z$148
Name AD_heating_list: 'Assessment Details'!$Z$146:$Z$149
Name AD_hotwater_list: 'Assessment Details'!$Z$156:$Z$159
Name AD_HW_central: 'Assessment Details'!$Z$156
Name AD_HW_None: 'Assessment Details'!$Z$159
Name AD_HW_Other: 'Assessment Details'!$Z$158
Name AD_HW_POU: 'Assessment Details'!$Z$157
Name AD_INDoption_YesNo_list: 'Assessment Details'!$Z$189:$Z$190
Name AD_labcat_list: 'Assessment Details'!$Z$174:$Z$177
Name AD_Labsize: 'Assessment Details'!$J$70
Name AD_Labsize_list: 'Assessment Details'!$Z$169:$Z$171

Sheet Assessment Details
B1: =IF(AD_Mandatory_fields_text=AIS_statement09,AIS_statement29,"")
B2: =IF(OR(projecttype=Z200,projecttype=""),"BREEAM UK New Construction 2018 Assessment Report","BREEAM UK Bespoke New Construction 2018 Assessment Report") -> BREEAM UK New Construction 2018 Assessment Report
B3: =IF(AD_Mandatory_fields_check>0,AIS_statement09,"")
B5: General information | Q5: =IF(projecttype=Z201,"BESPOKE","")
B7: BRE Assessment reference no. | J7: BREEAM-0098-8877 | R7: *
B9: Client name | J9: ? | R9: *
B11: Building end user/occupier
B13: Assessor name | J13: Gaynor Smissen | R13: *
B15: Assessors role | J15: BREEAM Assessor/AP | R15: *
B17: Assessor organisation | J17: Kent Sustainability | R17: *
B18: Building details
H20: Building name | J20: 199-203 Henley Road | R20: *
B22: Building address | J22: 199-203 Henley Road | R22: *
J24: Caversham
J26: Reading
H30: County | J30: Berkshire | R30: *
H32: Post code | J32: RG4 6LG
H34: Country | J34: England | R34: *
H36: BREEAM scheme | J36: New Construction
H38: BREEAM version | J38: 2018 (SD5078)
H40: BREEAM UK 2018 technical manual issue number | J40: SD5078 Issue 3.0 | R40: *
H42: Project scope | J42: Fully fitted | R42: *
H44: Building type (main description) | J44: Residential institution (long term stay) | R44: *
H46: Building type (sub-group) | J46: Residential institution (long term stay) - Residential care home | R46: *
H48: Does this healthcare building have inpatient areas? | R48: *
H50: Does this industrial building have an office area, or other occuped spaces? | R50: *
H52: Assessment stage | J52: Design (interim) | R52: *
H54: Building floor area (GIA) m2 | J54: 1255 | R54: *
H56: Building floor area (NIFA) m2 | J56: 1125 | R56: *
H58: Is the building designed to be untreated? | J58: No | R58: *
H60: Building services - heating system type | J60: Air system | R60: *
H62: Building services - cooling system type | J62: Comfort cooling | R62: *
H64: Are commercial or industrial-sized refrigeration and storage systems specified? | J64: No | R64: *
H66: Are building user lifts present? | J66: Yes | R66: *
H68: Are building user escaltors or moving walks present? | J68: No | R68: *
H70: Are laboratories present? | J70: No | R70: *
H72: What percentage of total building area do laboratories represent? | R72: *
H74: Are there fume cupboard(s) and/or other containment devices present? | R74: *
H76: Are there any water demands present other than those assessed in Wat 01? | J76: No | R76: *
B78: Does the building have external areas within the boundary of the assessed development? | J78: No | R78: *
...

Sheet Assessment Rating & KPIs
B2: =IF(OR(projecttype='Assessment Details'!Z200,projecttype=""),"BREEAM UK New Construction 2018 Assessment Report: Rating & Key Performance Indicators","BREEAM UK Bespoke New Construction 2018 Assessment Report: Rating & Key Performance Indicators") -> BREEAM UK New Construction 2018 Assessment Report: Rating & Key Performance Indicators
B3: =IF(AD_Mandatory_fields_text=AIS_statement09,"Warning: All Mandatory fields in the assessment details worksheet must be completed/defined to reveal the BREEAM rating andKey Performance Indicators.","")
B4: Overall Building Performance
D6: Building name | F6: =IF(ISBLANK(ADBN),"",ADBN) -> 199-203 Henley Road
D8: BREEAM rating | F8: =IF(ISERROR(IF(AD_Mandatory_fields_text=AIS_statement09,"",IF(AIS_MinStand_rating_check=AIS_No,VLOOKUP(AIS_MinStandMin,AIS_MinSt_benchmarks,3,FALSE),IF(AIS_MinStand_rating_check=AIS_Yes,VLOOKUP(AIS_BREEAM_rating_level,AIS_MinSt_benchmarks,3,FALSE))))),AIS_statement49,IF(AD_Mandatory_fields_text=AIS_statement09,"",IF(AIS_MinStand_rating_check=AIS_No,VLOOKUP(AIS_MinStandMin,AIS_MinSt_benchmarks,3,FALSE),IF(AIS_MinStand_rating_check=AIS_Yes,VLOOKUP(AIS_BREEAM_rating_level,AIS_MinSt_benchmarks,3,FALSE))))) -> Very Good | H8: =IF(ISERROR(IF(AIS_MinStand_rating_check=AIS_No,"Note: the BREEAM rating has been pegged back to the minimum standards level achieved","")),"",IF(AIS_MinStand_rating_check=AIS_No,"Note: the BREEAM rating has been pegged back to the minimum standards level achieved","")) | S8: =IF(BP_BREEAMRating=AIS_statement49,"Note: BREEAM issue Tra03 requires building type definition in order to define the number of credits available for the transport section. Please define for Tra03 in the Assessment Issue Scoring worksheet.","")
D10: Total Score | F10: =IF(AA10<>"",ROUNDDOWN(AA10,3),"") -> 0.57 | AA10: =IF(ISERROR(IF(AD_Mandatory_fields_text=AIS_statement09,"",IF(SUM(BP_Man_Score_hidden+BP_HW_score_hidden+BP_Energy_score_hidden+BP_Trans_score_hidden+BP_Water_score_hidden+BP_Materials_score_hidden+BP_Waste_score_hidden+BP_LUE_score_hidden+BP_Pollution_score_hidden+BP_Innovation_score_hidden)>1,1,(SUM(BP_Man_Score_hidden+BP_HW_score_hidden+BP_Energy_score_hidden+BP_Trans_score_hidden+BP_Water_score_hidden+BP_Materials_score_hidden+BP_Waste_score_hidden+BP_LUE_score_hidden+BP_Pollution_score_hidden+BP_Innovation_score_hidden))))),AIS_statement49,IF(AD_Mandatory_fields_text=AIS_statement09,"",IF(SUM(BP_Man_Score_hidden+BP_HW_score_hidden+BP_Energy_score_hidden+BP_Trans_score_hidden+BP_Water_score_hidden+BP_Materials_score_hidden+BP_Waste_score_hidden+BP_LUE_score_hidden+BP_Pollution_score_hidden+BP_Innovation_score_hidden)>1,1,(SUM(BP_Man_Score_hidden+BP_HW_score_hidden+BP_Energy_score_hidden+BP_Trans_score_hidden+BP_Water_score_hidden+BP_Materials_score_hidden+BP_Waste_score_hidden+BP_LUE_score_hidden+BP_Pollution_score_hidden+BP_Innovation_score_hidden))))) -> 0.57068254
AA11: =IF(ISERROR(IF(AD_Mandatory_fields_text=AIS_statement09,"",IF(SUM(BP_Man_score+BP_HW_score+BP_Trans_score+BP_Water_score+BP_Materials_score+BP_Waste_Score+BP_LUE_score+BP_Pollution_score+BP_Innovation_score)>1,1,(SUM(BP_Man_score+BP_HW_score+BP_Trans_score+BP_Water_score+BP_Materials_score+BP_Waste_Score+BP_LUE_score+BP_Pollution_score+BP_Innovation_score))))),AIS_statement49,IF(AD_Mandatory_fields_text=AIS_statement09,"",IF(SUM(BP_Man_score+BP_HW_score+BP_Trans_score+BP_Water_score+BP_Materials_score+BP_Waste_Score+BP_LUE_score+BP_Pollution_score+BP_Innovation_score)>1,1,(SUM(BP_Man_score+BP_HW_score+BP_Trans_score+BP_Water_score+BP_Materials_score+BP_Waste_Score+BP_LUE_score+BP_Pollution_score+BP_Innovation_score))))) -> 0.4714
D12: Min. standards level achieved | F12: =IF(AD_Mandatory_fields_text=AIS_statement09,"",VLOOKUP(AIS_MinStandMin,AIS_MinSt_benchmarks,2,FALSE)) -> Excellent level
B13: Building Performance by Environment Section | S13: =IF(SUM(BP_Man_score+BP_HW_score+BP_Energy_score+BP_Trans_score+BP_Water_score+BP_Materials_score+BP_Waste_Score+BP_LUE_score+BP_Pollution_score+BP_Innovation_score)>1,AIS_statement_113,"") | AA13: Note: The overall score is determined by adding together the environmental section scores and the Innovation section score. As the total of these two scores is greater than 100% for your project, the overall score has been capped at 100%, and it is this percentage that will appear on the BREEAM certificate.
B16: Environmental Section | J16: No. credits available | L16: No. credits Achieved | N16: % credits achieved | P16: Section Weighting | R16: Section Score | S16: =IF(ADPT="","Note: Project Type must be selected in Assessment Details to define the weightings","") | AI16: Unrounded section score
H17: Management | J17: =Man01_credits+Man02_credits+Man03_credits+Man04_credits+IF(Man05_credits=AIS_NA,0,Man05_credits) -> 21 | L17: =Man01_Tot+Man02_Tot+Man03_Tot+Man04_tot+IF(Man05_tot=AIS_NA,0,Man05_tot) -> 18 | N17: =BP_11/BP_01 -> 0.85714286 | P17: =VLOOKUP(ADPT,AA132:AK136,2,FALSE) -> 0.11 | R17: =ROUNDDOWN(BP_Man_Score_hidden,4) -> 0.0942 | AI17: =(BP_32*BP_22) -> 0.094285714
H19: Health & Wellbeing | J19: =Hea01_credits+IF(Hea02_credits=AIS_NA,0,Hea02_credits)+IF(Hea04_credits=AIS_NA,0,Hea04_credits)+Hea05_credits+Hea06_credits+Hea07_credits -> 18 | L19: =Hea01_tot+IF(Hea02_tot=AIS_NA,0,Hea02_tot)+IF(Hea04_tot=AIS_NA,0,Hea04_tot)+Hea05_tot+Hea06_tot+Hea07_tot -> 7 | N19: =BP_12/BP_02 -> 0.38888889 | P19: =VLOOKUP(ADPT,AA132:AK136,3,FALSE) -> 0.14 | R19: =ROUNDDOWN(BP_HW_score_hidden,4) -> 0.0544 | AI19: =BP_33*BP_23 -> 0.054444444
H21: Energy | J21: =Ene01_credits+IF(Ene02_credits=AIS_NA,0,Ene02_credits)+Ene03_credits+Ene04_credits+IF(Ene08_credits=AIS_NA,0,Ene08_credits)+IF(Ene05_credits=AIS_NA,0,Ene05_credits)+IF(Ene06_credits=AIS_NA,0,Ene06_credits)+IF(Ene07_credits=AIS_NA,0,Ene07_credits) -> 21 | L21: =Ene01_tot+IF(Ene02_tot=AIS_NA,0,Ene02_tot)+Ene03_tot+Ene04_tot+IF(Ene05_tot=AIS_NA,0,Ene05_tot)+IF(Ene06_tot=AIS_NA,0,Ene06_tot)+IF(Ene07_tot=AIS_NA,0,Ene07_tot)+IF(Ene08_tot=AIS_NA,0,Ene08_tot) -> 13 | N21: =BP_13/BP_03 -> 0.61904762 | P21: =VLOOKUP(ADPT,AA132:AK136,4,FALSE) -> 0.16 | R21: =ROUNDDOWN(BP_Energy_score_hidden,4) -> 0.099 | AI21: =BP_34*BP_24 -> 0.099047619
H23: Transport | J23: =IF(ISERROR(Tra01_credits+IF(Tra02_credits=AIS_NA,0,Tra02_credits)),AIS_statement49, Tra01_credits+IF(Tra02_credits=AIS_NA,0,Tra02_credits)) -> 12 | L23: =Tra01_tot+IF(Tra02_tot=AIS_NA,0,Tra02_tot) -> 9 | N23: =BP_14/BP_04 -> 0.75 | P23: =VLOOKUP(ADPT,AA132:AK136,5,FALSE) -> 0.1 | R23: =ROUNDDOWN(BP_Trans_score_hidden,4) -> 0.075 | S23: =IF(BP_04=AIS_statement49,"Note: BREEAM issue Tra03 requires building type definition in order to define the number of credits available for the transport section. Please define for Tra03 in the Assessment Issue Scoring worksheet.","") | AA23: =BP_35*BP_25 -> 0.075 | AI23: =BP_35*BP_25 -> 0.075
H25: Water | J25: =IF(Wat01_credits=AIS_NA,0,Wat01_credits)+Wat02_credits+IF(Wat03_credits=AIS_NA,0,Wat03_credits)+IF(Wat04_credits=AIS_NA,0,Wat04_credits) -> 8 | L25: =IF(Wat01_tot=AIS_NA,0,Wat01_tot)+Wat02_tot+IF(Wat03_tot=AIS_NA,0,Wat03_tot)+IF(Wat04_tot=AIS_NA,0,Wat04_tot) -> 4 | N25: =BP_15/BP_05 -> 0.5 | P25: =VLOOKUP(ADPT,AA132:AK136,6,FALSE) -> 0.07 | R25: =ROUNDDOWN(BP_Water_score_hidden,4) -> 0.035 | AI25: =BP_36*BP_26 -> 0.035
H27: Materials | J27: =Mat01_credits+Mat02_credits+Mat03_credits+Mat05_credits+Mat06_Credits -> 14 | L27: =Mat01_tot+Mat02_tot+Mat03_tot+Mat05_tot+Mat06_tot -> 5 | N27: =BP_16/BP_06 -> 0.35714286 | P27: =VLOOKUP(ADPT,AA132:AK136,7,FALSE) -> 0.15 | R27: =ROUNDDOWN(BP_Materials_score_hidden,4) -> 0.0535 | AI27: =BP_38*BP_27 -> 0.053571429
H29: Waste | J29: =Wst01_credits+Wst02_credits+Wst03_credits+IF(Wst04_credits=AIS_NA,0,Wst04_credits)+Wst05_Credits+Wst06_Credits -> 10 | L29: =Wst01_tot+Wst02_tot+Wst03_tot+IF(Wst04_tot=AIS_NA,0,Wst04_tot)+Wst05_tot+Wst06_tot -> 1 | N29: =BP_18/BP_07 -> 0.1 | P29: =VLOOKUP(ADPT,AA132:AK136,8,FALSE) -> 0.06 | R29: =ROUNDDOWN(BP_Waste_score_hidden,4) -> 0.006 | AI29: =BP_39*BP_28 -> 0.006
H31: Land Use & Ecology | J31: =LE01_credits+LE02_credits+LE03_credits+LE04_credits+LE05_credits -> 13 | L31: =LE01_tot+LE02_tot+LE03_tot+LE04_tot+LE05_tot -> 8 | N31: =BP_19/BP_08 -> 0.61538462 | P31: =VLOOKUP(ADPT,AA132:AK136,9,FALSE) -> 0.13 | R31: =ROUNDDOWN(BP_LUE_score_hidden,4) -> 0.08 | AI31: =BP_40*BP_29 -> 0.08
H33: Pollution | J33: =IF(ISERROR(IF(Pol01_credits=AIS_NA,0,Pol01_credits)+IF(Pol02_credits=AIS_NA,0,Pol02_credits)+Pol03_credits+Pol04_credits+IF(Pol05_credits=AIS_NA,0,Pol05_credits)),AIS_statement49,IF(Pol01_credits=AIS_NA,0,Pol01_credits)+IF(Pol02_credits=AIS_NA,0,Pol02_credits)+Pol03_credits+Pol04_credits+IF(Pol05_credits=AIS_NA,0,Pol05_credits)) -> 12 | L33: =IF(Pol01_tot=AIS_NA,0,Pol01_tot)+IF(Pol02_tot=AIS_NA,0,Pol02_tot)+Pol03_tot+Pol04_tot+IF(Pol05_tot=AIS_NA,0,Pol05_tot) -> 5 | N33: =BP_20/BP_09 -> 0.41666667 | P33: =VLOOKUP(ADPT,AA132:AK136,10,FALSE) -> 0.08 | R33: =ROUNDDOWN(BP_Pollution_score_hidden,4) -> 0.0333 | S33: =IF(BP_09=AIS_statement49,"Note: All mandatory fields in the assessment details worksheet must be completed/defined in order to confirm the number of credits available in the pollution section for the building type requiring assessment.","") | AA33: 0.1 | AB33: Glen Watts: This is needed for the graph to show the number of innovation credits available as the weighting has been removed. | AI33: =BP_41*BP_30 -> 0.033333333
H35: Innovation | J35: =Inn01_credits -> 10 | L35: =Inn01_tot -> 4 | N35: =BP_21/BP_10 -> 0.4 | P35: 0.1 | R35: =ROUNDDOWN(BP_Innovation_score_hidden,4) -> 0.04 | AA35: =IFERROR(BP_Innovation_score,0) -> 0.04 | AB35: Glen Watts: This is innovation credits achieved, linked to the graph above as the change to an integer messed up the graph. | AI35: =BP_42*BP_31 -> 0.04
B36: Building Performance by Key Environmental Performance Indicator
B37: Energy (consumption/production) | H37: Life cycle stage | J37: Measurement | L37: Intensity | N37: Units | P37: Total | R37: Units
F39: Building operation[1] | H39: Use | J39: Modelled | L39: =IF(Ene01_80=AIS_statement91,IF(OR(Ene01_05="",Ene01_09=""),AIS_units22,Ene01_05+Ene01_09),IF(Ene01_80=AIS_statement90,IF(Ene01_05="",AIS_units22,Ene01_05))) -> 37 | N39: kWh/m2/yr | P39: =IF(Ene01_80=AIS_statement91,IF(OR(Ene01_05="",Ene01_09=""),AIS_units22,BP_KPI01*AD_GIA),IF(Ene01_80=AIS_statement90,IF(Ene01_05="",AIS_units22,BP_KPI01*AD_GIA))) -> 46435 | R39: kWh/yr
F41: Energy production[2] | H41: Use | J41: Modelled | L41: =IF(Ene01_KPI101="",AIS_units22,Ene01_KPI101) -> INA | N41: kWh/m2/yr | P41: =IF(Ene04_KPI01="",AIS_units22,Ene04_KPI01) -> INA | R41: kWh/yr
F43: Construction process[3] | H43: =IF(ADAS0=ADAS01,AIS_units22,AIS_construction) -> INA | J43: =IF(ADAS0=ADAS01,AIS_units22,AIS_measured) -> INA | L43: =IF(OR(ADAS0=ADAS01,Man03_01=AIS_No),AIS_units22,Man03_KPI02) -> INA | N43: =IF(ADAS0=ADAS01,AIS_units22,AIS_units02) -> INA | P43: =IF(OR(ADAS0=ADAS01,Man03_01=AIS_No),AIS_units22,Man03_kPI01) -> INA | R43: =IF(ADAS0=ADAS01,AIS_units22,AIS_units01) -> INA
F45: Transport[4] | H45: =IF(ADAS0=ADAS01,AIS_units22,AIS_construction) -> INA | J45: =IF(ADAS0=ADAS01,AIS_units22,AIS_measured) -> INA | L45: =IF(ISERROR(IF(OR(ADAS0=ADAS01,Man03_03=AIS_No),AIS_units22,Man03_KPI09+Man03_KPI14)),AIS_units22,IF(OR(ADAS0=ADAS01,Man03_03=AIS_No),AIS_units22,Man03_KPI09+Man03_KPI14) ) -> INA | N45: =IF(ADAS0=ADAS01,AIS_units22,AIS_units10) -> INA | P45: =IF(OR(ADAS0=ADAS01,Man03_03=AIS_No,AND(Man03_KPI08="",Man03_KPI13="")),AIS_units22,Man03_KPI08+Man03_KPI13) -> #REF! | R45: =IF(ADAS0=ADAS01,AIS_units22,AIS_units08) -> INA | S45: KPI has been removed
B47: Carbon dioxide Emissions
H48: BREEAM UK 2018 technical manual issue number
F49: Building operation[1] | H49: Use | J49: Modelled | L49: =IF(Ene01_80=AIS_statement91,IF(OR(Ene01_07=""),AIS_units22,Ene01_07),IF(Ene01_80=AIS_statement90,IF(Ene01_07="",AIS_units22,Ene01_07))) -> INA | N49: kgCO2eq/m2/yr | P49: =IF(Ene01_80=AIS_statement91,IF(OR(Ene01_07=""),AIS_units22,BP_KPI09*AD_GIA),IF(Ene01_80=AIS_statement90,IF(Ene01_07="",AIS_units22,BP_KPI09*AD_GIA))) -> INA | R49: kgCO2eq/yr
F51: Embodied[5] | H51: Cradle-to-grave | J51: Measured | L51: =IF(Mat01_KPI01=AIS_Missing_data,AIS_units22,Mat01_KPI02) -> #REF! | N51: kgCO2eq/m2 | P51: =IF(Mat01_KPI01=AIS_Missing_data,AIS_units22,Mat01_KPI01) -> #REF! | R51: kgCO2eq | S51: KPI has been removed
P53: Proportion of applicable main building elements that data reported covers | R53: =IF(Mat01_KPI01=AIS_Missing_data,AIS_units22,Mat01_KPI03) -> #REF! | S53: KPI has been removed
F55: Construction process[3] | H55: =IF(ADAS0=ADAS01,AIS_units22,AIS_construction) -> INA | J55: =IF(ADAS0=ADAS01,AIS_units22,AIS_measured) -> INA | L55: =IF(OR(ADAS0=ADAS01,Man03_01=AIS_No),AIS_units22,Man03_KPI04) -> INA | N55: =IF(ADAS0=ADAS01,AIS_units22,AIS_units03) -> INA | P55: =IF(OR(ADAS0=ADAS01,Man03_01=AIS_No),AIS_units22,Man03_KPI03) -> INA | R55: =IF(ADAS0=ADAS01,AIS_units22,AIS_units05) -> INA
F57: Transport[4] | H57: =IF(ADAS0=ADAS01,AIS_units22,AIS_construction) -> INA | J57: =IF(ADAS0=ADAS01,AIS_units22,AIS_measured) -> INA | L57: =IF(ISERROR(IF(OR(ADAS0=ADAS01,Man03_03=AIS_No),AIS_units22,Man03_KPI11+Man03_KPI16)),AIS_units22,IF(OR(ADAS0=ADAS01,Man03_03=AIS_No),AIS_units22,Man03_KPI11+Man03_KPI16)) -> INA | N57: =IF(ADAS0=ADAS01,AIS_units22,AIS_units04) -> INA | P57: =IF(OR(ADAS0=ADAS01,AND(Man03_KPI10="",Man03_KPI15="")),AIS_units22,Man03_KPI10+Man03_KPI15) -> INA | R57: =IF(ADAS0=ADAS01,AIS_units22,AIS_units05) -> INA
F59: Direct GHG emissions - Refrigerants[6] | H59: Use | J59: Modelled | L59: =IF(Pol01_02=AIS_No,0,IF(Pol01_07="",AIS_units22,Pol01_07)) -> 45 | N59: KgCO2eq/kWcoolth | P59: =IF(ISERROR(IF(Pol01_02=AIS_No,0,IF(Pol01_07="",AIS_units22,BP_KPI17*Pol01_21))),AIS_units22,IF(Pol01_02=AIS_No,0,IF(Pol01_07="",AIS_units22,BP_KPI17*Pol01_21))) -> INA | R59: KgCO2eq
B60: Emissions to outdoor air, soil and water
F62: Nitrogen Oxides (NOx)[7] | H62: Use | J62: Measured | L62: =IF(OR(Pol02_20="",AIS_units22),AIS_units22,SUM(IF(OR(Pol02_29="INA",Pol02_29="N/A"),0,Pol02_29))+(IF(OR(Pol02_21="INA",Pol02_21="N/A"),0,Pol02_21))+(IF(OR(Pol02_20="INA",Pol02_20="N/A",Pol02_20="HIB"),0,Pol02_20))) -> #REF! | N62: mg/kWh | P62: =IF(OR(Pol01_KPI02="",Pol01_KPI02=AIS_units22),AIS_units22,(Pol01_KPI02*AD_GIA)*(Pol02_20+Pol02_29)/1000000) -> #REF! | R62: kg/yr | S62: KPI has been removed
B63: Use of freshwater resource
F65: Building operation[8] | H65: =IF(Wat01_01=AIS_option09,AIS_use,AIS_units22) -> INA | J65: =IF(Wat01_01=AIS_option09,AIS_Modelled,AIS_units22) -> INA | L65: =IF(OR(Wat01_KPI01="",Wat01_KPI01=AIS_units22),AIS_units22,IF(Wat01_01=AIS_option09,Wat01_KPI01,AIS_units22)) -> INA | N65: =IF(Wat01_01=AIS_option09,AIS_units14,AIS_units22) -> INA | P65: =IF(OR(Wat01_KPI02="",Wat01_KPI01="",Wat01_KPI02=AIS_units22,Wat01_KPI01=AIS_units22),AIS_units22,IF(Wat01_01=AIS_option09,Wat01_KPI02*Wat01_KPI01,AIS_units22)) -> INA | R65: =IF(Wat01_01=AIS_option09,AIS_units26,AIS_units22) -> INA
F67: Construction process[9] | H67: =IF(ADAS0=ADAS01,AIS_units22,AIS_use) -> INA | J67: =IF(ADAS0=ADAS01,AIS_units22,AIS_measured) -> INA | L67: =IF(OR(ADAS0=ADAS01,'Assessment Issue Scoring'!J82=AIS_No,'Assessment Issue Scoring'!J82=""),AIS_units22,Man03_KPI06) -> INA | N67: =IF(ADAS0=ADAS01,AIS_units22,AIS_units06) -> INA | P67: =IF(OR(ADAS0=ADAS01,'Assessment Issue Scoring'!J82=AIS_No,'Assessment Issue Scoring'!J82=""),AIS_units22,Man03_KPI05) -> INA | R67: =IF(ADAS0=ADAS01,AIS_units22,AIS_units07) -> INA
B68: Construction waste and recovery
...

Sheet Assessment Issue Scoring
B1: HIDDEN CONTENT AND FORUMULAE IS PRESENT WITHIN THESE COLUMNS. DO NOT DELETE OR ADD CONTENT OR COLOUMNS OR ROWS WITHOUT FIRST UN-HIDING ALL AND CHECKING FOR CONTENT THAT MAY BE HIDDEN. | Y1: HIDDEN CONTENT AND FORUMULAE IS PRESENT WITHIN THESE COLUMNS. DO NOT DELETE OR ADD CONTENT OR COLOUMNS OR ROWS WITHOUT FIRST UN-HIDING ALL AND CHECKING FOR CONTENT THAT MAY BE HIDDEN. | AQ1: HIDDEN CONTENT AND FORUMULAE IS PRESENT WITHIN THESE COLUMNS. DO NOT DELETE OR ADD CONTENT OR COLOUMNS OR ROWS WITHOUT FIRST UN-HIDING ALL AND CHECKING FOR CONTENT THAT MAY BE HIDDEN.
B4: =IF(OR(projecttype='Assessment Details'!Z200,projecttype=""),"BREEAM UK New Construction 2018 Assessment Report: Assessment Issue Scoring","BREEAM UK Bespoke New Construction 2018 Assessment Report: Assessment Issue Scoring") -> BREEAM UK New Construction 2018 Assessment Report: Assessment Issue Scoring
B5: =IF(AD_Mandatory_fields_text=AIS_statement09,"Warning: All Mandatory fields in the assessment details worksheet must be completed/defined to reveal the applicable assessment issues.","") | Z5: Hide all these columns before locking and publishing tool
F9: Building name | H9: =IF(ISBLANK(ADBN),"",ADBN) -> 199-203 Henley Road | R9: BREEAM Scheme | V9: =IF(ISBLANK(AD_scheme),"",AD_scheme) -> New Construction
F11: Building score (%) | H11: =BP_OverallScore -> 0.57 | R11: Building Type | V11: =IF(ISBLANK(ADBT0),"",ADBT0) -> Residential institution (long term stay)
F13: Building rating | H13: =BP_BREEAMRating -> Very Good | R13: Assessment stage | V13: =IF(ISBLANK(ADAS0),"",ADAS0) -> Design (interim)
F15: Minimum standards level achieved | H15: =BP_MinStandards -> Excellent level | R15: Project Scope | V15: =IF(ISBLANK(ADPT),"",ADPT) -> Fully fitted
B17: MANAGEMENT
B19: Man 01 Project brief and design
F21: No. of BREEAM credits available | H21: =IF(OR(AD_scheme=ADBS2,ADPT=ADPT02),2,4) -> 4 | N21: Available contribution to overall score | P21: =(BP_32/BP_01)*Man01_credits -> 0.020952381
F23: No. of BREEAM exemplary credits available | H23: =IF(OR(AD_scheme=ADBS2,ADPT=ADPT02),2,0) -> 0 | N23: Minimum standards applicable | P23: No
B24: Assessment Criteria | J24: Compliant? | L24: Credits available | N24: Credits achieved
H26: Project delivery planning | J26: Yes | L26: 1 | N26: =IF(Man01_01=AIS_Yes,Man01_10,0) -> 1
H27: Stakeholder consultation (interested parties) | J27: Yes | L27: 1 | N27: =IF(Man01_02=AIS_Yes,Man01_11,0) -> 1
B29: Prerequisite: Have the client and the contractor formally agreed performance targets? | J29: Yes
H30: BREEAM Advisory Professional (Concept Design) | J30: Yes | L30: 1 | N30: =IF(AND(J29=AIS_Yes,Man01_03=AIS_Yes),Man01_12,0) -> 1
H31: BREEAM Advisory Professional (Developed Design) | J31: Yes | L31: =1 -> 1 | N31: =IF(AND(J29=AIS_Yes,Man01_04=AIS_Yes,Man01_21=Man01_12),Man01_13,0) -> 1 | P31: =IF(AND(Man01_04=AIS_Yes,Man01_03<>AIS_Yes),"The first Sustainability Champion credit must be achieved before the second can be awarded.","")
F33: Total BREEAM credits achieved | H33: =IF(ISERROR(Man01_Tot_Err), 0, Man01_Tot_Err) -> 4
F35: Total contribution to overall building score | H35: =(Man01_38/Man01_credits)*Man01_Tot -> 0.020952381
F37: Total BREEAM exemplary credits achieved | H37: =J37 -> N/A | J37: =IF(OR(AD_scheme=ADBS2,ADPT=ADPT02),Man01_21+Man01_22,AIS_NA) -> N/A
F39: Minimum standard(s) level | H39: N/A
B41: Assessor comments/notes:
B43: Man 02 Life cycle cost and service life planning
F45: No. of BREEAM credits available | H45: =IF(OR(AD_scheme=ADBS2,ADPT=ADPT02), 1,4) -> 4 | N45: Available contribution to overall score | P45: =(BP_32/BP_01)*Man02_credits -> 0.020952381
F47: No. of BREEAM exemplary credits available | H47: 0 | N47: Minimum standards applicable | P47: No
B49: Assessment Criteria | J49: Compliant? | L49: Credits available | N49: Credits achieved
H50: Elemental LCC | J50: No | L50: =IF(OR(AD_scheme=ADBS2,ADPT=ADPT02),0,2) -> 2 | N50: =IF(OR(AD_scheme=ADBS2,ADPT=ADPT02),0,IF(Man02_01=AIS_Yes,2,0)) -> 0
H51: Component level LCC options appraisal | J51: No | L51: =IF(OR(AD_scheme=ADBS2, ADPT=ADPT02),0, 1) -> 1 | N51: =IF(OR(AD_scheme=ADBS2,ADPT=ADPT02),0,IF(Man02_14=AIS_Yes,1,0)) -> 0
H52: Capital cost reporting | J52: Yes | L52: 1 | N52: =IF(Man02_16="",0,1) -> 1 | R52: =IF(Man02_16<"","",IF(Man02_15=AIS_Yes,"To achieve this credit Capital cost of the project must be confirmed",""))
H53: Capital cost of the project | J53: 223 | L53: £/m2
F55: Total BREEAM credits achieved | H55: =SUM(N50:N52) -> 1
F57: Total contribution to overall building score | H57: =(Man02_11/Man02_credits)*Man02_Tot -> 0.0052380952
F59: Total BREEAM exemplary credits achieved | H59: =AIS_NA -> N/A
F61: Minimum standard(s) level | H61: N/A
B63: Assessor comments/notes:
B65: Man 03 Responsible construction practices
F67: No. of BREEAM credits available | H67: =IF(OR(AD_scheme=ADBS2,ADPT=ADPT02),4,6) -> 6 | N67: Available contribution to overall score | P67: =(BP_32/BP_01)*Man03_credits -> 0.031428571
F69: No. of BREEAM exemplary credits available | H69: =IF(OR(AD_scheme=ADBS2,ADPT=ADPT02),2,1) -> 1 | N69: Minimum standards applicable | P69: Yes
B70: Assessment Criteria | J70: Compliant? | L70: Credits available | N70: Credits achieved
B72: Prerequisite: Are all timber and timber-based products used during the construction process of the project 'legally harvested and traded timber'? | J72: Yes
...

Sheet Assessment Data
A1: This is a legacy tab, no longer in use. Will be replaced by MACRO.
BL2: ='Assessment Rating & KPIs'!B37 -> Energy (consumption/production) | BV2: ='Assessment Rating & KPIs'!B47 -> Carbon dioxide Emissions | CG2: ='Assessment Rating & KPIs'!B60 -> Emissions to outdoor air, soil and water | CI2: ='Assessment Rating & KPIs'!B63 -> Use of freshwater resource | CM2: ='Assessment Rating & KPIs'!B68 -> Construction waste and recovery | DC2: ='Assessment Rating & KPIs'!B85 -> Sourcing of materials | DD2: ='Assessment Rating & KPIs'!#REF! -> #REF! | DE2: ='Assessment Rating & KPIs'!B93 -> Indoor Air Quality
A3: ='Assessment Details'!B5 -> General information | F3: ='Assessment Details'!B18 -> Building details | AP3: ='Assessment Details'!B86 -> Project team details | AZ3: ='Assessment Rating & KPIs'!B4 -> Overall Building Performance | BB3: ='Assessment Rating & KPIs'!B13 -> Building Performance by Environment Section | BL3: ='Assessment Rating & KPIs'!F39 -> Building operation[1] | BP3: ='Assessment Rating & KPIs'!F41 -> Energy production[2] | BR3: ='Assessment Rating & KPIs'!F45 -> Transport[4] | BT3: ='Assessment Rating & KPIs'!F43 -> Construction process[3] | BV3: ='Assessment Rating & KPIs'!F49 -> Building operation[1] | BX3: ='Assessment Rating & KPIs'!F55 -> Construction process[3] | BZ3: ='Assessment Rating & KPIs'!F57 -> Transport[4] | CB3: ='Assessment Rating & KPIs'!F51 -> Embodied[5] | CE3: ='Assessment Rating & KPIs'!F59 -> Direct GHG emissions - Refrigerants[6] | CG3: ='Assessment Rating & KPIs'!F62 -> Nitrogen Oxides (NOx)[7] | CI3: ='Assessment Rating & KPIs'!F65 -> Building operation[8] | CK3: ='Assessment Rating & KPIs'!F67 -> Construction process[9] | CM3: ='Assessment Rating & KPIs'!F70 -> Construction waste[10] | CO3: ='Assessment Rating & KPIs'!F72 -> Construction waste diverted from landfill[10] | CQ3: ='Assessment Rating & KPIs'!F74 -> Demolition waste diverted from landfill[11] | CS3: ='Assessment Rating & KPIs'!F76 -> Demolition waste to disposal[11] | CU3: ='Assessment Rating & KPIs'!F78 -> Material for re-use[12] | CW3: ='Assessment Rating & KPIs'!F80 -> Material for recycling[12] | CY3: ='Assessment Rating & KPIs'!F82 -> Material for energy recovery[12] | DA3: ='Assessment Rating & KPIs'!F84 -> Hazardous waste to disposal[12] | DC3: ='Assessment Rating & KPIs'!F87 -> Materials responsibly sourced[13] | DD3: ='Assessment Rating & KPIs'!#REF! -> #REF! | DE3: ='Assessment Rating & KPIs'!F95 -> Formaldehyde concentration level[14] | DF3: ='Assessment Rating & KPIs'!F97 -> Total volatile organic compound concentration[14]
A4: ='Assessment Details'!B7 -> BRE Assessment reference no. | B4: ='Assessment Details'!B9 -> Client name | C4: ='Assessment Details'!B11 -> Building end user/occupier | D4: ='Assessment Details'!B13 -> Assessor name | E4: ='Assessment Details'!B17 -> Assessor organisation | F4: ='Assessment Details'!H20 -> Building name | G4: ='Assessment Details'!B22 -> Building address | K4: ='Assessment Details'!H30 -> County | L4: ='Assessment Details'!H32 -> Post code | M4: ='Assessment Details'!H44 -> Building type (main description) | N4: ='Assessment Details'!H46 -> Building type (sub-group) | O4: ='Assessment Details'!H54 -> Building floor area (GIA) m2 | P4: ='Assessment Details'!H56 -> Building floor area (NIFA) m2 | Q4: ='Assessment Details'!H36 -> BREEAM scheme | T4: ='Assessment Details'!H38 -> BREEAM version | U4: ='Assessment Details'!H40 -> BREEAM UK 2018 technical manual issue number | V4: ='Assessment Details'!H42 -> Project scope | W4: ='Assessment Details'!H52 -> Assessment stage | X4: ='Assessment Details'!#REF! -> #REF! | Y4: ='Assessment Details'!#REF! -> #REF! | Z4: ='Assessment Details'!H60 -> Building services - heating system type | AA4: ='Assessment Details'!H62 -> Building services - cooling system type | AB4: ='Assessment Details'!#REF! -> #REF! | AC4: ='Assessment Details'!#REF! -> #REF! | AD4: ='Assessment Details'!#REF! -> #REF! | AE4: ='Assessment Details'!H64 -> Are commercial or industrial-sized refrigeration and storage systems specified? | AF4: ='Assessment Details'!#REF! -> #REF! | AG4: ='Assessment Details'!H66 -> Are building user lifts present? | AH4: ='Assessment Details'!H70 -> Are laboratories present? | AI4: ='Assessment Details'!H72 -> What percentage of total building area do laboratories represent? | AJ4: ='Assessment Details'!H74 -> Are there fume cupboard(s) and/or other containment devices present? | AK4: ='Assessment Details'!#REF! -> #REF! | AL4: ='Assessment Details'!#REF! -> #REF! | AM4: ='Assessment Details'!#REF! -> #REF! | AN4: ='Assessment Details'!#REF! -> #REF! | AO4: ='Assessment Details'!#REF! -> #REF! | AP4: ='Assessment Details'!H88 -> Developer | AQ4: ='Assessment Details'!H90 -> Principal contractor | AR4: ='Assessment Details'!H92 -> Architect | AS4: ='Assessment Details'!H94 -> Project management | AT4: ='Assessment Details'!H96 -> Building services | AU4: ='Assessment Details'!H98 -> BREEAM Accredited Professional | AV4: ='Assessment Details'!H100 -> Other project team member 1 | AW4: ='Assessment Details'!H102 -> Other project team member 2 | AX4: ='Assessment Details'!H104 -> Other project team member 3 | AY4: ='Assessment Details'!H106 -> Other project team member 4 | AZ4: ='Assessment Rating & KPIs'!D8 -> BREEAM rating | BA4: ='Assessment Rating & KPIs'!D10 -> Total Score | BB4: ='Assessment Rating & KPIs'!H17 -> Management | BC4: ='Assessment Rating & KPIs'!H19 -> Health & Wellbeing | BD4: ='Assessment Rating & KPIs'!H21 -> Energy | BE4: ='Assessment Rating & KPIs'!H23 -> Transport | BF4: ='Assessment Rating & KPIs'!H25 -> Water | BG4: ='Assessment Rating & KPIs'!H27 -> Materials | BH4: ='Assessment Rating & KPIs'!H29 -> Waste | BI4: ='Assessment Rating & KPIs'!H31 -> Land Use & Ecology | BJ4: ='Assessment Rating & KPIs'!H33 -> Pollution | BK4: ='Assessment Rating & KPIs'!H35 -> Innovation | BL4: ='Assessment Rating & KPIs'!L37 -> Intensity | BM4: ='Assessment Rating & KPIs'!P37 -> Total | BP4: =$BL$4 -> Intensity | BQ4: =$BM$4 -> Total | BR4: =$BL$4 -> Intensity | BS4: =$BM$4 -> Total | BT4: =$BL$4 -> Intensity | BU4: =$BM$4 -> Total | BV4: =$BL$4 -> Intensity | BW4: =$BM$4 -> Total | BX4: =$BL$4 -> Intensity | BY4: =$BM$4 -> Total | BZ4: =$BL$4 -> Intensity | CA4: =$BM$4 -> Total | CB4: =$BL$4 -> Intensity | CC4: =$BM$4 -> Total | CD4: ='Assessment Rating & KPIs'!P53 -> Proportion of applicable main building elements that data reported covers | CE4: =$BL$4 -> Intensity | CF4: =$BM$4 -> Total | CG4: =$BL$4 -> Intensity | CH4: =$BM$4 -> Total | CI4: =$BL$4 -> Intensity | CJ4: =$BM$4 -> Total | CK4: =$BL$4 -> Intensity | CL4: =$BM$4 -> Total | CM4: =$BL$4 -> Intensity | CN4: =$BM$4 -> Total | CO4: =$BL$4 -> Intensity | CP4: =$BM$4 -> Total | CQ4: =$BL$4 -> Intensity | CR4: =$BM$4 -> Total | CS4: =$BL$4 -> Intensity | CT4: =$BM$4 -> Total | CU4: =$BL$4 -> Intensity | CV4: =$BM$4 -> Total | CW4: =$BL$4 -> Intensity | CX4: =$BM$4 -> Total | CY4: =$BL$4 -> Intensity | CZ4: =$BM$4 -> Total | DA4: =$BL$4 -> Intensity | DB4: =$BM$4 -> Total | DC4: =$BM$4 -> Total | DD4: =$BL$4 -> Intensity | DE4: =$BL$4 -> Intensity | DF4: =$BL$4 -> Intensity
A5: No./Text | B5: Text | C5: Text | D5: Text | E5: Text | F5: Text | G5: Text | H5: Text | I5: Text | J5: Text | K5: Text | L5: Text | M5: Text | N5: Text | O5: No. | P5: No. | Q5: Text | T5: Text | U5: No. | V5: Text | W5: Text | X5: Text | Y5: Text | Z5: Text | AA5: Text | AB5: Text | AC5: Text | AD5: Text | AE5: Text | AF5: Text | AG5: Text | AH5: Text | AI5: Text | AJ5: Text | AK5: Text | AL5: Text | AM5: Text | AN5: Text | AO5: % | AP5: Text | AQ5: Text | AR5: Text | AS5: Text | AT5: Text | AU5: Text | AV5: Text | AW5: Text | AX5: Text | AY5: Text | AZ5: Text | BA5: % | BB5: % | BC5: % | BD5: % | BE5: % | BF5: % | BG5: % | BH5: % | BI5: % | BJ5: % | BK5: % | BL5: ='Assessment Rating & KPIs'!N39 -> kWh/m2/yr | BM5: ='Assessment Rating & KPIs'!R39 -> kWh/yr | BP5: ='Assessment Rating & KPIs'!N41 -> kWh/m2/yr | BQ5: ='Assessment Rating & KPIs'!R41 -> kWh/yr | BR5: ='Assessment Rating & KPIs'!N45 -> INA | BS5: ='Assessment Rating & KPIs'!R45 -> INA | BT5: ='Assessment Rating & KPIs'!N43 -> INA | BU5: ='Assessment Rating & KPIs'!R43 -> INA | BV5: ='Assessment Rating & KPIs'!N49 -> kgCO2eq/m2/yr | BW5: ='Assessment Rating & KPIs'!R49 -> kgCO2eq/yr | BX5: ='Assessment Rating & KPIs'!N55 -> INA | BY5: ='Assessment Rating & KPIs'!R55 -> INA | BZ5: ='Assessment Rating & KPIs'!N57 -> INA | CA5: ='Assessment Rating & KPIs'!R57 -> INA | CB5: ='Assessment Rating & KPIs'!N51 -> kgCO2eq/m2 | CC5: ='Assessment Rating & KPIs'!R51 -> kgCO2eq | CD5: % | CE5: ='Assessment Rating & KPIs'!N59 -> KgCO2eq/kWcoolth | CF5: ='Assessment Rating & KPIs'!R59 -> KgCO2eq | CG5: ='Assessment Rating & KPIs'!N62 -> mg/kWh | CH5: ='Assessment Rating & KPIs'!R62 -> kg/yr | CI5: ='Assessment Rating & KPIs'!N65 -> INA | CJ5: ='Assessment Rating & KPIs'!R65 -> INA | CK5: ='Assessment Rating & KPIs'!N67 -> INA | CL5: ='Assessment Rating & KPIs'!R67 -> INA | CM5: ='Assessment Rating & KPIs'!N70 -> tonnes/100m2 | CN5: ='Assessment Rating & KPIs'!R70 -> tonnes | CO5: ='Assessment Rating & KPIs'!N72 -> % | CP5: ='Assessment Rating & KPIs'!R72 -> tonnes | CQ5: ='Assessment Rating & KPIs'!N74 -> % | CR5: ='Assessment Rating & KPIs'!R74 -> INA | CS5: ='Assessment Rating & KPIs'!N76 -> % | CT5: ='Assessment Rating & KPIs'!R76 -> INA | CU5: ='Assessment Rating & KPIs'!N78 -> tonnes/100m2 | CV5: ='Assessment Rating & KPIs'!R78 -> tonnes | CW5: ='Assessment Rating & KPIs'!N80 -> tonnes/100m2 | CX5: ='Assessment Rating & KPIs'!R80 -> tonnes | CY5: ='Assessment Rating & KPIs'!N82 -> tonnes/100m2 | CZ5: ='Assessment Rating & KPIs'!R82 -> tonnes | DA5: ='Assessment Rating & KPIs'!N84 -> tonnes/100m2 | DB5: ='Assessment Rating & KPIs'!R84 -> tonnes | DC5: ='Assessment Rating & KPIs'!N87 -> % | DD5: ='Assessment Rating & KPIs'!#REF! -> #REF! | DE5: ='Assessment Rating & KPIs'!N95 -> INA | DF5: ='Assessment Rating & KPIs'!N97 -> INA
A6: =AD_ref -> BREEAM-0098-8877 | B6: =AD_client -> ? | C6: =AD_Builduser -> 0 | D6: =AD_assessor -> Gaynor Smissen | E6: =AD_Assessor_org -> Kent Sustainability | F6: =ADBN -> 199-203 Henley Road | G6: =AD_Add01 -> 199-203 Henley Road | H6: =AD_Add02 -> Caversham | I6: =AD_Add03 -> Reading | J6: =AD_Add04 -> 0 | K6: =AD_County -> Berkshire | L6: =AD_PC -> RG4 6LG | M6: =ADBT0 -> Residential institution (long term stay) | N6: =ADBT_sub01 -> Residential institution (long term stay) - Residential care home | O6: =AD_GIA -> 1255 | P6: =AD_NIFA -> 1125 | Q6: =AD_scheme -> New Construction | T6: =AD_version -> 2018 (SD5078) | U6: =AD_SchIss -> SD5078 Issue 3.0 | V6: =ADPT -> Fully fitted | W6: =ADAS0 -> Design (interim) | X6: =AD_Location -> #REF! | Y6: =AD_climate -> #REF! | Z6: =AD_heat -> Air system | AA6: =AD_cool -> Comfort cooling | AB6: =AD_DHWS -> #REF! | AC6: =AD_controls -> #REF! | AD6: =ADIND_option02 -> #REF! | AE6: =AD_refrig -> No | AF6: =AD_landscape -> #NAME? | AG6: =AD_Trans -> Yes | AH6: =AD_Labsize -> No | AI6: =AD_catlevel -> 0 | AJ6: =ADFume_option01 -> 0 | AK6: =AD_Vehiclewash -> 0 | AL6: =ADHC_option01 -> #REF! | AM6: =ADIND_option01 -> #REF! | AN6: =AD_MultiRes_option01 -> SBEM only | AO6: =AD_MultiRes_option02 -> SBEM only | AP6: =AD_Developer -> 0 | AQ6: =AD_Contractor -> 0 | AR6: =AD_Architect -> 0 | AS6: =AD_Projman -> 0 | AT6: =AD_Buildserve -> 0 | AU6: =AD_BREEAMAP -> 0 | AV6: =AD_Other01 -> 0 | AW6: =AD_Other02 -> 0 | AX6: =AD_other03 -> 0 | AY6: =AD_Other04 -> 0 | AZ6: =BP_BREEAMRating -> Very Good | BA6: =BP_OverallScore -> 0.57 | BB6: =BP_Man_score -> 0.0942 | BC6: =BP_HW_score -> 0.0544 | BD6: =BP_Energy_score -> 0.099 | BE6: =BP_Trans_score -> 0.075 | BF6: =BP_Water_score -> 0.035 | BG6: =BP_Materials_score -> 0.0535 | BH6: =BP_Waste_Score -> 0.006 | BI6: =BP_LUE_score -> 0.08 | BJ6: =BP_Pollution_score -> 0.0333 | BK6: =BP_Innovation_score -> 0.04 | BL6: =BP_KPI01 -> 37 | BM6: =BP_KPI02 -> 46435 | BP6: =BP_KPI07 -> INA | BQ6: =BP_KPI08 -> INA | BR6: =BP_KPI05 -> INA | BS6: =BP_KPI06 -> #REF! | BT6: =BP_KPI03 -> INA | BU6: =BP_KPI04 -> INA | BV6: =BP_KPI09 -> INA | BW6: =BP_KPI10 -> INA | BX6: =BP_KPI11 -> INA | BY6: =BP_KPI12 -> INA | BZ6: =BP_KPI13 -> INA | CA6: =BP_KPI14 -> INA | CB6: =BP_KPI15 -> #REF! | CC6: =BP_KPI16 -> #REF! | CD6: =BP_KPI49 -> #REF! | CE6: =BP_KPI17 -> 45 | CF6: =BP_KPI18 -> INA | CG6: =BP_KPI21 -> #REF! | CH6: =BP_KPI22 -> #REF! | CI6: =BP_KPI23 -> INA | CJ6: =BP_KPI24 -> INA | CK6: =BP_KPI25 -> INA | CL6: =BP_KPI26 -> INA | CM6: =BP_KPI27 -> INA | CN6: =BP_KPI28 -> INA | CO6: =BP_KPI29 -> INA | CP6: =BP_KPI30 -> INA | CQ6: =BP_KPI31 -> INA | CR6: =BP_KPI32 -> INA | CS6: =BP_KPI33 -> INA | CT6: =BP_KPI34 -> INA | CU6: =BP_KPI37 -> INA | CV6: =BP_KPI38 -> INA | CW6: =BP_KPI39 -> INA | CX6: =BP_KPI40 -> INA | CY6: =BP_KPI41 -> INA | CZ6: =BP_KPI42 -> INA | DA6: =BP_KPI35 -> INA | DB6: =BP_KPI36 -> INA | DC6: =BP_KPI43 -> 0.6 | DD6: =BP_KPI45 -> #REF! | DE6: =BP_KPI47 -> - | DF6: =BP_KPI48 -> INA
A8: =Man_01 -> Man 01 Project brief and design | M8: =Man_02 -> Man 02 Life cycle cost and service life planning | T8: =Man_03 -> Man 03 Responsible construction practices | AC8: =Man_04 -> Man 04 Commisioning and handover | AI8: =Man_05 -> Man 05 Aftercare | AN8: =Hea_01 -> Hea 01 Visual Comfort | AW8: =Hea_02 -> Hea 02 Indoor Air Quality | BE8: =Hea_03 -> #REF! | BI8: =Hea_04 -> Hea 04 Thermal comfort | BP8: ='Assessment Issue Scoring'!B249 -> Hea 05 Acoustic Performance | BT8: =Hea_06 -> Hea 06 Security | BX8: =Ene_01 -> Ene 01 Reduction of energy use and carbon emissions | CF8: Ene01 modelling data (SBEM or SAP): note where both SAP and SBEM are used on an assessed project this data relates to SBEM (non-dwellings) data only (the columns further on contain the SAP data) | CR8: Ene01: note where both SAP and SBEM are used on an assessed project this data relates to SAP (non-dwellings) data. | DE8: =Ene_02 -> Ene 02 Energy monitoring | DI8: =Ene_03 -> Ene 03 External lighting | DL8: =Ene_04 -> Ene 04 Low carbon design | DX8: =Ene_05 -> Ene 05 Energy efficient cold storage | ED8: =Ene_06 -> Ene 06 Energy efficient transportation systems | EH8: =Ene_07 -> Ene 07 Energy efficient laboratory systems | EW8: =Ene_08 -> Ene 08 Energy efficient equipment | EZ8: Equipment present | FH8: Equipment defined as significant majority contributor | FP8: =Ene_09 -> #REF! | FS8: =Tra_01 -> Tra 01 Transport assessment and travel plan | FZ8: =Tra_02 -> Tra 02 Sustainable transport measures | GC8: =Tra_03 -> #REF! | GJ8: =Tra_04 -> #REF! | GM8: =Tra_05 -> #REF! | GP8: =Wat_01 -> Wat 01 Water Consumption | HB8: =Wat_02 -> Wat 02 Water Monitoring | HH8: =Wat_03 -> Wat 03 Water Leak Detection and Prevention | HL8: =Wat_04 -> Wat 04 Water Efficient Equipment
A9: ='Assessment Issue Scoring'!F33 -> Total BREEAM credits achieved | B9: ='Assessment Issue Scoring'!F35 -> Total contribution to overall building score | C9: ='Assessment Issue Scoring'!F37 -> Total BREEAM exemplary credits achieved | D9: ='Assessment Issue Scoring'!H26 -> Project delivery planning | E9: ='Assessment Issue Scoring'!H27 -> Stakeholder consultation (interested parties) | F9: ='Assessment Issue Scoring'!H30 -> BREEAM Advisory Professional (Concept Design) | G9: ='Assessment Issue Scoring'!H31 -> BREEAM Advisory Professional (Developed Design) | M9: ='Assessment Issue Scoring'!F55 -> Total BREEAM credits achieved | N9: ='Assessment Issue Scoring'!F59 -> Total BREEAM exemplary credits achieved | O9: ='Assessment Issue Scoring'!F57 -> Total contribution to overall building score | P9: ='Assessment Issue Scoring'!H50 -> Elemental LCC | Q9: ='Assessment Issue Scoring'!H51 -> Component level LCC options appraisal | R9: ='Assessment Issue Scoring'!H52 -> Capital cost reporting | S9: ='Assessment Issue Scoring'!H53 -> Capital cost of the project | T9: ='Assessment Issue Scoring'!F106 -> Total BREEAM credits achieved | U9: ='Assessment Issue Scoring'!F108 -> Total contribution to overall building score | V9: ='Assessment Issue Scoring'!B76 -> Environmental management | W9: ='Assessment Issue Scoring'!#REF! -> #REF! | X9: ='Assessment Issue Scoring'!#REF! -> #REF! | Y9: ='Assessment Issue Scoring'!B78 -> Prerequisite: Have the client and the contractor formally agreed performance targets? | Z9: ='Assessment Issue Scoring'!#REF! -> #REF! | AA9: ='Assessment Issue Scoring'!#REF! -> #REF! | AB9: Construction site management credit achieved | AC9: ='Assessment Issue Scoring'!F129 -> Total BREEAM credits achieved | AD9: ='Assessment Issue Scoring'!F131 -> Total contribution to overall building score | AE9: ='Assessment Issue Scoring'!H123 -> Commissioning and testing schedule and responsibilities | AF9: ='Assessment Issue Scoring'!H124 -> Commissioning - design and preparation | AG9: ='Assessment Issue Scoring'!H125 -> Testing and inspecting building fabric | AH9: ='Assessment Issue Scoring'!H126 -> Handover - Has a Building User Guide been developed prior to handover? | AI9: ='Assessment Issue Scoring'!F155 -> Total BREEAM credits achieved | AJ9: ='Assessment Issue Scoring'!F157 -> Total contribution to overall building score | AK9: ='Assessment Issue Scoring'!H150 -> Aftercare support | AL9: ='Assessment Issue Scoring'!H151 -> Commissioning - implementation | AM9: ='Assessment Issue Scoring'!H152 -> Post occupancy evaluation | AN9: ='Assessment Issue Scoring'!F185 -> Total BREEAM credits achieved | AO9: ='Assessment Issue Scoring'!F187 -> Total contribution to overall building score | AP9: ='Assessment Issue Scoring'!F189 -> Total BREEAM exemplary credits achieved | AQ9: ='Assessment Issue Scoring'!H176 -> Control of glare from sunlight | AR9: ='Assessment Issue Scoring'!H177 -> Daylighting (building type dependent) | AS9: ='Assessment Issue Scoring'!H178 -> View out | AT9: ='Assessment Issue Scoring'!H179 -> Internal and external lighting levels, zoning and controls | AU9: ='Assessment Issue Scoring'!#REF! -> #REF! | AV9: ='Assessment Issue Scoring'!#REF! -> #REF! | AW9: ='Assessment Issue Scoring'!F212 -> Total BREEAM credits achieved | AX9: ='Assessment Issue Scoring'!F214 -> Total contribution to overall building score | AY9: ='Assessment Issue Scoring'!H202 -> Prerequisite: Indoor air quality (IAQ) plan | AZ9: ='Assessment Issue Scoring'!H204 -> Emissions from building products | BA9: ='Assessment Issue Scoring'!H205 -> Post-construction indoor air quality measurement | BB9: ='Assessment Issue Scoring'!#REF! -> #REF! | BC9: ='Assessment Issue Scoring'!H207 -> Exemplary level criteria - Emissions from building products | BD9: ='Assessment Issue Scoring'!#REF! -> #REF! | BE9: ='Assessment Issue Scoring'!#REF! -> #REF! | BF9: ='Assessment Issue Scoring'!#REF! -> #REF! | BG9: ='Assessment Issue Scoring'!#REF! -> #REF! | BH9: ='Assessment Issue Scoring'!#REF! -> #REF! | BI9: ='Assessment Issue Scoring'!F239 -> Total BREEAM credits achieved | BJ9: ='Assessment Issue Scoring'!F241 -> Total contribution to overall building score | BK9: ='Assessment Issue Scoring'!H230 -> Design for future thermal comfort | BL9: ='Assessment Issue Scoring'!B232 -> Thermal zoning and control | BM9: ='Assessment Issue Scoring'!H229 -> Thermal modelling | BN9: ='Assessment Issue Scoring'!H236 -> Predicted Mean Vote (PMV) | BO9: ='Assessment Issue Scoring'!H237 -> Predicted Percentage Dissatisfied (PPD) | BP9: ='Assessment Issue Scoring'!F262 -> Total BREEAM credits achieved | BQ9: ='Assessment Issue Scoring'!F264 -> Total contribution to overall building score | BR9: ='Assessment Issue Scoring'!#REF! -> #REF! | BS9: ='Assessment Issue Scoring'!#REF! -> #REF! | BT9: ='Assessment Issue Scoring'!F282 -> Total BREEAM credits achieved | BU9: ='Assessment Issue Scoring'!F284 -> Total contribution to overall building score | BV9: ='Assessment Issue Scoring'!H279 -> Security of site and building | BW9: ='Assessment Issue Scoring'!H280 -> Exemplary level criteria | BX9: ='Assessment Issue Scoring'!F369 -> Total BREEAM credits achieved | BY9: ='Assessment Issue Scoring'!F371 -> Total contribution to overall building score | BZ9: ='Assessment Issue Scoring'!F373 -> Total BREEAM exemplary credits achieved | CA9: Regulated energy consumption met via carbon neutral sources | CB9: ='Assessment Issue Scoring'!#REF! -> #REF! | CC9: ='Assessment Issue Scoring'!#REF! -> #REF! | CD9: Energy modelling outputs used | CE9: Area weighted percentage improvement on Target Emission Rate | CF9: ='Assessment Issue Scoring'!#REF! -> #REF! | CG9: ='Assessment Issue Scoring'!#REF! -> #REF! | CH9: ='Assessment Issue Scoring'!#REF! -> #REF! | CI9: ='Assessment Issue Scoring'!#REF! -> #REF! | CJ9: ='Assessment Issue Scoring'!#REF! -> #REF! | CK9: ='Assessment Issue Scoring'!#REF! -> #REF! | CL9: ='Assessment Issue Scoring'!#REF! -> #REF! | CM9: ='Assessment Issue Scoring'!#REF! -> #REF! | ... CP9: ='Assessment Issue Scoring'!#REF! -> #REF! | CQ9: Credits achieved for SBEM modelled outputs (Where SAP and SBEM used) | CR9: ='Assessment Details'!#REF! -> #REF! | CS9: ='Assessment Issue Scoring'!#REF! -> #REF! | CT9: ='Assessment Issue Scoring'!#REF! -> #REF! | CU9: ='Assessment Issue Scoring'!#REF! -> #REF! | CV9: ='Assessment Issue Scoring'!#REF! -> #REF! | CW9: ='Assessment Issue Scoring'!#REF! -> #REF! | CX9: ='Assessment Issue Scoring'!#REF! -> #REF! | CY9: ='Assessment Issue Scoring'!#REF! -> #REF! | CZ9: ='Assessment Issue Scoring'!#REF! -> #REF! | ... DC9: ='Assessment Issue Scoring'!#REF! -> #REF! | DD9: Credits achieved for SAP modelled outputs (Where SAP and SBEM used) | DE9: ='Assessment Issue Scoring'!F389 -> Total BREEAM credits achieved | DF9: ='Assessment Issue Scoring'!F391 -> Total contribution to overall building score | DG9: ='Assessment Issue Scoring'!H386 -> Sub-metering of end use categories | DH9: ='Assessment Issue Scoring'!H387 -> Sub-metering of high energy load and tenancy areas | DI9: ='Assessment Issue Scoring'!F409 -> Total BREEAM credits achieved | DJ9: ='Assessment Issue Scoring'!F411 -> Total contribution to overall building score | DK9: ='Assessment Issue Scoring'!H406 -> External lighting has been designed out | DL9: ='Assessment Issue Scoring'!F452 -> Total BREEAM credits achieved | DM9: ='Assessment Issue Scoring'!F454 -> Total contribution to overall building score | DN9: ='Assessment Issue Scoring'!F456 -> Total BREEAM exemplary credits achieved | DO9: Feasibility study | DP9: ='Assessment Issue Scoring'!H429 -> Low and zero carbon technologies | DQ9: Feasibility study credits achieved | DR9: Percentage net reduction in CO2 emissions (for scoping period) | DS9: Credits achieved for percentage net reduction in CO2 emissions (for scoping period) | DT9: ='Assessment Issue Scoring'!H438 -> Total on-site and/or near-site LZC energy generation | DU9: ='Assessment Issue Scoring'!H433 -> 0 | DV9: Free Cooling stategy | DW9: Free Cooling strategy credits | DX9: ='Assessment Issue Scoring'!F473 -> Total BREEAM credits achieved | DY9: ='Assessment Issue Scoring'!F475 -> Total contribution to overall building score | DZ9: ='Assessment Issue Scoring'!F477 -> Total BREEAM exemplary credits achieved | EA9: ='Assessment Issue Scoring'!H470 -> Refrigeration energy consumption | EB9: ='Assessment Issue Scoring'!H471 -> Indirect greenhouse gas emissions | EC9: ='Assessment Issue Scoring'!#REF! -> #REF! | ED9: ='Assessment Issue Scoring'!F494 -> Total BREEAM credits achieved | EE9: ='Assessment Issue Scoring'!F496 -> Total contribution to overall building score | EF9: ='Assessment Issue Scoring'!H490 -> Energy consumption | EG9: ='Assessment Issue Scoring'!#REF! -> #REF! | EH9: ='Assessment Issue Scoring'!F526 -> Total BREEAM credits achieved | EI9: ='Assessment Issue Scoring'!F528 -> Total contribution to overall building score | EJ9: ='Assessment Issue Scoring'!H512 -> Laboratory containment devices and containment areas | EK9: ='Assessment Issue Scoring'!H514 -> Fume cupboard volume flow rates | EL9: ='Assessment Issue Scoring'!H515 -> Grouping / isolation of high filtration/ventilation activities | EM9: ='Assessment Issue Scoring'!H516 -> Energy recovery - heat | EN9: ='Assessment Issue Scoring'!H517 -> Energy recovery - cooling | EO9: ='Assessment Issue Scoring'!H518 -> Grouping of cooling loads | EP9: ='Assessment Issue Scoring'!H519 -> Free cooling | EQ9: ='Assessment Issue Scoring'!H520 -> Load responsiveness | ER9: ='Assessment Issue Scoring'!H521 -> Clean rooms | ES9: ='Assessment Issue Scoring'!H522 -> Diversity | ET9: ='Assessment Issue Scoring'!H523 -> Room air-change rates | EU9: ='Assessment Issue Scoring'!H524 -> Fan power | EV9: ='Assessment Issue Scoring'!#REF! -> #REF! | EW9: ='Assessment Issue Scoring'!F556 -> Total BREEAM credits achieved | EX9: ='Assessment Issue Scoring'!F558 -> Total contribution to overall building score | EY9: ='Assessment Issue Scoring'!H554 -> Significant majority contributors BREEAM compliant | EZ9: ='Assessment Issue Scoring'!H544 -> Swimming pool present? | FA9: ='Assessment Issue Scoring'!H545 -> Laundry facilities with commercial-sized appliances present? | FB9: ='Assessment Issue Scoring'!H546 -> Data centre present? | FC9: ='Assessment Issue Scoring'!H547 -> IT-intensive operating areas present? | FD9: ='Assessment Issue Scoring'!H548 -> Domestic scale appliances (individual and communal facilities) present? | FE9: ='Assessment Issue Scoring'!H549 -> Healthcare equipment present? | FF9: ='Assessment Issue Scoring'!H550 -> Kitchen and catering facilities present? | FG9: ='Assessment Issue Scoring'!H551 -> Other contributors | FH9: ='Assessment Issue Scoring'!H544 -> Swimming pool present? | FI9: ='Assessment Issue Scoring'!H545 -> Laundry facilities with commercial-sized appliances present? | FJ9: ='Assessment Issue Scoring'!H546 -> Data centre present? | FK9: ='Assessment Issue Scoring'!H547 -> IT-intensive operating areas present? | FL9: ='Assessment Issue Scoring'!H548 -> Domestic scale appliances (individual and communal facilities) present? | FM9: ='Assessment Issue Scoring'!H549 -> Healthcare equipment present? | FN9: ='Assessment Issue Scoring'!H550 -> Kitchen and catering facilities present? | FO9: ='Assessment Issue Scoring'!H551 -> Other contributors | FP9: ='Assessment Issue Scoring'!#REF! -> #REF! | FQ9: ='Assessment Issue Scoring'!#REF! -> #REF! | FR9: ='Assessment Issue Scoring'!#REF! -> #REF! | FS9: ='Assessment Issue Scoring'!F578 -> Total BREEAM credits achieved | FT9: ='Assessment Issue Scoring'!F580 -> Total contribution to overall building score | FU9: ='Assessment Issue Scoring'!#REF! -> #REF! | FV9: ='Assessment Issue Scoring'!H576 -> Travel plan | FW9: ='Assessment Issue Scoring'!H576 -> Travel plan | FX9: ='Assessment Issue Scoring'!#REF! -> #REF! | FY9: ='Assessment Issue Scoring'!#REF! -> #REF! | FZ9: ='Assessment Issue Scoring'!F599 -> Total BREEAM credits achieved | GA9: ='Assessment Issue Scoring'!F601 -> Total contribution to overall building score | GB9: ='Assessment Issue Scoring'!H597 -> Number of points achieved overall | GC9: ='Assessment Issue Scoring'!#REF! -> #REF! | GD9: ='Assessment Issue Scoring'!#REF! -> #REF! | GE9: ='Assessment Issue Scoring'!#REF! -> #REF! | GF9: ='Assessment Issue Scoring'!#REF! -> #REF! | GG9: ='Assessment Issue Scoring'!#REF! -> #REF! | GH9: ='Assessment Issue Scoring'!#REF! -> #REF! | GI9: ='Assessment Issue Scoring'!#REF! -> #REF! | GJ9: ='Assessment Issue Scoring'!#REF! -> #REF! | ... GO9: ='Assessment Issue Scoring'!#REF! -> #REF! | GP9: ='Assessment Issue Scoring'!F643 -> Total BREEAM credits achieved | GQ9: ='Assessment Issue Scoring'!F645 -> Total contribution to overall building score | GR9: ='Assessment Issue Scoring'!F647 -> Total BREEAM exemplary credits achieved | GS9: Calculation procedure used | GT9: ='Assessment Issue Scoring'!H629 -> Water Consumption from building micro-components | GU9: ='Assessment Issue Scoring'!H630 -> Water demand met via greywater/rainwater sources | GV9: ='Assessment Issue Scoring'!H631 -> Total net water consumption | GW9: ='Assessment Issue Scoring'!H632 -> Improvement on baseline performance | GX9: ='Assessment Issue Scoring'!H635 -> Total net Water Consumption | GY9: ='Assessment Issue Scoring'!H636 -> Default building occupancy | GZ9: ='Assessment Issue Scoring'!H640 -> Overall microcomponent performance level achieved | HA9: ='Assessment Issue Scoring'!#REF! -> #REF! | HB9: ='Assessment Issue Scoring'!F666 -> Total BREEAM credits achieved | HC9: ='Assessment Issue Scoring'!F668 -> Total contribution to overall building score | HD9: ='Assessment Issue Scoring'!H660 -> Water meter on the mains water supply to each building | HE9: ='Assessment Issue Scoring'!H661 -> Sub-metering/monitoring equipment on supply to plant/building areas | HF9: ='Assessment Issue Scoring'!B662 -> Pulsed output or other open protocol communication output and BMS connection | HG9: ='Assessment Issue Scoring'!B663 -> The water monitoring strategy used enables the identification of all water consumption for sanitary uses as assessed under Wat 01 (L/person/day) | HH9: ='Assessment Issue Scoring'!F688 -> Total BREEAM credits achieved | HI9: ='Assessment Issue Scoring'!F690 -> Total contribution to overall building score | HJ9: ='Assessment Issue Scoring'!H683 -> Leak detection system | HK9: ='Assessment Issue Scoring'!H686 -> Flow control devices | HL9: ='Assessment Issue Scoring'!F709 -> Total BREEAM credits achieved | HM9: ='Assessment Issue Scoring'!F711 -> Total contribution to overall building score | HN9: ='Assessment Issue Scoring'!H707 -> Water efficient consumption
