Workbook

Sheet Summary
A1: HOUSING EXPECTATIONS APPRAISAL MODEL
A3: SCHEME SUMMARY | B3: This appraisal model is property of Housing Expectations Ltd. Unauthorised use / copying of this model will be subject to
B4: a £10,000 plus VAT charge
A6: Scheme Name | B6: Reading Metropolitan
A8: LA District | B8: Reading
A10: Total Number of dwellings | B10: =SUM('Residential Revenue'!E111:I111) -> 620
A12: Total number of market dwellings | B12: =SUM('Residential Revenue'!E111) -> 620
A13: Total Number of Hab Rooms | B13: =SUM('Residential Revenue'!O111) -> 0
A14: Total number of affordable dwellings | B14: =SUM('Residential Revenue'!F111:I111) -> 0 | D14: =SUM(B14/B10) -> 0 | G14: Policy 30% 50/50 tenure split including social rent
A15: Total number of affordable hab rooms | B15: =SUM('Residential Revenue'!N111) -> 0 | D15: =SUM(B15/B13) -> #DIV/0!
A16: Social rented | B16: =SUM('Residential Revenue'!F111) -> 0 | D16: =SUM(B16/B14) -> #DIV/0!
A18: Affordable rented | B18: =SUM('Residential Revenue'!G111) -> 0 | D18: =SUM(B18/B14) -> #DIV/0!
A20: Shared ownership | B20: =SUM('Residential Revenue'!H111) -> 0 | D20: =SUM(B20/B14) -> #DIV/0!
A22: Equity share | B22: =SUM('Residential Revenue'!I111) -> 0 | D22: =SUM(B22/B14) -> #DIV/0!
A24: Total Sect 106 contributions | B24: =SUM('Residential Costs'!B35+'Residential Costs'!B37) -> 8548988
A26: Site Size | E26: Density | G26: per hectare | I26: per acre
A28: Residential GIA | B28: =SUM('Residential Revenue'!B112) -> 52945
A29: Commercial GIA | B29: =SUM(' Commercial Revenue'!B22) -> 21296
A30: Car Park GIA | B30: =SUM('Residential Revenue'!M133) -> 2178
A31: Total Scheme GIA | B31: =SUM(B28:B30) -> 76419
A33: Financial Summary
A34: Total Residential Income | B34: =SUM('Residential Revenue'!J123+'Residential Revenue'!F133+'Residential Revenue'!M131) -> 213048499
A36: Total Residential Expenditure | B36: =SUM('Residential Costs'!B71) -> 3.2477522e+08
F37: Total Scheme GDV | G37: =SUM(B34+B40) -> 3.146325e+08
A38: Total Residential Residual Value | B38: =SUM(B34-B36) -> -1.1172673e+08 | F38: Total Scheme Costs | G38: =SUM(B36+B42) -> 3.4192448e+08
A40: Total Commercial Income | B40: =SUM(' Commercial Revenue'!I22) -> 1.01584e+08
A42: Total Commercial Expenditure | B42: =SUM('Commercial Costs'!B68) -> 17149259
A44: Total Commercial Residual Value | B44: =SUM(B40-B42) -> 84434738
A46: Total Scheme Residual Value | B46: =SUM(B38+B44) -> -27291987 | E46: Benchmark Land Value | H46: =SUM('Land '!B16) -> 31050000
A48: Residual value against EUV | B48: =SUM(B46-'Land '!B18) -> -54291987
A50: Residual value against BV | B50: =SUM(B46-'Land '!B16) -> -58341987

Sheet Residential Revenue
A1: HOUSING EXPECTATIONS APPRAISAL MODEL
A3: RESIDENTIAL SCHEME REVENUE
A6: Residential Dwelling type | B6: circulation space m2 / ft2 | C6: commercial / other m2 / ft2 | D6: No. of beds | E6: private sale | F6: social rent | G6: aff rent | H6: shared ownership | I6: quasi s/o @ 80% | J6: Dwelling m2 | K6: Total private m2/ft2 | L6: Total affordable m2 / ft2 | M6: Hab rooms | N6: Total Affordable Hab Rooms | O6: Total hab rooms | P6: Market Value / private unit selling price | Q6: Shared equity unit selling price | R6: Shared ownership unit selling price | S6: Rented unit selling price | T6: Total Private value | U6: Total Quasi s/e offer | V6: Total RP offer price | W6: Total affordable value | X6: £ per m2 selling price | Y6: Total revenue
A7: Building A | K7: =SUM(E7*J7) -> 0 | L7: =SUM(F7:I7)*J7 -> 0 | N7: =SUM(F7:I7)*M7 -> 0 | O7: =SUM(E7:I7)*M7 -> 0 | P7: =SUM(J7*5295) -> 0 | Q7: =SUM(P7*80%) -> 0 | R7: =SUM(P7*65%) -> 0 | S7: =SUM(P7*45%) -> 0 | T7: =SUM(P7*E7) -> 0 | U7: =SUM(Q7*I7) -> 0 | V7: =SUM(R7*H7+S7*G7+S7*F7) -> 0 | W7: =SUM(U7+V7) -> 0 | X7: =SUM(Y7/K7) -> #DIV/0! | Y7: =SUM(T7:V7) -> 0
A8: studio | D8: 1 | E8: 12 | J8: 46 | K8: =SUM(E8*J8) -> 552 | L8: =SUM(F8:I8)*J8 -> 0 | N8: =SUM(F8:I8)*M8 -> 0 | O8: =SUM(E8:I8)*M8 -> 0 | P8: =SUM(J8*5349) -> 246054 | Q8: =SUM(P8*80%) -> 196843.2 | R8: =SUM(P8*65%) -> 159935.1 | S8: =SUM(P8*45%) -> 110724.3 | T8: =SUM(P8*E8) -> 2952648 | U8: =SUM(Q8*I8) -> 0 | V8: =SUM(R8*H8+S8*G8+S8*F8) -> 0 | W8: =SUM(U8+V8) -> 0 | X8: =SUM(Y8/K8) -> 5349 | Y8: =SUM(T8:V8) -> 2952648
A9: 1bf | D9: 1 | E9: 74 | J9: 55 | K9: =SUM(E9*J9) -> 4070 | L9: =SUM(F9:I9)*J9 -> 0 | N9: =SUM(F9:I9)*M9 -> 0 | O9: =SUM(E9:I9)*M9 -> 0 | P9: =SUM(J9*5349) -> 294195 | Q9: =SUM(P9*80%) -> 235356 | R9: =SUM(P9*65%) -> 191226.75 | S9: =SUM(P9*45%) -> 132387.75 | T9: =SUM(P9*E9) -> 21770430 | U9: =SUM(Q9*I9) -> 0 | V9: =SUM(R9*H9+S9*G9+S9*F9) -> 0 | W9: =SUM(U9+V9) -> 0 | X9: =SUM(Y9/K9) -> 5349 | Y9: =SUM(T9:V9) -> 21770430 | Z9: =SUM(K8:K11) -> 11947
A10: 2bf | D10: 2 | E10: 87 | J10: 75 | K10: =SUM(E10*J10) -> 6525 | L10: =SUM(F10:I10)*J10 -> 0 | N10: =SUM(F10:I10)*M10 -> 0 | O10: =SUM(E10:I10)*M10 -> 0 | P10: =SUM(J10*5349) -> 401175 | Q10: =SUM(P10*80%) -> 320940 | R10: =SUM(P10*65%) -> 260763.75 | S10: =SUM(P10*45%) -> 180528.75 | T10: =SUM(P10*E10) -> 34902225 | U10: =SUM(Q10*I10) -> 0 | V10: =SUM(R10*H10+S10*G10+S10*F10) -> 0 | W10: =SUM(U10+V10) -> 0 | X10: =SUM(Y10/K10) -> 5349 | Y10: =SUM(T10:V10) -> 34902225
A11: 3bf | D11: 3 | E11: 10 | J11: 80 | K11: =SUM(E11*J11) -> 800 | L11: =SUM(F11:I11)*J11 -> 0 | N11: =SUM(F11:I11)*M11 -> 0 | O11: =SUM(E11:I11)*M11 -> 0 | P11: =SUM(J11*5349) -> 427920 | Q11: =SUM(P11*80%) -> 342336 | R11: =SUM(P11*65%) -> 278148 | S11: =SUM(P11*45%) -> 192564 | T11: =SUM(P11*E11) -> 4279200 | U11: =SUM(Q11*I11) -> 0 | V11: =SUM(R11*H11+S11*G11+S11*F11) -> 0 | W11: =SUM(U11+V11) -> 0 | X11: =SUM(Y11/K11) -> 5349 | Y11: =SUM(T11:V11) -> 4279200
A12: circulation | K12: =SUM(E12*J12) -> 0 | L12: =SUM(F12:I12)*J12 -> 0 | N12: =SUM(F12:I12)*M12 -> 0 | O12: =SUM(E12:I12)*M12 -> 0 | P12: =SUM(J12*5349) -> 0 | Q12: =SUM(P12*80%) -> 0 | R12: =SUM(P12*65%) -> 0 | S12: =SUM(P12*45%) -> 0 | T12: =SUM(P12*E12) -> 0 | U12: =SUM(Q12*I12) -> 0 | V12: =SUM(R12*H12+S12*G12+S12*F12) -> 0 | W12: =SUM(U12+V12) -> 0 | X12: =SUM(Y12/K12) -> #DIV/0! | Y12: =SUM(T12:V12) -> 0
A13: Building B | K13: =SUM(E13*J13) -> 0 | L13: =SUM(F13:I13)*J13 -> 0 | N13: =SUM(F13:I13)*M13 -> 0 | O13: =SUM(E13:I13)*M13 -> 0 | P13: =SUM(J13*5349) -> 0 | Q13: =SUM(P13*80%) -> 0 | R13: =SUM(P13*65%) -> 0 | S13: =SUM(P13*45%) -> 0 | T13: =SUM(P13*E13) -> 0 | U13: =SUM(Q13*I13) -> 0 | V13: =SUM(R13*H13+S13*G13+S13*F13) -> 0 | W13: =SUM(U13+V13) -> 0 | X13: =SUM(Y13/K13) -> #DIV/0! | Y13: =SUM(T13:V13) -> 0
A14: studio | D14: 1 | E14: 30 | J14: 44 | K14: =SUM(E14*J14) -> 1320 | L14: =SUM(F14:I14)*J14 -> 0 | N14: =SUM(F14:I14)*M14 -> 0 | O14: =SUM(E14:I14)*M14 -> 0 | P14: =SUM(J14*5349) -> 235356 | Q14: =SUM(P14*80%) -> 188284.8 | R14: =SUM(P14*65%) -> 152981.4 | S14: =SUM(P14*45%) -> 105910.2 | T14: =SUM(P14*E14) -> 7060680 | U14: =SUM(Q14*I14) -> 0 | V14: =SUM(R14*H14+S14*G14+S14*F14) -> 0 | W14: =SUM(U14+V14) -> 0 | X14: =SUM(Y14/K14) -> 5349 | Y14: =SUM(T14:V14) -> 7060680
A15: 1bf | D15: 1 | E15: 15 | J15: 51 | K15: =SUM(E15*J15) -> 765 | L15: =SUM(F15:I15)*J15 -> 0 | N15: =SUM(F15:I15)*M15 -> 0 | O15: =SUM(E15:I15)*M15 -> 0 | P15: =SUM(J15*5349) -> 272799 | Q15: =SUM(P15*80%) -> 218239.2 | R15: =SUM(P15*65%) -> 177319.35 | S15: =SUM(P15*45%) -> 122759.55 | T15: =SUM(P15*E15) -> 4091985 | U15: =SUM(Q15*I15) -> 0 | V15: =SUM(R15*H15+S15*G15+S15*F15) -> 0 | W15: =SUM(U15+V15) -> 0 | X15: =SUM(Y15/K15) -> 5349 | Y15: =SUM(T15:V15) -> 4091985
A16: 2bf | D16: 2 | E16: 45 | J16: 72 | K16: =SUM(E16*J16) -> 3240 | L16: =SUM(F16:I16)*J16 -> 0 | N16: =SUM(F16:I16)*M16 -> 0 | O16: =SUM(E16:I16)*M16 -> 0 | P16: =SUM(J16*5349) -> 385128 | Q16: =SUM(P16*80%) -> 308102.4 | R16: =SUM(P16*65%) -> 250333.2 | S16: =SUM(P16*45%) -> 173307.6 | T16: =SUM(P16*E16) -> 17330760 | U16: =SUM(Q16*I16) -> 0 | V16: =SUM(R16*H16+S16*G16+S16*F16) -> 0 | W16: =SUM(U16+V16) -> 0 | X16: =SUM(Y16/K16) -> 5349 | Y16: =SUM(T16:V16) -> 17330760
A17: 3bf | D17: 3 | E17: 0 | K17: =SUM(E17*J17) -> 0 | L17: =SUM(F17:I17)*J17 -> 0 | N17: =SUM(F17:I17)*M17 -> 0 | O17: =SUM(E17:I17)*M17 -> 0 | P17: =SUM(J17*5349) -> 0 | Q17: =SUM(P17*80%) -> 0 | R17: =SUM(P17*65%) -> 0 | S17: =SUM(P17*45%) -> 0 | T17: =SUM(P17*E17) -> 0 | U17: =SUM(Q17*I17) -> 0 | V17: =SUM(R17*H17+S17*G17+S17*F17) -> 0 | W17: =SUM(U17+V17) -> 0 | X17: =SUM(Y17/K17) -> #DIV/0! | Y17: =SUM(T17:V17) -> 0
A18: circulation | K18: =SUM(E18*J18) -> 0 | L18: =SUM(F18:I18)*J18 -> 0 | N18: =SUM(F18:I18)*M18 -> 0 | O18: =SUM(E18:I18)*M18 -> 0 | P18: =SUM(J18*5349) -> 0 | Q18: =SUM(P18*80%) -> 0 | R18: =SUM(P18*65%) -> 0 | S18: =SUM(P18*45%) -> 0 | T18: =SUM(P18*E18) -> 0 | U18: =SUM(Q18*I18) -> 0 | V18: =SUM(R18*H18+S18*G18+S18*F18) -> 0 | W18: =SUM(U18+V18) -> 0 | X18: =SUM(Y18/K18) -> #DIV/0! | Y18: =SUM(T18:V18) -> 0
A19: Building D | K19: =SUM(E19*J19) -> 0 | L19: =SUM(F19:I19)*J19 -> 0 | N19: =SUM(F19:I19)*M19 -> 0 | O19: =SUM(E19:I19)*M19 -> 0 | P19: =SUM(J19*5349) -> 0 | Q19: =SUM(P19*80%) -> 0 | R19: =SUM(P19*65%) -> 0 | S19: =SUM(P19*45%) -> 0 | T19: =SUM(P19*E19) -> 0 | U19: =SUM(Q19*I19) -> 0 | V19: =SUM(R19*H19+S19*G19+S19*F19) -> 0 | W19: =SUM(U19+V19) -> 0 | X19: =SUM(Y19/K19) -> #DIV/0! | Y19: =SUM(T19:V19) -> 0
A20: studio | D20: 1 | E20: 14 | J20: 45 | K20: =SUM(E20*J20) -> 630 | L20: =SUM(F20:I20)*J20 -> 0 | N20: =SUM(F20:I20)*M20 -> 0 | O20: =SUM(E20:I20)*M20 -> 0 | P20: =SUM(J20*5349) -> 240705 | Q20: =SUM(P20*80%) -> 192564 | R20: =SUM(P20*65%) -> 156458.25 | S20: =SUM(P20*45%) -> 108317.25 | T20: =SUM(P20*E20) -> 3369870 | U20: =SUM(Q20*I20) -> 0 | V20: =SUM(R20*H20+S20*G20+S20*F20) -> 0 | W20: =SUM(U20+V20) -> 0 | X20: =SUM(Y20/K20) -> 5349 | Y20: =SUM(T20:V20) -> 3369870
A21: 1bf | D21: 1 | E21: 13 | J21: 50 | K21: =SUM(E21*J21) -> 650 | L21: =SUM(F21:I21)*J21 -> 0 | N21: =SUM(F21:I21)*M21 -> 0 | O21: =SUM(E21:I21)*M21 -> 0 | P21: =SUM(J21*5349) -> 267450 | Q21: =SUM(P21*80%) -> 213960 | R21: =SUM(P21*65%) -> 173842.5 | S21: =SUM(P21*45%) -> 120352.5 | T21: =SUM(P21*E21) -> 3476850 | U21: =SUM(Q21*I21) -> 0 | V21: =SUM(R21*H21+S21*G21+S21*F21) -> 0 | W21: =SUM(U21+V21) -> 0 | X21: =SUM(Y21/K21) -> 5349 | Y21: =SUM(T21:V21) -> 3476850
A22: 2bf | D22: 2 | E22: 46 | J22: 70 | K22: =SUM(E22*J22) -> 3220 | L22: =SUM(F22:I22)*J22 -> 0 | N22: =SUM(F22:I22)*M22 -> 0 | O22: =SUM(E22:I22)*M22 -> 0 | P22: =SUM(J22*5349) -> 374430 | Q22: =SUM(P22*80%) -> 299544 | R22: =SUM(P22*65%) -> 243379.5 | S22: =SUM(P22*45%) -> 168493.5 | T22: =SUM(P22*E22) -> 17223780 | U22: =SUM(Q22*I22) -> 0 | V22: =SUM(R22*H22+S22*G22+S22*F22) -> 0 | W22: =SUM(U22+V22) -> 0 | X22: =SUM(Y22/K22) -> 5349 | Y22: =SUM(T22:V22) -> 17223780
A23: 3bf | D23: 3 | E23: 7 | J23: 98 | K23: =SUM(E23*J23) -> 686 | L23: =SUM(F23:I23)*J23 -> 0 | N23: =SUM(F23:I23)*M23 -> 0 | O23: =SUM(E23:I23)*M23 -> 0 | P23: =SUM(J23*5349) -> 524202 | Q23: =SUM(P23*80%) -> 419361.6 | R23: =SUM(P23*65%) -> 340731.3 | S23: =SUM(P23*45%) -> 235890.9 | T23: =SUM(P23*E23) -> 3669414 | U23: =SUM(Q23*I23) -> 0 | V23: =SUM(R23*H23+S23*G23+S23*F23) -> 0 | W23: =SUM(U23+V23) -> 0 | X23: =SUM(Y23/K23) -> 5349 | Y23: =SUM(T23:V23) -> 3669414
A24: circulation | K24: =SUM(E24*J24) -> 0 | L24: =SUM(F24:I24)*J24 -> 0 | N24: =SUM(F24:I24)*M24 -> 0 | O24: =SUM(E24:I24)*M24 -> 0 | P24: =SUM(J24*5349) -> 0 | Q24: =SUM(P24*80%) -> 0 | R24: =SUM(P24*65%) -> 0 | S24: =SUM(P24*45%) -> 0 | T24: =SUM(P24*E24) -> 0 | U24: =SUM(Q24*I24) -> 0 | V24: =SUM(R24*H24+S24*G24+S24*F24) -> 0 | W24: =SUM(U24+V24) -> 0 | X24: =SUM(Y24/K24) -> #DIV/0! | Y24: =SUM(T24:V24) -> 0
A25: Building E | K25: =SUM(E25*J25) -> 0 | L25: =SUM(F25:I25)*J25 -> 0 | N25: =SUM(F25:I25)*M25 -> 0 | O25: =SUM(E25:I25)*M25 -> 0 | P25: =SUM(J25*5349) -> 0 | Q25: =SUM(P25*80%) -> 0 | R25: =SUM(P25*65%) -> 0 | S25: =SUM(P25*45%) -> 0 | T25: =SUM(P25*E25) -> 0 | U25: =SUM(Q25*I25) -> 0 | V25: =SUM(R25*H25+S25*G25+S25*F25) -> 0 | W25: =SUM(U25+V25) -> 0 | X25: =SUM(Y25/K25) -> #DIV/0! | Y25: =SUM(T25:V25) -> 0
A26: studio | D26: 1 | E26: 3 | J26: 40 | K26: =SUM(E26*J26) -> 120 | L26: =SUM(F26:I26)*J26 -> 0 | N26: =SUM(F26:I26)*M26 -> 0 | O26: =SUM(E26:I26)*M26 -> 0 | P26: =SUM(J26*5349) -> 213960 | Q26: =SUM(P26*80%) -> 171168 | R26: =SUM(P26*65%) -> 139074 | S26: =SUM(P26*45%) -> 96282 | T26: =SUM(P26*E26) -> 641880 | U26: =SUM(Q26*I26) -> 0 | V26: =SUM(R26*H26+S26*G26+S26*F26) -> 0 | W26: =SUM(U26+V26) -> 0 | X26: =SUM(Y26/K26) -> 5349 | Y26: =SUM(T26:V26) -> 641880
A27: 1bf | D27: 1 | E27: 49 | J27: 51 | K27: =SUM(E27*J27) -> 2499 | L27: =SUM(F27:I27)*J27 -> 0 | N27: =SUM(F27:I27)*M27 -> 0 | O27: =SUM(E27:I27)*M27 -> 0 | P27: =SUM(J27*5349) -> 272799 | Q27: =SUM(P27*80%) -> 218239.2 | R27: =SUM(P27*65%) -> 177319.35 | S27: =SUM(P27*45%) -> 122759.55 | T27: =SUM(P27*E27) -> 13367151 | U27: =SUM(Q27*I27) -> 0 | V27: =SUM(R27*H27+S27*G27+S27*F27) -> 0 | W27: =SUM(U27+V27) -> 0 | X27: =SUM(Y27/K27) -> 5349 | Y27: =SUM(T27:V27) -> 13367151
A28: 2bf | D28: 2 | E28: 35 | J28: 70 | K28: =SUM(E28*J28) -> 2450 | L28: =SUM(F28:I28)*J28 -> 0 | N28: =SUM(F28:I28)*M28 -> 0 | O28: =SUM(E28:I28)*M28 -> 0 | P28: =SUM(J28*5349) -> 374430 | Q28: =SUM(P28*80%) -> 299544 | R28: =SUM(P28*65%) -> 243379.5 | S28: =SUM(P28*45%) -> 168493.5 | T28: =SUM(P28*E28) -> 13105050 | U28: =SUM(Q28*I28) -> 0 | V28: =SUM(R28*H28+S28*G28+S28*F28) -> 0 | W28: =SUM(U28+V28) -> 0 | X28: =SUM(Y28/K28) -> 5349 | Y28: =SUM(T28:V28) -> 13105050
A29: 3bf | D29: 3 | E29: 2 | J29: 78 | K29: =SUM(E29*J29) -> 156 | L29: =SUM(F29:I29)*J29 -> 0 | N29: =SUM(F29:I29)*M29 -> 0 | O29: =SUM(E29:I29)*M29 -> 0 | P29: =SUM(J29*5349) -> 417222 | Q29: =SUM(P29*80%) -> 333777.6 | R29: =SUM(P29*65%) -> 271194.3 | S29: =SUM(P29*45%) -> 187749.9 | T29: =SUM(P29*E29) -> 834444 | U29: =SUM(Q29*I29) -> 0 | V29: =SUM(R29*H29+S29*G29+S29*F29) -> 0 | W29: =SUM(U29+V29) -> 0 | X29: =SUM(Y29/K29) -> 5349 | Y29: =SUM(T29:V29) -> 834444
A30: circulation | K30: =SUM(E30*J30) -> 0 | L30: =SUM(F30:I30)*J30 -> 0 | N30: =SUM(F30:I30)*M30 -> 0 | O30: =SUM(E30:I30)*M30 -> 0 | P30: =SUM(J30*5349) -> 0 | Q30: =SUM(P30*80%) -> 0 | R30: =SUM(P30*65%) -> 0 | S30: =SUM(P30*45%) -> 0 | T30: =SUM(P30*E30) -> 0 | U30: =SUM(Q30*I30) -> 0 | V30: =SUM(R30*H30+S30*G30+S30*F30) -> 0 | W30: =SUM(U30+V30) -> 0 | X30: =SUM(Y30/K30) -> #DIV/0! | Y30: =SUM(T30:V30) -> 0
A31: Building F | K31: =SUM(E31*J31) -> 0 | L31: =SUM(F31:I31)*J31 -> 0 | N31: =SUM(F31:I31)*M31 -> 0 | O31: =SUM(E31:I31)*M31 -> 0 | P31: =SUM(J31*5349) -> 0 | Q31: =SUM(P31*80%) -> 0 | R31: =SUM(P31*65%) -> 0 | S31: =SUM(P31*45%) -> 0 | T31: =SUM(P31*E31) -> 0 | U31: =SUM(Q31*I31) -> 0 | V31: =SUM(R31*H31+S31*G31+S31*F31) -> 0 | W31: =SUM(U31+V31) -> 0 | X31: =SUM(Y31/K31) -> #DIV/0! | Y31: =SUM(T31:V31) -> 0
A32: studio | D32: 1 | E32: 13 | J32: 45 | K32: =SUM(E32*J32) -> 585 | L32: =SUM(F32:I32)*J32 -> 0 | N32: =SUM(F32:I32)*M32 -> 0 | O32: =SUM(E32:I32)*M32 -> 0 | P32: =SUM(J32*5349) -> 240705 | Q32: =SUM(P32*80%) -> 192564 | R32: =SUM(P32*65%) -> 156458.25 | S32: =SUM(P32*45%) -> 108317.25 | T32: =SUM(P32*E32) -> 3129165 | U32: =SUM(Q32*I32) -> 0 | V32: =SUM(R32*H32+S32*G32+S32*F32) -> 0 | W32: =SUM(U32+V32) -> 0 | X32: =SUM(Y32/K32) -> 5349 | Y32: =SUM(T32:V32) -> 3129165
A33: 1bf | D33: 1 | E33: 12 | J33: 50 | K33: =SUM(E33*J33) -> 600 | L33: =SUM(F33:I33)*J33 -> 0 | N33: =SUM(F33:I33)*M33 -> 0 | O33: =SUM(E33:I33)*M33 -> 0 | P33: =SUM(J33*5349) -> 267450 | Q33: =SUM(P33*80%) -> 213960 | R33: =SUM(P33*65%) -> 173842.5 | S33: =SUM(P33*45%) -> 120352.5 | T33: =SUM(P33*E33) -> 3209400 | U33: =SUM(Q33*I33) -> 0 | V33: =SUM(R33*H33+S33*G33+S33*F33) -> 0 | W33: =SUM(U33+V33) -> 0 | X33: =SUM(Y33/K33) -> 5349 | Y33: =SUM(T33:V33) -> 3209400
A34: 2bf | D34: 2 | E34: 42 | J34: 70 | K34: =SUM(E34*J34) -> 2940 | L34: =SUM(F34:I34)*J34 -> 0 | N34: =SUM(F34:I34)*M34 -> 0 | O34: =SUM(E34:I34)*M34 -> 0 | P34: =SUM(J34*5349) -> 374430 | Q34: =SUM(P34*80%) -> 299544 | R34: =SUM(P34*65%) -> 243379.5 | S34: =SUM(P34*45%) -> 168493.5 | T34: =SUM(P34*E34) -> 15726060 | U34: =SUM(Q34*I34) -> 0 | V34: =SUM(R34*H34+S34*G34+S34*F34) -> 0 | W34: =SUM(U34+V34) -> 0 | X34: =SUM(Y34/K34) -> 5349 | Y34: =SUM(T34:V34) -> 15726060
A35: 3bf | D35: 3 | E35: 6 | J35: 99 | K35: =SUM(E35*J35) -> 594 | L35: =SUM(F35:I35)*J35 -> 0 | N35: =SUM(F35:I35)*M35 -> 0 | O35: =SUM(E35:I35)*M35 -> 0 | P35: =SUM(J35*5349) -> 529551 | Q35: =SUM(P35*80%) -> 423640.8 | R35: =SUM(P35*65%) -> 344208.15 | S35: =SUM(P35*45%) -> 238297.95 | T35: =SUM(P35*E35) -> 3177306 | U35: =SUM(Q35*I35) -> 0 | V35: =SUM(R35*H35+S35*G35+S35*F35) -> 0 | W35: =SUM(U35+V35) -> 0 | X35: =SUM(Y35/K35) -> 5349 | Y35: =SUM(T35:V35) -> 3177306
A36: circulation | K36: =SUM(E36*J36) -> 0 | L36: =SUM(F36:I36)*J36 -> 0 | N36: =SUM(F36:I36)*M36 -> 0 | O36: =SUM(E36:I36)*M36 -> 0 | P36: =SUM(J36*5349) -> 0 | Q36: =SUM(P36*80%) -> 0 | R36: =SUM(P36*65%) -> 0 | S36: =SUM(P36*45%) -> 0 | T36: =SUM(P36*E36) -> 0 | U36: =SUM(Q36*I36) -> 0 | V36: =SUM(R36*H36+S36*G36+S36*F36) -> 0 | W36: =SUM(U36+V36) -> 0 | X36: =SUM(Y36/K36) -> #DIV/0! | Y36: =SUM(T36:V36) -> 0
A37: Building G | K37: =SUM(E37*J37) -> 0 | L37: =SUM(F37:I37)*J37 -> 0 | N37: =SUM(F37:I37)*M37 -> 0 | O37: =SUM(E37:I37)*M37 -> 0 | P37: =SUM(J37*5349) -> 0 | Q37: =SUM(P37*80%) -> 0 | R37: =SUM(P37*65%) -> 0 | S37: =SUM(P37*45%) -> 0 | T37: =SUM(P37*E37) -> 0 | U37: =SUM(Q37*I37) -> 0 | V37: =SUM(R37*H37+S37*G37+S37*F37) -> 0 | W37: =SUM(U37+V37) -> 0 | X37: =SUM(Y37/K37) -> #DIV/0! | Y37: =SUM(T37:V37) -> 0
A38: studio | D38: 1 | E38: 2 | J38: 42 | K38: =SUM(E38*J38) -> 84 | L38: =SUM(F38:I38)*J38 -> 0 | N38: =SUM(F38:I38)*M38 -> 0 | O38: =SUM(E38:I38)*M38 -> 0 | P38: =SUM(J38*5349) -> 224658 | Q38: =SUM(P38*80%) -> 179726.4 | R38: =SUM(P38*65%) -> 146027.7 | S38: =SUM(P38*45%) -> 101096.1 | T38: =SUM(P38*E38) -> 449316 | U38: =SUM(Q38*I38) -> 0 | V38: =SUM(R38*H38+S38*G38+S38*F38) -> 0 | W38: =SUM(U38+V38) -> 0 | X38: =SUM(Y38/K38) -> 5349 | Y38: =SUM(T38:V38) -> 449316
A39: 1bf | D39: 1 | E39: 9 | J39: 55 | K39: =SUM(E39*J39) -> 495 | L39: =SUM(F39:I39)*J39 -> 0 | N39: =SUM(F39:I39)*M39 -> 0 | O39: =SUM(E39:I39)*M39 -> 0 | P39: =SUM(J39*5349) -> 294195 | Q39: =SUM(P39*80%) -> 235356 | R39: =SUM(P39*65%) -> 191226.75 | S39: =SUM(P39*45%) -> 132387.75 | T39: =SUM(P39*E39) -> 2647755 | U39: =SUM(Q39*I39) -> 0 | V39: =SUM(R39*H39+S39*G39+S39*F39) -> 0 | W39: =SUM(U39+V39) -> 0 | X39: =SUM(Y39/K39) -> 5349 | Y39: =SUM(T39:V39) -> 2647755
A40: 2bf | D40: 2 | E40: 42 | J40: 70 | K40: =SUM(E40*J40) -> 2940 | L40: =SUM(F40:I40)*J40 -> 0 | N40: =SUM(F40:I40)*M40 -> 0 | O40: =SUM(E40:I40)*M40 -> 0 | P40: =SUM(J40*5349) -> 374430 | Q40: =SUM(P40*80%) -> 299544 | R40: =SUM(P40*65%) -> 243379.5 | S40: =SUM(P40*45%) -> 168493.5 | T40: =SUM(P40*E40) -> 15726060 | U40: =SUM(Q40*I40) -> 0 | V40: =SUM(R40*H40+S40*G40+S40*F40) -> 0 | W40: =SUM(U40+V40) -> 0 | X40: =SUM(Y40/K40) -> 5349 | Y40: =SUM(T40:V40) -> 15726060
A41: circulation | K41: =SUM(E41*J41) -> 0 | L41: =SUM(F41:I41)*J41 -> 0 | N41: =SUM(F41:I41)*M41 -> 0 | O41: =SUM(E41:I41)*M41 -> 0 | P41: =SUM(J41*5349) -> 0 | Q41: =SUM(P41*80%) -> 0 | R41: =SUM(P41*65%) -> 0 | S41: =SUM(P41*45%) -> 0 | T41: =SUM(P41*E41) -> 0 | U41: =SUM(Q41*I41) -> 0 | V41: =SUM(R41*H41+S41*G41+S41*F41) -> 0 | W41: =SUM(U41+V41) -> 0 | X41: =SUM(Y41/K41) -> #DIV/0! | Y41: =SUM(T41:V41) -> 0
A42: Building H | K42: =SUM(E42*J42) -> 0 | L42: =SUM(F42:I42)*J42 -> 0 | N42: =SUM(F42:I42)*M42 -> 0 | O42: =SUM(E42:I42)*M42 -> 0 | P42: =SUM(J42*5349) -> 0 | Q42: =SUM(P42*80%) -> 0 | R42: =SUM(P42*65%) -> 0 | S42: =SUM(P42*45%) -> 0 | T42: =SUM(P42*E42) -> 0 | U42: =SUM(Q42*I42) -> 0 | V42: =SUM(R42*H42+S42*G42+S42*F42) -> 0 | W42: =SUM(U42+V42) -> 0 | X42: =SUM(Y42/K42) -> #DIV/0! | Y42: =SUM(T42:V42) -> 0
A43: 1bf | D43: 1 | E43: 22 | J43: 50 | K43: =SUM(E43*J43) -> 1100 | L43: =SUM(F43:I43)*J43 -> 0 | N43: =SUM(F43:I43)*M43 -> 0 | O43: =SUM(E43:I43)*M43 -> 0 | P43: =SUM(J43*5349) -> 267450 | Q43: =SUM(P43*80%) -> 213960 | R43: =SUM(P43*65%) -> 173842.5 | S43: =SUM(P43*45%) -> 120352.5 | T43: =SUM(P43*E43) -> 5883900 | U43: =SUM(Q43*I43) -> 0 | V43: =SUM(R43*H43+S43*G43+S43*F43) -> 0 | W43: =SUM(U43+V43) -> 0 | X43: =SUM(Y43/K43) -> 5349 | Y43: =SUM(T43:V43) -> 5883900
...

Sheet Residential Costs
A1: HOUSING EXPECTATIONS APPRAISAL MODEL
A3: RESIDENTIAL SCHEME COSTS
B4: £ | C4: £
A6: Base Build Cost | B6: 191476000 | C6: =SUM(B6/'Residential Revenue'!B112) -> 3616.5077 | D6: per m2 / ft2
A8: £ per m2 / ft2 rate used - residential | B8: =SUM('Residential Revenue'!B112*'Residential Costs'!C8) -> 0 | E8: BCIS median
A9: £ per m2 / ft2 rate used - comercial / other | B9: =SUM('Residential Revenue'!C111)*C9 -> 0 | D9: £ per m2/ft2
A10: Total base build | B10: =SUM(B6:B9) -> 191476000
A11: Abnormals / External Works
B12: 13959000
A13: (total figure or broken down) if no figure then included in base build cost
D19: Total cost of abnormals | G19: =SUM(B13:B20) -> 0
D20: Total cost of abnormals & external works | G20: =SUM(B12:B20) -> 13959000
A22: TOTAL BUILD COST EXCLUDING CONTINGENCY | B22: =SUM(B10:B21) -> 205435000
A25: Contingency as % of build cost | B25: =SUM(B22*5%) -> 10271750 | C25: 0.05
A27: TOTAL BUILD COSTS | B27: =SUM(B22:B25) -> 215706750
A29: Section 106 / CIL costs | B29: 8548988
E34: Development Programme
E36: Pre construction works | G36: 18 | H36: months
A37: TOTAL SECTION 106 COSTS | B37: =SUM(B29:B34) -> 8548988 | E37: Construction | G37: 81 | H37: months
E38: Time between build complete & last sale | G38: 3 | H38: months
A39: Professional fees @ % of build cost | B39: =SUM(B22*C39) -> 14380450 | C39: 0.07
E40: Length of financial exposure | G40: =SUM(G36:G39) -> 102 | H40: months | I40: =SUM(G40/12) -> 8.5 | J40: years
A41: Marketing costs @ % of market revenue | B41: =SUM('Residential Revenue'!Y111*C41) -> 5262212.5 | C41: 0.025
A43: Land acquisition fees ie stamp duty, legals | B43: =SUM(B73*C43) -> 1384375 | C43: 0.0625
A45: TOTAL FEES | B45: =SUM(B39:B44) -> 21027037
A47: INDICATIVE FINANCE COSTS
A49: Finance costs of build | B49: =SUM(B22*C49)*I40/3.5 -> 34923950 | C49: 0.07
A50: (build cost x interest rate x build programme / 3
A52: Finance costs of land | B52: 775250 | C52: 0.07
A53: (land purchase price & fees x interest rate x financial exposure / 2
A55: Interest on sect 106 payments | B55: =SUM(B37*C55)*I40/3 -> 1695549.3 | C55: 0.07
A56: (total sect 106 payments x interest rate x build programme / 3
A58: TOTAL FINANCE COSTS | B58: =SUM(B49:B56) -> 37394749
A60: DISCOUNTED CASH FLOW - TOTAL FINANCE COSTS | B60: =SUM('Residential DCF'!B42) -> 0
A63: OVERHEADS & PROFIT
A65: Private sales | B65: =SUM('Residential Revenue'!J121)*C65 -> 42097700 | C65: 0.2
A67: Affordable housing sales | B67: =SUM('Residential Revenue'!J118*'Residential Costs'!C67) -> 0 | C67: 0.06
A69: TOTAL OVERHEADS AND PROFIT | B69: =SUM(B63:B67) -> 42097700
A71: TOTAL COST OF BUILD EXCLUDING LAND | B71: =SUM(B27+B37+B45+B58+B69-B60) -> 3.2477522e+08
A73: Land cost | B73: 22150000
...

Sheet  Commercial Revenue
A1: HOUSING EXPECTATIONS APPRAISAL MODEL
A3: COMMERCIAL REVENUE
A5: Unit | B5: Size m2 | C5: Size ft2 | D5: £ pfs rate | E5: Initial MRV | F5: Yield | G5: Non adjusted CV | H5: Rent free adj | I5: Capitalised Value
A6: office - block C | B6: 9688 | C6: 104281 | D6: 36 | E6: =SUM(C6*D6) -> 3754116 | F6: 5.5 | G6: =SUM(E6/F6)*100 -> 68256655 | H6: 0.9479 | I6: =SUM(G6*H6) -> 64700483
A7: retail - block A & B | B7: 1465 | C7: 15769 | D7: 16 | E7: =SUM(C7*D7) -> 252304 | F7: 7.25 | G7: =SUM(E7/7.25%) -> 3480055.2 | H7: 0.9162 | I7: =SUM(G7*H7) -> 3188426.5
A8: community & health | B8: 629 | E8: =SUM(C8*D8) -> 0 | I8: =SUM(G8*H8) -> 0
A9: retail - block E & F | B9: 185 | C9: 1991 | D9: 20 | E9: =SUM(C9*D9) -> 39820 | F9: 7.25 | G9: =SUM(E9/F9)*100 -> 549241.38 | H9: 0.9162 | I9: =SUM(G9*H9) -> 503214.95
A10: Office - block J | B10: 4970 | C10: 53497 | D10: 36 | E10: =SUM(C10*D10) -> 1925892 | F10: 5.5 | G10: =SUM(E10/5.5%) -> 35016218 | H10: 0.9479 | I10: =SUM(G10*H10) -> 33191873
A11: circulation / non chargeable space | B11: 4359 | E11: =SUM(C11*D11) -> 0
E12: =SUM(C12*D12) -> 0
E13: =SUM(C13*D13) -> 0
E14: =SUM(C14*D14) -> 0
E15: =SUM(C15*D15) -> 0
E16: =SUM(C16*D16) -> 0
E17: =SUM(C17*D17) -> 0
E18: =SUM(C18*D18) -> 0
E19: =SUM(C19*D19) -> 0
E20: =SUM(C20*D20) -> 0
E21: =SUM(C21*D21) -> 0
A22: Totals | B22: =SUM(B6:B21) -> 21296 | C22: =SUM(C6:C21) -> 175538 | E22: =SUM(E6:E21) -> 5972132 | G22: =SUM(G6:G21) -> 1.0730217e+08 | I22: =SUM(I6:I21) -> 1.01584e+08
A24: TOTAL COMMERCIAL VALUE | E24: =SUM(I22) -> 1.01584e+08

Sheet Commercial Costs
A1: HOUSING EXPECTATIONS APPRAISAL MODEL
A3: COMMERCIAL SCHEME COSTS
B4: £ | C4: £
A6: Base Build Cost | C6: =SUM(B6/'Residential Revenue'!K111) -> 0 | D6: per m2 / ft2
A8: £ per m2 / ft2 rate used - comercial / other | B8: =SUM(' Commercial Revenue'!C22*'Commercial Costs'!C8) -> 0 | D8: £ per m2/ft2
A9: Total base build | B9: =SUM(B6:B8) -> 0
A10: Abnormals / External Works
B11: =SUM(B9*15%) -> 0 | C11: External works @ 15% of base build cost
A12: (total figure or broken down) if no figure then included in base build cost
D18: Total cost of abnormals | E18: =SUM(B12:B19) -> 0
D19: Total cost of abnormals & external works | E19: =SUM(B11:B19) -> 0
A21: TOTAL BUILD COST EXCLUDING CONTINGENCY | B21: =SUM(B9:B20) -> 0
A24: Contingency as % of build cost | B24: =SUM(B21*C24) -> 0 | C24: 0.05
A26: TOTAL BUILD COSTS | B26: =SUM(B21:B24) -> 0
A28: Section 106 / CIL costs
A36: TOTAL SECTION 106 COSTS | B36: =SUM(B28:B33) -> 0
A38: commercial sales agent fees @ % of build cost | B38: =SUM(' Commercial Revenue'!E24*1%) -> 1015840 | C38: 0.01
A40: letting fee @ % of rent per annum | B40: =SUM(' Commercial Revenue'!E22*'Commercial Costs'!C40) -> 597213.2 | C40: 0.1
A42: Legal fees @ % of rent per annum | B42: =SUM(' Commercial Revenue'!E22*'Commercial Costs'!C42) -> 298606.6 | C42: 0.05
A44: TOTAL FEES | B44: =SUM(B38:B43) -> 1911659.8
A46: INDICATIVE FINANCE COSTS
A48: Finance costs of build | B48: =SUM(B21*C48)*I54/2 -> 0 | C48: 0.07 | E48: Development Programme
A49: (build cost x interest rate x build programme / 2
E50: Pre construction works | H50: months
A51: Finance costs of land | B51: =SUM(B70*C51)*I54/2 -> 0 | C51: 0.07 | E51: Construction | H51: months
A52: (land purchase price & fees x interest rate x financial exposure / 2 | E52: Time between build complete & last sale | H52: months
A54: Interest on sect 106 payments | B54: =SUM(B36*C54)*I54/3 -> 0 | C54: 0.07 | E54: Length of financial exposure | G54: =SUM(G50:G53) -> 0 | H54: months | I54: =SUM(G54/12) -> 0 | J54: years
A55: (total sect 106 payments x interest rate x build programme / 3
A57: TOTAL FINANCE COSTS | B57: =SUM(B48:B55) -> 0
A59: DISCOUNTED CASH FLOW - TOTAL FINANCE COSTS | B59: =SUM('Commercial DCF'!B42) -> 0
A62: OVERHEADS & PROFIT
A64: Commercial | B64: =SUM(' Commercial Revenue'!E24*'Commercial Costs'!C64) -> 15237600 | C64: 0.15
A66: TOTAL OVERHEADS AND PROFIT | B66: =SUM(B62:B65) -> 15237600
A68: TOTAL COST OF BUILD EXCLUDING LAND | B68: =SUM(B26+B36+B44+B57+B66-B59) -> 17149259
A70: Land cost
A72: TOTAL SCHEME COST INCLUDING LAND | B72: =SUM(B68+B70) -> 17149259

Sheet Land 
A3: Land Purchase Price | B3: 22150000 | C3: 39356 | E3: Land apportionment
A5: residential | B5: =SUM('Residential Revenue'!B112) -> 52945 | C5: m/ft2 | E5: =SUM(B5*B13) -> 15796282
A7: commercial | B7: =SUM(' Commercial Revenue'!B22) -> 21296 | C7: m/ft2 | E7: =SUM(B7*B13) -> 6353718.3
A9: Total GIA | B9: =SUM(B5:B7) -> 74241 | C9: m/ft2
A13: Land per m2 | B13: =SUM(B3/B9) -> 298.35266
A16: Benchmark Value (EUV+20%) | B16: =SUM(B18*115%) -> 31050000
A18: Existing Use Value | B18: 27000000

Sheet Residential DCF
A1: Discounted cash flow
AX3: Totals
A5: Month | B5: 1 | C5: 2 | D5: 3 | E5: 4 | F5: 5 | G5: 6 | H5: 7 | I5: 8 | J5: 9 | K5: 10 | L5: 11 | M5: 12 | N5: 13 | O5: 14 | P5: 15 | Q5: 16 | R5: 17 | S5: 18 | T5: 19 | U5: 20 | V5: 21 | W5: 22 | X5: 23 | Y5: 24 | Z5: 25 | AA5: 26 | AB5: 27 | AC5: 28 | AD5: 29 | AE5: 30 | AF5: 31 | AG5: 32 | AH5: 33 | AI5: 34 | AJ5: 35 | AK5: 36 | AL5: 37 | AM5: 38 | AN5: 39 | AO5: 40 | AP5: 41 | AQ5: 42 | AR5: 43 | AS5: 44 | AT5: 45 | AU5: 46 | AV5: 47 | AW5: 48 | AY5: Month
A7: Build cost | AX7: =SUM(B7:AW7) -> 0 | AY7: Build cost
A8: sect 106 | AX8: =SUM(B8:AW8) -> 0 | AY8: sect 106
A9: fees | AX9: =SUM(B9:AW9) -> 0 | AY9: fees
A10: land cost | AX10: =SUM(B10:AW10) -> 0 | AY10: land cost
A11: profit | AX11: =SUM(B11:AW11) -> 0 | AY11: profit
A13: Total cost | B13: =SUM(B7:B11) -> 0 | C13: =SUM(C7:C11) -> 0 | D13: =SUM(D7:D11) -> 0 | E13: =SUM(E7:E11) -> 0 | F13: =SUM(F7:F11) -> 0 | G13: =SUM(G7:G11) -> 0 | H13: =SUM(H7:H11) -> 0 | I13: =SUM(I7:I11) -> 0 | ... AW13: =SUM(AW7:AW11) -> 0 | AX13: =SUM(B13:AW13) -> 0 | AY13: Total cost
A15: Residential revenue | AX15: =SUM(B15:AW15) -> 0 | AY15: residential sales
A16: commercial revenue | AX16: =SUM(B16:AW16) -> 0 | AY16: commercial sales
A17: Total Revenue | B17: =SUM(B15:B16) -> 0 | C17: =SUM(C15:C16) -> 0 | D17: =SUM(D15:D16) -> 0 | E17: =SUM(E15:E16) -> 0 | F17: =SUM(F15:F16) -> 0 | G17: =SUM(G15:G16) -> 0 | H17: =SUM(H15:H16) -> 0 | I17: =SUM(I15:I16) -> 0 | ... AW17: =SUM(AW15:AW16) -> 0 | AX17: =SUM(B17:AW17) -> 0 | AY17: Total revenue
A18: Net cost | B18: =SUM(B17-B13) -> 0 | C18: =SUM(C17-C13) -> 0 | D18: =SUM(D17-D13) -> 0 | E18: =SUM(E17-E13) -> 0 | F18: =SUM(F17-F13) -> 0 | G18: =SUM(G17-G13) -> 0 | H18: =SUM(H17-H13) -> 0 | I18: =SUM(I17-I13) -> 0 | ... AW18: =SUM(AW17-AW13) -> 0 | AX18: =SUM(B18:AW18) -> 0 | AY18: Net cost
A20: Cum cost | B20: =SUM(B18) -> 0 | C20: =SUM(B20+C18+B22) -> 0 | D20: =SUM(C20+D18+C22) -> 0 | E20: =SUM(D20+E18+D22) -> 0 | F20: =SUM(E20+F18+E22) -> 0 | G20: =SUM(F20+G18+F22) -> 0 | H20: =SUM(G20+H18+G22) -> 0 | I20: =SUM(H20+I18+H22) -> 0 | J20: =SUM(I20+J18+I22) -> 0 | ... AW20: =SUM(AV20+AW18+AV22) -> 0 | AX20: =SUM(B20:AW20) -> 0 | AY20: Cum cost
A22: Interest | B22: =SUM(B20)*7%/12 -> 0 | C22: =SUM(C20)*7%/12 -> 0 | D22: =SUM(D20)*7%/12 -> 0 | E22: =SUM(E20)*7%/12 -> 0 | F22: =SUM(F20)*7%/12 -> 0 | G22: =SUM(G20)*7%/12 -> 0 | H22: =SUM(H20)*7%/12 -> 0 | I22: =SUM(I20)*7%/12 -> 0 | ... AW22: =SUM(AW20)*7%/12 -> 0 | AX22: =SUM(B22:AW22) -> 0 | AY22: Interest
A27: DCF Totals | M27: Total build cost | O27: =SUM('Residential Costs'!B27+'Commercial Costs'!B26) -> 215706750 | Q27: Construction programme | T27: =SUM('Residential Costs'!G37) -> 81 | U27: months
A29: Build cost | B29: =SUM(AX7) -> 0 | M29: Monthly build cost | O29: =SUM(O27/T27) -> 2663046.3 | Q29: Total programme | T29: =SUM('Residential Costs'!G40) -> 102 | U29: months
A30: sect 106 | B30: =SUM(AX8) -> 0
A31: fee | B31: =SUM(AX9) -> 0
A32: land | B32: =SUM(AX10) -> 0 | M32: Total fees | O32: =SUM('Residential Costs'!B45+'Commercial Costs'!B44) -> 22938697
A33: profit | B33: =SUM(AX11) -> 0 | M33: Monthly fee | O33: =SUM(O32/T29) -> 224889.19
M34: Total Profit | O34: =SUM('Residential Costs'!B69+'Commercial Costs'!B66) -> 57335299
A35: Total cost | B35: =SUM(AX13) -> 0
M36: Monthly profit | O36: =SUM(O34/T29) -> 562110.78
A37: Resdiential revenue | B37: =SUM(AX15) -> 0
A38: comerical revenue | B38: =SUM(AX16) -> 0 | M38: Total sect 106 | O38: =SUM('Residential Costs'!B37+'Commercial Costs'!B36) -> 8548988
A40: Total Revenue | B40: =SUM(AX17) -> 0 | M40: Residential revenue | O40: =SUM('Residential Revenue'!J123) -> 210488499 | Q40: Ave unit revenue | S40: =SUM(O40/Summary!B10) -> 339497.58
M41: Commercial revenue | O41: =SUM(' Commercial Revenue'!E24) -> 1.01584e+08 | Q41: 10% deposit | S41: =SUM(S40*10%) -> 33949.758
A42: Total finance costs | B42: =SUM(AX22) -> 0 | Q42: 90% balance | S42: =SUM(S40-S41) -> 305547.82
M43: Total revenue | O43: =SUM('Residential Revenue'!J123+' Commercial Revenue'!E24) -> 3.120725e+08

Sheet Commercial DCF
A1: Discounted cash flow
AX3: Totals
A5: Month | B5: 1 | C5: 2 | D5: 3 | E5: 4 | F5: 5 | G5: 6 | H5: 7 | I5: 8 | J5: 9 | K5: 10 | L5: 11 | M5: 12 | N5: 13 | O5: 14 | P5: 15 | Q5: 16 | R5: 17 | S5: 18 | T5: 19 | U5: 20 | V5: 21 | W5: 22 | X5: 23 | Y5: 24 | Z5: 25 | AA5: 26 | AB5: 27 | AC5: 28 | AD5: 29 | AE5: 30 | AF5: 31 | AG5: 32 | AH5: 33 | AI5: 34 | AJ5: 35 | AK5: 36 | AL5: 37 | AM5: 38 | AN5: 39 | AO5: 40 | AP5: 41 | AQ5: 42 | AR5: 43 | AS5: 44 | AT5: 45 | AU5: 46 | AV5: 47 | AW5: 48 | AY5: Month
A7: Build cost | AX7: =SUM(B7:AW7) -> 0 | AY7: Build cost
A8: sect 106 | AX8: =SUM(B8:AW8) -> 0 | AY8: sect 106
A9: fees | AX9: =SUM(B9:AW9) -> 0 | AY9: fees
A10: land cost | AX10: =SUM(B10:AW10) -> 0 | AY10: land cost
A11: profit | AX11: =SUM(B11:AW11) -> 0 | AY11: profit
A13: Total cost | B13: =SUM(B7:B11) -> 0 | C13: =SUM(C7:C11) -> 0 | D13: =SUM(D7:D11) -> 0 | E13: =SUM(E7:E11) -> 0 | F13: =SUM(F7:F11) -> 0 | G13: =SUM(G7:G11) -> 0 | H13: =SUM(H7:H11) -> 0 | I13: =SUM(I7:I11) -> 0 | ... AW13: =SUM(AW7:AW11) -> 0 | AX13: =SUM(B13:AW13) -> 0 | AY13: Total cost
AX15: =SUM(B15:AW15) -> 0 | AY15: residential sales
A16: commercial revenue | AX16: =SUM(B16:AW16) -> 0 | AY16: commercial sales
A17: Total Revenue | B17: =SUM(B15:B16) -> 0 | C17: =SUM(C15:C16) -> 0 | D17: =SUM(D15:D16) -> 0 | E17: =SUM(E15:E16) -> 0 | F17: =SUM(F15:F16) -> 0 | G17: =SUM(G15:G16) -> 0 | H17: =SUM(H15:H16) -> 0 | I17: =SUM(I15:I16) -> 0 | ... AW17: =SUM(AW15:AW16) -> 0 | AX17: =SUM(B17:AW17) -> 0 | AY17: Total revenue
A18: Net cost | B18: =SUM(B17-B13) -> 0 | C18: =SUM(C17-C13) -> 0 | D18: =SUM(D17-D13) -> 0 | E18: =SUM(E17-E13) -> 0 | F18: =SUM(F17-F13) -> 0 | G18: =SUM(G17-G13) -> 0 | H18: =SUM(H17-H13) -> 0 | I18: =SUM(I17-I13) -> 0 | ... AW18: =SUM(AW17-AW13) -> 0 | AX18: =SUM(B18:AW18) -> 0 | AY18: Net cost
A20: Cum cost | B20: =SUM(B18) -> 0 | C20: =SUM(B20+C18+B22) -> 0 | D20: =SUM(C20+D18+C22) -> 0 | E20: =SUM(D20+E18+D22) -> 0 | F20: =SUM(E20+F18+E22) -> 0 | G20: =SUM(F20+G18+F22) -> 0 | H20: =SUM(G20+H18+G22) -> 0 | I20: =SUM(H20+I18+H22) -> 0 | J20: =SUM(I20+J18+I22) -> 0 | ... AW20: =SUM(AV20+AW18+AV22) -> 0 | AX20: =SUM(B20:AW20) -> 0 | AY20: Cum cost
A22: Interest | B22: =SUM(B20)*7%/12 -> 0 | C22: =SUM(C20)*7%/12 -> 0 | D22: =SUM(D20)*7%/12 -> 0 | E22: =SUM(E20)*7%/12 -> 0 | F22: =SUM(F20)*7%/12 -> 0 | G22: =SUM(G20)*7%/12 -> 0 | H22: =SUM(H20)*7%/12 -> 0 | I22: =SUM(I20)*7%/12 -> 0 | ... AW22: =SUM(AW20)*7%/12 -> 0 | AX22: =SUM(B22:AW22) -> 0 | AY22: Interest
A27: DCF Totals | M27: Total build cost | O27: =SUM('Residential Costs'!B27+'Commercial Costs'!B26) -> 215706750 | Q27: Construction programme | T27: =SUM('Residential Costs'!G37) -> 81 | U27: months
A29: Build cost | B29: =SUM(AX7) -> 0 | M29: Monthly build cost | O29: =SUM(O27/T27) -> 2663046.3 | Q29: Total programme | T29: =SUM('Residential Costs'!G40) -> 102 | U29: months
A30: sect 106 | B30: =SUM(AX8) -> 0
A31: fee | B31: =SUM(AX9) -> 0
A32: land | B32: =SUM(AX10) -> 0 | M32: Total fees | O32: =SUM('Residential Costs'!B45+'Commercial Costs'!B44) -> 22938697
A33: profit | B33: =SUM(AX11) -> 0 | M33: Monthly fee | O33: =SUM(O32/T29) -> 224889.19
M34: Total Profit | O34: =SUM('Residential Costs'!B69+'Commercial Costs'!B66) -> 57335299
A35: Total cost | B35: =SUM(AX13) -> 0
M36: Monthly profit | O36: =SUM(O34/T29) -> 562110.78
A37: Resdiential revenue | B37: =SUM(AX15) -> 0
A38: comerical revenue | B38: =SUM(AX16) -> 0 | M38: Total sect 106 | O38: =SUM('Residential Costs'!B37+'Commercial Costs'!B36) -> 8548988
A40: Total Revenue | B40: =SUM(AX17) -> 0 | M40: Residential revenue | O40: =SUM('Residential Revenue'!J123) -> 210488499 | Q40: Ave unit revenue | S40: =SUM(O40/Summary!B10) -> 339497.58
M41: Commercial revenue | O41: =SUM(' Commercial Revenue'!E24) -> 1.01584e+08 | Q41: 10% deposit | S41: =SUM(S40*10%) -> 33949.758
A42: Total finance costs | B42: =SUM(AX22) -> 0 | Q42: 90% balance | S42: =SUM(S40-S41) -> 305547.82
M43: Total revenue | O43: =SUM('Residential Revenue'!J123+' Commercial Revenue'!E24) -> 3.120725e+08
